{"text_format":"1","workbook":"xlsx","n_sheets":6,"sheets":["0 - INSTRUÇÕES","1 - BDI","2 - POB","3 - CONFERÊNCIA","4 - POB Resumo","5 - ES"],"not_rendered":{"charts":0,"images":2,"macros":1,"external_links":5,"defined_names":608,"comments":0,"pivot_tables":0},"unopened":[],"bounds":{"document_bytes":16777216,"sheet_cells":100000,"rows_first":2000,"rows_last":500,"rows_between":2000,"halvings":0,"cell_chars":16384,"cell_head_chars":4096},"cells_cut":0,"cells_raw":0,"read":"whole","date_system":"1900"}

{"sheet":"0 - INSTRUÇÕES","index":0,"n_rows":0,"n_cols":0,"rows_kept":0,"cut":false,"hidden":false,"merged":[]}

{"sheet":"1 - BDI","index":1,"n_rows":103,"n_cols":8,"rows_kept":103,"cut":false,"hidden":false,"merged":[[1,1,1,3],[2,1,2,3],[3,1,3,3],[4,1,4,3],[5,5,7,5],[102,1,102,2],[5,7,7,7],[50,1,50,2],[54,1,54,3],[55,1,55,3],[56,1,56,3],[57,5,59,5],[57,6,59,6],[57,7,59,7],[5,6,7,6]]}
[]
[null,"NOME DA EMPRESA PARTICIPANTE DO CERTAME"]
[null,"COMPOSIÇÃO ANALÍTICA DO B.D.I. (BENEFÍCIOS E DESPESAS INDIRETAS) - SERVIÇOS"]
[null,"MUNICÍPIO: SANTO ANTÔNIO DA PATRULHA"]
[null,"OBRA: EEB DO RESIDENCIAL SANTO ANTÔNIO"]
[null,null,null,null,null,"1º Quartil","VALOR DA PROPOSTA","3º Quartil"]
[null,"ITEM","DISCRIMINAÇÃO","TOTAL "]
[]
[]
[null,1,"DESPESAS INDIRETAS - DI"]
[null,"1.1","Administração Central",{"$f":"G11","v":0},null,3.4299999999999997E-2,null,6.7100000000000007E-2]
[]
[null,2,"DESPESAS EVENTUAIS E RISCOS - DE"]
[null,"2.1","Risco",{"$f":"G14","v":0},null,0.01,null,1.7399999999999999E-2]
[null,"2.2","Seguro de Responsabilidade Civil",{"$f":"G15","v":0},null,0,null,7.4999999999999997E-3]
[null,"2.3","Custo Financeiro da Caução",{"$f":"G16","v":0},null,0,null,7.4999999999999997E-3]
[]
[null,3,"DESPESAS FINANCEIRAS - DF"]
[null,"3.1","Despesas Financeiras",{"$f":"G19","v":0},null,9.4000000000000004E-3,null,1.17E-2]
[]
[null,4,"LUCRO BRUTO - LB"]
[null,"4.1","Lucro Bruto",{"$f":"G22","v":0},null,6.7400000000000002E-2,null,9.4E-2]
[]
[null,5,"DESPESAS LEGAIS - DL"]
[null,"5.1","ISS",{"$f":"G25","v":0},null,0.02,null,0.03]
[null,"5.2","PIS",{"$f":"G26","v":6.4999999999999997E-3},null,6.4999999999999997E-3,6.4999999999999997E-3,6.4999999999999997E-3]
[null,"5.3","COFINS",{"$f":"G27","v":0.03},null,0.03,0.03,0.03]
[null,"5.4","CIENTEC",{"$f":"G28","v":0},null,0,0,0.01]
[null,"5.5","DESONERAÇÃO (MEDIDA PROV. 601/2012)",{"$f":"G29","v":0},null,0,null,4.4999999999999998E-2]
[]
[]
[]
[]
[]
[]
[]
[]
[]
[]
[]
[]
[null,null,"MEMÓRIA DE CÁLCULO"]
[null,null,"(1 + DI + DE)",{"$f":"1+D11+D14+D15+D16","v":1}]
[null,null,"(1 + DF)",{"$f":"1+D19","v":1}]
[null,null,"(1 + LB)",{"$f":"1+D22","v":1}]
[null,null,"(1 + (DI + DE) x (1 + DF) x (1 + LB)",{"$f":"D43*D44*D45","v":1}]
[null,null,"(1 - DL)",{"$f":"1-D25-D26-D27-D28-D29","v":0.96350000000000002}]
[null,null,"(((1 + (DI + DE) x (1 + DF) x (1 + LB)) / (1 - DL)) - 1",{"$f":"(D46/D47-1)","v":3.7882719252724462E-2}]
[]
[]
[null,"BDI ( % )",null,{"$f":"ROUND(D48*100,1)","v":3.8}]
[]
[]
[]
[null,"COMPOSIÇÃO ANALÍTICA DO B.D.I. (BENEFÍCIOS E DESPESAS INDIRETAS) - MATERIAIS"]
[null,"MUNICÍPIO: SANTO ANTÔNIO DA PATRULHA"]
[null,"OBRA: EEB DO RESIDENCIAL SANTO ANTÔNIO"]
[null,null,null,null,null,"1º Quartil","VALOR DA PROPOSTA","3º Quartil"]
[null,"ITEM","DISCRIMINAÇÃO","TOTAL "]
[]
[]
[null,1,"DESPESAS INDIRETAS - DI"]
[null,"1.1","Administração Central",{"$f":"G63","v":0},null,1.4999999999999999E-2,null,4.4900000000000002E-2]
[]
[null,2,"DESPESAS EVENTUAIS E RISCOS - DE"]
[null,"2.1","Risco",{"$f":"G66","v":0},null,5.5999999999999999E-3,null,8.8999999999999999E-3]
[null,"2.2","Seguro de Responsabilidade Civil",{"$f":"G67","v":0},null,0,null,8.2000000000000007E-3]
[null,"2.3","Custo Financeiro da Caução",{"$f":"G68","v":0},null,0,null,8.2000000000000007E-3]
[]
[null,3,"DESPESAS FINANCEIRAS - DF"]
[null,"3.1","Despesas Financeiras",{"$f":"G71","v":0},null,8.5000000000000006E-3,null,1.11E-2]
[]
[null,4,"LUCRO BRUTO - LB"]
[null,"4.1","Lucro Bruto",{"$f":"G74","v":0},null,3.5000000000000003E-2,null,6.2199999999999998E-2]
[]
[null,5,"DESPESAS LEGAIS - DL"]
[null,"5.1","ISS",{"$f":"G77","v":0},null,0,0,0]
[null,"5.2","PIS",{"$f":"G78","v":6.4999999999999997E-3},null,6.4999999999999997E-3,6.4999999999999997E-3,6.4999999999999997E-3]
[null,"5.3","COFINS",{"$f":"G79","v":0.03},null,0.03,0.03,0.03]
[null,"5.4","CIENTEC",{"$f":"G80","v":0},null,0,0,0.01]
[null,"5.5","DESONERAÇÃO (MEDIDA PROV. 601/2012)",{"$f":"G81","v":0},null,0,null,4.4999999999999998E-2]
[]
[]
[]
[]
[]
[]
[]
[]
[]
[]
[]
[]
[null,null,"MEMÓRIA DE CÁLCULO"]
[null,null,"(1 + DI + DE)",{"$f":"1+D63+D66+D67+D68","v":1}]
[null,null,"(1 + DF)",{"$f":"1+D71","v":1}]
[null,null,"(1 + LB)",{"$f":"1+D74","v":1}]
[null,null,"(1 + (DI + DE) x (1 + DF) x (1 + LB)",{"$f":"D95*D96*D97","v":1}]
[null,null,"(1 - DL)",{"$f":"1-D77-D78-D79-D80-D81","v":0.96350000000000002}]
[null,null,"(((1 + (DI + DE) x (1 + DF) x (1 + LB)) / (1 - DL)) - 1",{"$f":"(D98/D99-1)","v":3.7882719252724462E-2}]
[]
[]
[null,"BDI ( % )",null,{"$f":"ROUND(D100*100,1)","v":3.8}]

{"sheet":"2 - POB","index":2,"n_rows":743,"n_cols":18,"rows_kept":743,"cut":false,"hidden":false,"merged":[[1,1,1,10],[2,1,2,10],[3,1,3,4],[5,15,6,16],[5,17,7,17],[4,1,4,4],[3,5,4,10],[5,1,7,1],[5,2,7,2],[5,3,7,3],[5,4,7,4],[5,5,7,5],[5,6,5,7],[6,6,6,7],[5,8,7,8],[5,9,5,10],[6,9,6,10],[38,1,38,4],[38,5,38,6],[38,8,38,9],[39,1,39,4],[39,5,39,8],[39,9,39,10],[5,12,7,12],[5,13,7,13],[5,14,7,14],[42,15,43,16],[42,17,44,17],[40,1,40,4],[41,1,41,4],[40,5,41,10],[42,1,44,1],[42,2,44,2],[42,3,44,3],[42,4,44,4],[42,5,44,5],[42,6,42,7],[43,6,43,7],[42,8,44,8],[42,9,42,10],[43,9,43,10],[75,1,75,4],[75,5,75,6],[75,8,75,9],[76,1,76,4],[76,5,76,8],[76,9,76,10],[42,12,44,12],[42,13,44,13],[42,14,44,14],[79,15,80,16],[79,17,81,17],[77,1,77,4],[78,1,78,4],[77,5,78,10],[79,1,81,1],[79,2,81,2],[79,3,81,3],[79,4,81,4],[79,5,81,5],[79,6,79,7],[80,6,80,7],[79,8,81,8],[79,9,79,10],[80,9,80,10],[112,1,112,4],[112,5,112,6],[112,8,112,9],[113,1,113,4],[113,5,113,8],[113,9,113,10],[79,12,81,12],[79,13,81,13],[79,14,81,14],[116,15,117,16],[116,17,118,17],[114,1,114,4],[115,1,115,4],[114,5,115,10],[116,1,118,1],[116,2,118,2],[116,3,118,3],[116,4,118,4],[116,5,118,5],[116,6,116,7],[117,6,117,7],[116,8,118,8],[116,9,116,10],[117,9,117,10],[149,1,149,4],[149,5,149,6],[149,8,149,9],[150,1,150,4],[150,5,150,8],[150,9,150,10],[116,12,118,12],[116,13,118,13],[116,14,118,14],[153,15,154,16],[153,17,155,17],[151,1,151,4],[152,1,152,4],[151,5,152,10],[153,1,155,1],[153,2,155,2],[153,3,155,3],[153,4,155,4],[153,5,155,5],[153,6,153,7],[154,6,154,7],[153,8,155,8],[153,9,153,10],[154,9,154,10],[186,1,186,4],[186,5,186,6],[186,8,186,9],[187,1,187,4],[187,5,187,8],[187,9,187,10],[153,12,155,12],[153,13,155,13],[153,14,155,14],[190,15,191,16],[190,17,192,17],[188,1,188,4],[189,1,189,4],[188,5,189,10],[190,1,192,1],[190,2,192,2],[190,3,192,3],[190,4,192,4],[190,5,192,5],[190,6,190,7],[191,6,191,7],[190,8,192,8],[190,9,190,10],[191,9,191,10],[223,1,223,4],[223,5,223,6],[223,8,223,9],[224,1,224,4],[224,5,224,8],[224,9,224,10],[190,12,192,12],[190,13,192,13],[190,14,192,14],[227,15,228,16],[227,17,229,17],[225,1,225,4],[226,1,226,4],[225,5,226,10],[227,1,229,1],[227,2,229,2],[227,3,229,3],[227,4,229,4],[227,5,229,5],[227,6,227,7],[228,6,228,7],[227,8,229,8],[227,9,227,10],[228,9,228,10],[260,1,260,4],[260,5,260,6],[260,8,260,9],[261,1,261,4],[261,5,261,8],[261,9,261,10],[227,12,229,12],[227,13,229,13],[227,14,229,14],[264,15,265,16],[264,17,266,17],[262,1,262,4],[263,1,263,4],[262,5,263,10],[264,1,266,1],[264,2,266,2],[264,3,266,3],[264,4,266,4],[264,5,266,5],[264,6,264,7],[265,6,265,7],[264,8,266,8],[264,9,264,10],[265,9,265,10],[297,1,297,4],[297,5,297,6],[297,8,297,9],[298,1,298,4],[298,5,298,8],[298,9,298,10],[264,12,266,12],[264,13,266,13],[264,14,266,14],[301,15,302,16],[301,17,303,17],[299,1,299,4],[300,1,300,4],[299,5,300,10],[301,1,303,1],[301,2,303,2],[301,3,303,3],[301,4,303,4],[301,5,303,5],[301,6,301,7],[302,6,302,7],[301,8,303,8],[301,9,301,10],[302,9,302,10],[334,1,334,4],[334,5,334,6],[334,8,334,9],[335,1,335,4],[335,5,335,8],[335,9,335,10],[301,12,303,12],[301,13,303,13],[301,14,303,14],[338,15,339,16],[338,17,340,17],[336,1,336,4],[337,1,337,4],[336,5,337,10],[338,1,340,1],[338,2,340,2],[338,3,340,3],[338,4,340,4],[338,5,340,5],[338,6,338,7],[339,6,339,7],[338,8,340,8],[338,9,338,10],[339,9,339,10],[371,1,371,4],[371,5,371,6],[371,8,371,9],[372,1,372,4],[372,5,372,8],[372,9,372,10],[338,12,340,12],[338,13,340,13],[338,14,340,14],[375,15,376,16],[375,17,377,17],[373,1,373,4],[374,1,374,4],[373,5,374,10],[375,1,377,1],[375,2,377,2],[375,3,377,3],[375,4,377,4],[375,5,377,5],[375,6,375,7],[376,6,376,7],[375,8,377,8],[375,9,375,10],[376,9,376,10],[408,1,408,4],[408,5,408,6],[408,8,408,9],[409,1,409,4],[409,5,409,8],[409,9,409,10],[375,12,377,12],[375,13,377,13],[375,14,377,14],[412,15,413,16],[412,17,414,17],[410,1,410,4],[411,1,411,4],[410,5,411,10],[412,1,414,1],[412,2,414,2],[412,3,414,3],[412,4,414,4],[412,5,414,5],[412,6,412,7],[413,6,413,7],[412,8,414,8],[412,9,412,10],[413,9,413,10],[445,1,445,4],[445,5,445,6],[445,8,445,9],[446,1,446,4],[446,5,446,8],[446,9,446,10],[412,12,414,12],[412,13,414,13],[412,14,414,14],[449,15,450,16],[449,17,451,17],[447,1,447,4],[448,1,448,4],[447,5,448,10],[449,1,451,1],[449,2,451,2],[449,3,451,3],[449,4,451,4],[449,5,451,5],[449,6,449,7],[450,6,450,7],[449,8,451,8],[449,9,449,10],[450,9,450,10],[482,1,482,4],[482,5,482,6],[482,8,482,9],[483,1,483,4],[483,5,483,8],[483,9,483,10],[449,12,451,12],[449,13,451,13],[449,14,451,14],[486,15,487,16],[486,17,488,17],[484,1,484,4],[485,1,485,4],[484,5,485,10],[486,1,488,1],[486,2,488,2],[486,3,488,3],[486,4,488,4],[486,5,488,5],[486,6,486,7],[487,6,487,7],[486,8,488,8],[486,9,486,10],[487,9,487,10],[519,1,519,4],[519,5,519,6],[519,8,519,9],[520,1,520,4],[520,5,520,8],[520,9,520,10],[486,12,488,12],[486,13,488,13],[486,14,488,14],[523,15,524,16],[523,17,525,17],[521,1,521,4],[522,1,522,4],[521,5,522,10],[523,1,525,1],[523,2,525,2],[523,3,525,3],[523,4,525,4],[523,5,525,5],[523,6,523,7],[524,6,524,7],[523,8,525,8],[523,9,523,10],[524,9,524,10],[556,1,556,4],[556,5,556,6],[556,8,556,9],[557,1,557,4],[557,5,557,8],[557,9,557,10],[523,12,525,12],[523,13,525,13],[523,14,525,14],[560,15,561,16],[560,17,562,17],[558,1,558,4],[559,1,559,4],[558,5,559,10],[560,1,562,1],[560,2,562,2],[560,3,562,3],[560,4,562,4],[560,5,562,5],[560,6,560,7],[561,6,561,7],[560,8,562,8],[560,9,560,10],[561,9,561,10],[593,1,593,4],[593,5,593,6],[593,8,593,9],[594,1,594,4],[594,5,594,8],[594,9,594,10],[560,12,562,12],[560,13,562,13],[560,14,562,14],[597,15,598,16],[597,17,599,17],[595,1,595,4],[596,1,596,4],[595,5,596,10],[597,1,599,1],[597,2,599,2],[597,3,599,3],[597,4,599,4],[597,5,599,5],[597,6,597,7],[598,6,598,7],[597,8,599,8],[597,9,597,10],[598,9,598,10],[630,1,630,4],[630,5,630,6],[630,8,630,9],[631,1,631,4],[631,5,631,8],[631,9,631,10],[597,12,599,12],[597,13,599,13],[597,14,599,14],[634,15,635,16],[634,17,636,17],[632,1,632,4],[633,1,633,4],[632,5,633,10],[634,1,636,1],[634,2,636,2],[634,3,636,3],[634,4,636,4],[634,5,636,5],[634,6,634,7],[635,6,635,7],[634,8,636,8],[634,9,634,10],[635,9,635,10],[667,1,667,4],[667,5,667,6],[667,8,667,9],[668,1,668,4],[668,5,668,8],[668,9,668,10],[634,12,636,12],[634,13,636,13],[634,14,636,14],[671,15,672,16],[671,17,673,17],[669,1,669,4],[670,1,670,4],[669,5,670,10],[671,1,673,1],[671,2,673,2],[671,3,673,3],[671,4,673,4],[671,5,673,5],[671,6,671,7],[672,6,672,7],[671,8,673,8],[671,9,671,10],[672,9,672,10],[704,1,704,4],[704,5,704,6],[704,8,704,9],[705,1,705,4],[705,5,705,8],[705,9,705,10],[671,12,673,12],[671,13,673,13],[671,14,673,14],[708,15,709,16],[708,17,710,17],[706,1,706,4],[707,1,707,4],[706,5,707,10],[708,1,710,1],[708,2,710,2],[708,3,710,3],[708,4,710,4],[708,5,710,5],[708,6,708,7],[709,6,709,7],[708,8,710,8],[708,9,708,10],[709,9,709,10],[741,1,741,4],[741,5,741,6],[741,8,741,9],[742,1,742,4],[742,5,742,8],[742,9,742,10],[708,12,710,12],[708,13,710,13],[708,14,710,14]]}
[]
[null,"NOME DA EMPRESA PARTICIPANTE DO CERTAME",null,null,null,null,null,null,null,null,null,null,"B.D.I. para Serviços",{"$f":"IF('1 - BDI'!D51/100=0.038,\"BDI não preenchido\",'1 - BDI'!D51/100)","v":"BDI não preenchido"}]
[null,"PLANILHA DE ORÇAMENTO BÁSICO",null,null,null,null,null,null,null,null,null,null,"B.D.I. para Materiais",{"$f":"IF('1 - BDI'!D103/100=0.038,\"BDI não preenchido\",'1 - BDI'!D103/100)","v":"BDI não preenchido"}]
[null,"MUNICÍPIO: SANTO ANTÔNIO DA PATRULHA",null,null,null,"I - SERVIÇOS PRELIMINARES"]
[null,"OBRA: EEB DO RESIDENCIAL SANTO ANTÔNIO"]
[null,"ITEM","DISCRIMINAÇÃO","CÓDIGO","UN","QTDE","CUSTO",null,"B.D.I. APLICADO","PREÇO",null,null,"CUSTO PROPOSTO","B.D.I.           (%)","PREÇO PROPOSTO","PREÇO MÁXIMO ADMISSÍVEL PARA ESTA LICITAÇÃO",null,"PERCENTUAL"]
[null,null,null,null,null,null,"(SEM B.D.I.)",null,null,"(COM B.D.I.)"]
[null,null,null,null,null,null,"UNITÁRIO","TOTAL",null,"UNITÁRIO","TOTAL",null,null,null,null,"UNITÁRIO","TOTAL"]
[]
[null,1,"CANTEIRO DE OBRAS","01.00.00.00",0,null,{"$f":"ROUND(M10,2)","v":0},{"$f":"ROUND(F10*G10,2)","v":0},{"$f":"ROUND(N10,4)","v":0},{"$f":"IF(ROUND(O10,2)>P10,\"Reduzir Valor \",ROUND(O10,2))","v":0},{"$f":"IF(J10=\"Reduzir Valor \",\"Reduzir Valor \",ROUND(F10*J10,2))","v":0},"+",0,null,{"$f":"ROUND(M10*(1+N10),2)","v":0},"","",{"$f":"IF(P10=\"\",\"\",O10/P10)","v":""}]
[null,"1.1","Construção do Canteiro","01.01.00.00",0,null,0,0,0,0,0,"+",null,null,0,"","",""]
[null,"1.1.1","Ligação provisória de água e esgotos","01.01.00.10","un",1,0,0,{"$error":"#VALUE!"},{"$error":"#VALUE!"},{"$error":"#VALUE!"},"+",null,{"$f":"$N$2","v":"BDI não preenchido"},{"$error":"#VALUE!"},665.14,665.14,{"$error":"#VALUE!"}]
[null,"1.1.2","Ligação provisória de força e luz","01.01.00.12","un",1,0,0,{"$error":"#VALUE!"},{"$error":"#VALUE!"},{"$error":"#VALUE!"},"+",null,"BDI não preenchido",{"$error":"#VALUE!"},2227.59,2227.59,{"$error":"#VALUE!"}]
[null,"1.1.3","Ponto de água externo","01.01.00.14","un",1,0,0,{"$error":"#VALUE!"},{"$error":"#VALUE!"},{"$error":"#VALUE!"},"+",null,"BDI não preenchido",{"$error":"#VALUE!"},208.1,208.1,{"$error":"#VALUE!"}]
[null,"1.1.4","Ponto de luz externo","01.01.00.16","un",2,0,0,{"$error":"#VALUE!"},{"$error":"#VALUE!"},{"$error":"#VALUE!"},"+",null,"BDI não preenchido",{"$error":"#VALUE!"},278.12,556.24,{"$error":"#VALUE!"}]
[null,"1.1.5","Escritório módulo básico 15 m²","01.01.00.20","un",1,0,0,{"$error":"#VALUE!"},{"$error":"#VALUE!"},{"$error":"#VALUE!"},"+",null,"BDI não preenchido",{"$error":"#VALUE!"},13346.67,13346.67,{"$error":"#VALUE!"}]
[null,"1.1.6","Almoxarifado módulo básico 10 m²","01.01.00.30","un",1,0,0,{"$error":"#VALUE!"},{"$error":"#VALUE!"},{"$error":"#VALUE!"},"+",null,"BDI não preenchido",{"$error":"#VALUE!"},6758.78,6758.78,{"$error":"#VALUE!"}]
[null,"1.1.7","Telheiro módulo básico 20 m²","01.01.00.40","un",1,0,0,{"$error":"#VALUE!"},{"$error":"#VALUE!"},{"$error":"#VALUE!"},"+",null,"BDI não preenchido",{"$error":"#VALUE!"},2809.37,2809.37,{"$error":"#VALUE!"}]
[null,"1.1.8","Alojamento módulo básico 10 m²","01.01.00.42","un",1,0,0,{"$error":"#VALUE!"},{"$error":"#VALUE!"},{"$error":"#VALUE!"},"+",null,"BDI não preenchido",{"$error":"#VALUE!"},4603.96,4603.96,{"$error":"#VALUE!"}]
[null,"1.1.9","Refeitório módulo básico 30 m²","01.01.00.43","un",1,0,0,{"$error":"#VALUE!"},{"$error":"#VALUE!"},{"$error":"#VALUE!"},"+",null,"BDI não preenchido",{"$error":"#VALUE!"},13979.36,13979.36,{"$error":"#VALUE!"}]
[null,"1.1.10","Sanitário módulo 15 m² para 20 pessoas","01.01.00.48","un",1,0,0,{"$error":"#VALUE!"},{"$error":"#VALUE!"},{"$error":"#VALUE!"},"+",null,"BDI não preenchido",{"$error":"#VALUE!"},11945.86,11945.86,{"$error":"#VALUE!"}]
[null,"1.1.11","Tapume de vedação padrão","01.01.00.60","m2",8,0,0,{"$error":"#VALUE!"},{"$error":"#VALUE!"},{"$error":"#VALUE!"},"+",null,"BDI não preenchido",{"$error":"#VALUE!"},66.84,534.72,{"$error":"#VALUE!"}]
[null,"1.1.12","Cerca padrão para canteiro de obra","01.01.00.70","m",85,0,0,{"$error":"#VALUE!"},{"$error":"#VALUE!"},{"$error":"#VALUE!"},"+",null,"BDI não preenchido",{"$error":"#VALUE!"},29.56,2512.6,{"$error":"#VALUE!"}]
[null,"1.1.13","Portão padrão Corsan P2","16.01.01.02","pç",1,0,0,{"$error":"#VALUE!"},{"$error":"#VALUE!"},{"$error":"#VALUE!"},"+",null,"BDI não preenchido",{"$error":"#VALUE!"},5005.26,5005.26,{"$error":"#VALUE!"}]
[null,"1.2","Placas de Obra","01.02.00.00",0,null,0,0,0,0,0,"+",null,null,0,"","",""]
[null,"1.2.1","Placa da Corsan - 6m²","01.02.00.03","un",1,0,0,{"$error":"#VALUE!"},{"$error":"#VALUE!"},{"$error":"#VALUE!"},"+",null,{"$f":"$N$2","v":"BDI não preenchido"},{"$error":"#VALUE!"},1903.52,1903.52,{"$error":"#VALUE!"}]
[null,"1.2.2","Placa do agente financiador - 6m²","01.02.00.04","un",1,0,0,{"$error":"#VALUE!"},{"$error":"#VALUE!"},{"$error":"#VALUE!"},"+",null,{"$f":"$N$2","v":"BDI não preenchido"},{"$error":"#VALUE!"},1903.52,1903.52,{"$error":"#VALUE!"}]
[null,"1.2.3","Placa de licenciamento ambiental - 2 m²","01.02.00.07","un",1,0,0,{"$error":"#VALUE!"},{"$error":"#VALUE!"},{"$error":"#VALUE!"},"+",null,{"$f":"$N$2","v":"BDI não preenchido"},{"$error":"#VALUE!"},634.51,634.51,{"$error":"#VALUE!"}]
[null,"1.3","Mobilização e Desmobilização","01.03.00.00",0,null,0,0,0,0,0,"+",null,null,0,"","",""]
[null,"1.3.1","Mobilização","01.03.00.10","un",1,0,0,{"$error":"#VALUE!"},{"$error":"#VALUE!"},{"$error":"#VALUE!"},"+",null,{"$f":"$N$2","v":"BDI não preenchido"},{"$error":"#VALUE!"},7166.91,7166.91,{"$error":"#VALUE!"}]
[null,"1.3.2","Desmobilização","01.03.00.20","un",1,0,0,{"$error":"#VALUE!"},{"$error":"#VALUE!"},{"$error":"#VALUE!"},"+",null,{"$f":"$N$2","v":"BDI não preenchido"},{"$error":"#VALUE!"},4560.76,4560.76,{"$error":"#VALUE!"}]
[null,"1.4","Operação e Supervisão do Canteiro","01.04.00.00",0,null,0,0,0,0,0,"+",null,null,0,"","",""]
[null,"1.4.1","Carga e descarga de entulho","01.04.01.10","m3",30,0,0,{"$error":"#VALUE!"},{"$error":"#VALUE!"},{"$error":"#VALUE!"},"+",null,{"$f":"$N$2","v":"BDI não preenchido"},{"$error":"#VALUE!"},7.71,231.3,{"$error":"#VALUE!"}]
[null,"1.4.2","Transporte de entulho a 2 km","01.04.01.22","m3",30,0,0,{"$error":"#VALUE!"},{"$error":"#VALUE!"},{"$error":"#VALUE!"},"+",null,{"$f":"$N$2","v":"BDI não preenchido"},{"$error":"#VALUE!"},5.13,153.9,{"$error":"#VALUE!"}]
[]
[null,2,"SERVIÇOS PRELIMINARES","03.00.00.00",0,null,{"$f":"ROUND(M36,2)","v":0},{"$f":"ROUND(F36*G36,2)","v":0},{"$f":"ROUND(N36,4)","v":0},{"$f":"IF(ROUND(O36,2)>P36,\"Reduzir Valor \",ROUND(O36,2))","v":0},{"$f":"IF(J36=\"Reduzir Valor \",\"Reduzir Valor \",ROUND(F36*J36,2))","v":0},"+",null,null,{"$f":"ROUND(M36*(1+N36),2)","v":0},"","",{"$f":"IF(P36=\"\",\"\",O36/P36)","v":""}]
[null,"2.1","Preparo do Terreno","03.01.00.00",0,null,{"$f":"ROUND(M37,2)","v":0},{"$f":"ROUND(F37*G37,2)","v":0},{"$f":"ROUND(N37,4)","v":0},{"$f":"IF(ROUND(O37,2)>P37,\"Reduzir Valor \",ROUND(O37,2))","v":0},{"$f":"IF(J37=\"Reduzir Valor \",\"Reduzir Valor \",ROUND(F37*J37,2))","v":0},"+",null,null,{"$f":"ROUND(M37*(1+N37),2)","v":0},"","",{"$f":"IF(P37=\"\",\"\",O37/P37)","v":""}]
[]
[]
[null,"RAZÃO SOCIAL DO PROPONENTE:",null,null,null,"RESPONSÁVEL PROPONENTE:",null,null,null,"DATA"]
[null,"MUNICÍPIO: SANTO ANTÔNIO DA PATRULHA",null,null,null,"I - SERVIÇOS PRELIMINARES"]
[null,"OBRA: EEB DO RESIDENCIAL SANTO ANTÔNIO"]
[null,"ITEM","DISCRIMINAÇÃO","CÓDIGO","UN","QTDE","CUSTO",null,"B.D.I. APLICADO","PREÇO",null,null,"CUSTO PROPOSTO","B.D.I.           (%)","PREÇO PROPOSTO","PREÇO MÁXIMO ADMISSÍVEL PARA ESTA LICITAÇÃO",null,"PERCENTUAL"]
[null,null,null,null,null,null,"(SEM B.D.I.)",null,null,"(COM B.D.I.)"]
[null,null,null,null,null,null,"UNITÁRIO","TOTAL",null,"UNITÁRIO","TOTAL",null,null,null,null,"UNITÁRIO","TOTAL"]
[]
[null,"2.1.1","Limpeza mecanizada do terreno","03.01.00.20","m2",621,{"$f":"ROUND(M47,2)","v":0},{"$f":"ROUND(F47*G47,2)","v":0},{"$f":"ROUND(N47,4)","v":{"$error":"#VALUE!"}},{"$f":"IF(ROUND(O47,2)>P47,\"Reduzir Valor \",ROUND(O47,2))","v":{"$error":"#VALUE!"}},{"$f":"IF(J47=\"Reduzir Valor \",\"Reduzir Valor \",ROUND(F47*J47,2))","v":{"$error":"#VALUE!"}},"+",null,{"$f":"$N$2","v":"BDI não preenchido"},{"$f":"ROUND(M47*(1+N47),2)","v":{"$error":"#VALUE!"}},0.43,267.02999999999997,{"$f":"IF(P47=\"\",\"\",O47/P47)","v":{"$error":"#VALUE!"}}]
[null,"2.2","Desmatamento ou Supressão Vegetal","03.08.00.00",0,null,{"$f":"ROUND(M48,2)","v":0},{"$f":"ROUND(F48*G48,2)","v":0},{"$f":"ROUND(N48,4)","v":0},{"$f":"IF(ROUND(O48,2)>P48,\"Reduzir Valor \",ROUND(O48,2))","v":0},{"$f":"IF(J48=\"Reduzir Valor \",\"Reduzir Valor \",ROUND(F48*J48,2))","v":0},"+",null,null,{"$f":"ROUND(M48*(1+N48),2)","v":0},"","",{"$f":"IF(P48=\"\",\"\",O48/P48)","v":""}]
[null,"2.2.1","Corte, Recorte e Remoção de Árvores inclusive raízes 5 cm < DAP < 15 cm","03.08.00.01","un",21,{"$f":"ROUND(M49,2)","v":0},{"$f":"ROUND(F49*G49,2)","v":0},{"$f":"ROUND(N49,4)","v":{"$error":"#VALUE!"}},{"$f":"IF(ROUND(O49,2)>P49,\"Reduzir Valor \",ROUND(O49,2))","v":{"$error":"#VALUE!"}},{"$f":"IF(J49=\"Reduzir Valor \",\"Reduzir Valor \",ROUND(F49*J49,2))","v":{"$error":"#VALUE!"}},"+",null,{"$f":"$N$2","v":"BDI não preenchido"},{"$f":"ROUND(M49*(1+N49),2)","v":{"$error":"#VALUE!"}},167.55,3518.55,{"$f":"IF(P49=\"\",\"\",O49/P49)","v":{"$error":"#VALUE!"}}]
[null,"2.2.2","Corte, Recorte e Remoção de Árvores inclusive raízes 15 cm < DAP < 30 cm","03.08.00.02","un",1,{"$f":"ROUND(M50,2)","v":0},{"$f":"ROUND(F50*G50,2)","v":0},{"$f":"ROUND(N50,4)","v":{"$error":"#VALUE!"}},{"$f":"IF(ROUND(O50,2)>P50,\"Reduzir Valor \",ROUND(O50,2))","v":{"$error":"#VALUE!"}},{"$f":"IF(J50=\"Reduzir Valor \",\"Reduzir Valor \",ROUND(F50*J50,2))","v":{"$error":"#VALUE!"}},"+",null,{"$f":"$N$2","v":"BDI não preenchido"},{"$f":"ROUND(M50*(1+N50),2)","v":{"$error":"#VALUE!"}},308.47000000000003,308.47000000000003,{"$f":"IF(P50=\"\",\"\",O50/P50)","v":{"$error":"#VALUE!"}}]
[]
[]
[]
[]
[]
[]
[]
[]
[]
[]
[]
[]
[]
[]
[]
[]
[]
[]
[]
[]
[]
[]
[]
[]
[]
[null,"I - SERVIÇOS PRELIMINARES",null,null,null,"TOTAL SEM B.D.I. ",null,{"$f":"SUM(H10:H37,H47:H74)","v":0},"TOTAL COM B.D.I. ",null,{"$f":"SUM(K10:K37,K47:K74)","v":{"$error":"#VALUE!"}}]
[null,"RAZÃO SOCIAL DO PROPONENTE:",null,null,null,"RESPONSÁVEL PROPONENTE:",null,null,null,"DATA"]
[null,"MUNICÍPIO: SANTO ANTÔNIO DA PATRULHA",null,null,null,"II - ADMINISTRAÇÃO LOCAL E GERENCIAMENTO AMBIENTAL"]
[null,"OBRA: EEB DO RESIDENCIAL SANTO ANTÔNIO"]
[null,"ITEM","DISCRIMINAÇÃO","CÓDIGO","UN","QTDE","CUSTO",null,"B.D.I. APLICADO","PREÇO",null,null,"CUSTO PROPOSTO","B.D.I.           (%)","PREÇO PROPOSTO","PREÇO MÁXIMO ADMISSÍVEL PARA ESTA LICITAÇÃO",null,"PERCENTUAL"]
[null,null,null,null,null,null,"(SEM B.D.I.)",null,null,"(COM B.D.I.)"]
[null,null,null,null,null,null,"UNITÁRIO","TOTAL",null,"UNITÁRIO","TOTAL",null,null,null,null,"UNITÁRIO","TOTAL"]
[]
[null,1,"ADMINISTRAÇÃO LOCAL"]
[null,"1.1","Operação e Supervisão do Canteiro","01.04.00.00",0,null,{"$f":"ROUND(M85,2)","v":0},{"$f":"ROUND(F85*G85,2)","v":0},{"$f":"ROUND(N85,4)","v":0},{"$f":"IF(ROUND(O85,2)>P85,\"Reduzir Valor \",ROUND(O85,2))","v":0},{"$f":"IF(J85=\"Reduzir Valor \",\"Reduzir Valor \",ROUND(F85*J85,2))","v":0},"+",null,null,{"$f":"ROUND(M85*(1+N85),2)","v":0},"","",{"$f":"IF(P85=\"\",\"\",O85/P85)","v":""}]
[null,"1.1.1","Administração local","01.04.02.10","un",1,{"$f":"ROUND(M86,2)","v":0},{"$f":"ROUND(F86*G86,2)","v":0},{"$f":"ROUND(N86,4)","v":{"$error":"#VALUE!"}},{"$f":"IF(ROUND(O86,2)>P86,\"Reduzir Valor \",ROUND(O86,2))","v":{"$error":"#VALUE!"}},{"$f":"IF(J86=\"Reduzir Valor \",\"Reduzir Valor \",ROUND(F86*J86,2))","v":{"$error":"#VALUE!"}},"+",null,{"$f":"$N$2","v":"BDI não preenchido"},{"$f":"ROUND(M86*(1+N86),2)","v":{"$error":"#VALUE!"}},53691.5,53691.5,{"$f":"IF(P86=\"\",\"\",O86/P86)","v":{"$error":"#VALUE!"}}]
[]
[null,2,"GERENCIAMENTO AMBIENTAL","19.00.00.00",0,null,{"$f":"ROUND(M88,2)","v":0},{"$f":"ROUND(F88*G88,2)","v":0},{"$f":"ROUND(N88,4)","v":0},{"$f":"IF(ROUND(O88,2)>P88,\"Reduzir Valor \",ROUND(O88,2))","v":0},{"$f":"IF(J88=\"Reduzir Valor \",\"Reduzir Valor \",ROUND(F88*J88,2))","v":0},"+",null,null,{"$f":"ROUND(M88*(1+N88),2)","v":0},"","",{"$f":"IF(P88=\"\",\"\",O88/P88)","v":""}]
[null,"2.1","Serviços Técnicos","19.01.00.00",0,null,{"$f":"ROUND(M89,2)","v":0},{"$f":"ROUND(F89*G89,2)","v":0},{"$f":"ROUND(N89,4)","v":0},{"$f":"IF(ROUND(O89,2)>P89,\"Reduzir Valor \",ROUND(O89,2))","v":0},{"$f":"IF(J89=\"Reduzir Valor \",\"Reduzir Valor \",ROUND(F89*J89,2))","v":0},"+",null,null,{"$f":"ROUND(M89*(1+N89),2)","v":0},"","",{"$f":"IF(P89=\"\",\"\",O89/P89)","v":""}]
[null,"2.1.1","Atendimento das condicionantes ambientais IV","19.01.01.04","eq",1,{"$f":"ROUND(M90,2)","v":0},{"$f":"ROUND(F90*G90,2)","v":0},{"$f":"ROUND(N90,4)","v":{"$error":"#VALUE!"}},{"$f":"IF(ROUND(O90,2)>P90,\"Reduzir Valor \",ROUND(O90,2))","v":{"$error":"#VALUE!"}},{"$f":"IF(J90=\"Reduzir Valor \",\"Reduzir Valor \",ROUND(F90*J90,2))","v":{"$error":"#VALUE!"}},"+",null,{"$f":"$N$2","v":"BDI não preenchido"},{"$f":"ROUND(M90*(1+N90),2)","v":{"$error":"#VALUE!"}},28862.44,28862.44,{"$f":"IF(P90=\"\",\"\",O90/P90)","v":{"$error":"#VALUE!"}}]
[]
[]
[]
[]
[]
[]
[]
[]
[]
[]
[]
[]
[]
[]
[]
[]
[]
[]
[]
[]
[]
[]
[null,"II - ADMINISTRAÇÃO LOCAL E GERENCIAMENTO AMBIENTAL",null,null,null,"TOTAL SEM B.D.I. ",null,{"$f":"SUM(H84:H111)","v":0},"TOTAL COM B.D.I. ",null,{"$f":"SUM(K84:K111)","v":{"$error":"#VALUE!"}}]
[null,"RAZÃO SOCIAL DO PROPONENTE:",null,null,null,"RESPONSÁVEL PROPONENTE:",null,null,null,"DATA"]
[null,"MUNICÍPIO: SANTO ANTÔNIO DA PATRULHA",null,null,null,"III - REDE COLETORA"]
[null,"OBRA: EEB DO RESIDENCIAL SANTO ANTÔNIO"]
[null,"ITEM","DISCRIMINAÇÃO","CÓDIGO","UN","QTDE","CUSTO",null,"B.D.I. APLICADO","PREÇO",null,null,"CUSTO PROPOSTO","B.D.I.           (%)","PREÇO PROPOSTO","PREÇO MÁXIMO ADMISSÍVEL PARA ESTA LICITAÇÃO",null,"PERCENTUAL"]
[null,null,null,null,null,null,"(SEM B.D.I.)",null,null,"(COM B.D.I.)"]
[null,null,null,null,null,null,"UNITÁRIO","TOTAL",null,"UNITÁRIO","TOTAL",null,null,null,null,"UNITÁRIO","TOTAL"]
[]
[null,1,"SERVIÇOS TÉCNICOS","02.00.00.00",0,null,{"$f":"ROUND(M121,2)","v":0},{"$f":"ROUND(F121*G121,2)","v":0},{"$f":"ROUND(N121,4)","v":0},{"$f":"IF(ROUND(O121,2)>P121,\"Reduzir Valor \",ROUND(O121,2))","v":0},{"$f":"IF(J121=\"Reduzir Valor \",\"Reduzir Valor \",ROUND(F121*J121,2))","v":0},"+",0,null,{"$f":"ROUND(M121*(1+N121),2)","v":0},"","",{"$f":"IF(P121=\"\",\"\",O121/P121)","v":""}]
[null,"1.1","Controle Tecnológico","02.02.00.00",0,null,0,0,0,0,0,"+",0,null,0,"","",""]
[null,"1.1.1","Teste hidráulico em rede de esgoto com bola de isopor","02.02.01.10","m",79,0,0,{"$error":"#VALUE!"},{"$error":"#VALUE!"},{"$error":"#VALUE!"},"+",null,{"$f":"$N$2","v":"BDI não preenchido"},{"$error":"#VALUE!"},1.54,121.66,{"$error":"#VALUE!"}]
[null,"1.2","Locação e Cadastro","02.04.00.00",0,null,0,0,0,0,0,"+",null,null,0,"","",""]
[null,"1.2.1","Locação e nivelamento para obras de condutos livres","02.04.01.20","m",79,0,0,{"$error":"#VALUE!"},{"$error":"#VALUE!"},{"$error":"#VALUE!"},"+",null,{"$f":"$N$2","v":"BDI não preenchido"},{"$error":"#VALUE!"},1.74,137.46,{"$error":"#VALUE!"}]
[null,"1.2.2","Cadastro e desenho para obras de condutos livres","02.04.02.20","m",79,0,0,{"$error":"#VALUE!"},{"$error":"#VALUE!"},{"$error":"#VALUE!"},"+",null,{"$f":"$N$2","v":"BDI não preenchido"},{"$error":"#VALUE!"},1.05,82.95,{"$error":"#VALUE!"}]
[]
[null,2,"SERVIÇOS PRELIMINARES","03.00.00.00",0,null,{"$f":"ROUND(M128,2)","v":0},{"$f":"ROUND(F128*G128,2)","v":0},{"$f":"ROUND(N128,4)","v":0},{"$f":"IF(ROUND(O128,2)>P128,\"Reduzir Valor \",ROUND(O128,2))","v":0},{"$f":"IF(J128=\"Reduzir Valor \",\"Reduzir Valor \",ROUND(F128*J128,2))","v":0},"+",null,null,{"$f":"ROUND(M128*(1+N128),2)","v":0},"","",{"$f":"IF(P128=\"\",\"\",O128/P128)","v":""}]
[null,"2.1","Trânsito e Segurança","03.02.00.00",0,null,0,0,0,0,0,"+",null,null,0,"","",""]
[null,"2.1.1","Sinalização com cavaletes, placas e cones","03.02.00.10","m",55,0,0,{"$error":"#VALUE!"},{"$error":"#VALUE!"},{"$error":"#VALUE!"},"+",null,{"$f":"$N$2","v":"BDI não preenchido"},{"$error":"#VALUE!"},1.04,57.2,{"$error":"#VALUE!"}]
[null,"2.1.2","Sinalização luminosa com cavaletes, placas e cones","03.02.00.20","m",24,0,0,{"$error":"#VALUE!"},{"$error":"#VALUE!"},{"$error":"#VALUE!"},"+",null,{"$f":"$N$2","v":"BDI não preenchido"},{"$error":"#VALUE!"},2.33,55.92,{"$error":"#VALUE!"}]
[null,"2.1.3","Tela plástica (PVC/PEAD) laranja, para sinalização e isolamento, incluso estrutura de fixação","03.02.00.35","m",158,0,0,{"$error":"#VALUE!"},{"$error":"#VALUE!"},{"$error":"#VALUE!"},"+",null,{"$f":"$N$2","v":"BDI não preenchido"},{"$error":"#VALUE!"},1.28,202.24,{"$error":"#VALUE!"}]
[null,"2.1.4","Instalações sanitárias móveis para obras lineares","03.02.00.60","m",79,0,0,{"$error":"#VALUE!"},{"$error":"#VALUE!"},{"$error":"#VALUE!"},"+",null,{"$f":"$N$2","v":"BDI não preenchido"},{"$error":"#VALUE!"},0.56000000000000005,44.24,{"$error":"#VALUE!"}]
[null,"2.2","Remanejamento de Interferência","03.06.00.00",0,null,0,0,0,0,0,"+",null,null,0,"","",""]
[null,"2.2.1","Execução de tampa de boca de lobo","03.06.00.21","un",1,0,0,{"$error":"#VALUE!"},{"$error":"#VALUE!"},{"$error":"#VALUE!"},"+",null,{"$f":"$N$2","v":"BDI não preenchido"},{"$error":"#VALUE!"},63.9,63.9,{"$error":"#VALUE!"}]
[null,"2.2.2","Remanejamento de rede de água","03.06.00.22","m",1,0,0,{"$error":"#VALUE!"},{"$error":"#VALUE!"},{"$error":"#VALUE!"},"+",null,{"$f":"$N$2","v":"BDI não preenchido"},{"$error":"#VALUE!"},83.58,83.58,{"$error":"#VALUE!"}]
[null,"2.2.3","Conserto de rede de água","03.06.00.23","m",1,0,0,{"$error":"#VALUE!"},{"$error":"#VALUE!"},{"$error":"#VALUE!"},"+",null,{"$f":"$N$2","v":"BDI não preenchido"},{"$error":"#VALUE!"},44.33,44.33,{"$error":"#VALUE!"}]
[null,"2.2.4","Conserto de ramal de água","03.06.00.24","m",1,0,0,{"$error":"#VALUE!"},{"$error":"#VALUE!"},{"$error":"#VALUE!"},"+",null,{"$f":"$N$2","v":"BDI não preenchido"},{"$error":"#VALUE!"},24.11,24.11,{"$error":"#VALUE!"}]
[null,"2.2.5","Execução de caixa de pluvial","03.06.00.25","un",1,0,0,{"$error":"#VALUE!"},{"$error":"#VALUE!"},{"$error":"#VALUE!"},"+",null,{"$f":"$N$2","v":"BDI não preenchido"},{"$error":"#VALUE!"},2148.77,2148.77,{"$error":"#VALUE!"}]
[]
[null,3,"MOVIMENTO DE SOLO","04.00.00.00",0,null,{"$f":"ROUND(M141,2)","v":0},{"$f":"ROUND(F141*G141,2)","v":0},{"$f":"ROUND(N141,4)","v":0},{"$f":"IF(ROUND(O141,2)>P141,\"Reduzir Valor \",ROUND(O141,2))","v":0},{"$f":"IF(J141=\"Reduzir Valor \",\"Reduzir Valor \",ROUND(F141*J141,2))","v":0},"+",null,null,{"$f":"ROUND(M141*(1+N141),2)","v":0},"","",{"$f":"IF(P141=\"\",\"\",O141/P141)","v":""}]
[null,"3.1","Escavação de Solo Valas","04.02.00.00",0,null,0,0,0,0,0,"+",null,null,0,"","",""]
[null,"3.1.1","Escavação de valas mecânica, solo 0-3 m","04.02.02.43","m3",177,0,0,{"$error":"#VALUE!"},{"$error":"#VALUE!"},{"$error":"#VALUE!"},"+",null,{"$f":"$N$2","v":"BDI não preenchido"},{"$error":"#VALUE!"},10.039999999999999,1777.08,{"$error":"#VALUE!"}]
[null,"3.1.2","Escavação de valas mecânica, solo 0-4 m","04.02.02.44","m3",14,0,0,{"$error":"#VALUE!"},{"$error":"#VALUE!"},{"$error":"#VALUE!"},"+",null,{"$f":"$N$2","v":"BDI não preenchido"},{"$error":"#VALUE!"},8.8800000000000008,124.32,{"$error":"#VALUE!"}]
[null,"3.2","Aterro, Reaterro, Lastro, Espalhamento e Nivelamento","04.09.00.00",0,null,0,0,0,0,0,"+",null,null,0,"","",""]
[null,"3.2.1","Reenchimento manual apiloado de vala","04.09.02.02","m3",40,0,0,{"$error":"#VALUE!"},{"$error":"#VALUE!"},{"$error":"#VALUE!"},"+",null,{"$f":"$N$2","v":"BDI não preenchido"},{"$error":"#VALUE!"},23.24,929.6,{"$error":"#VALUE!"}]
[null,"3.2.2","Areia para aterro/reaterro (inclusive carga e descarga)","04.09.02.03","m3",40,0,0,{"$error":"#VALUE!"},{"$error":"#VALUE!"},{"$error":"#VALUE!"},"+",null,{"$f":"$N$2","v":"BDI não preenchido"},{"$error":"#VALUE!"},66.27,2650.8,{"$error":"#VALUE!"}]
[]
[]
[]
[null,"RAZÃO SOCIAL DO PROPONENTE:",null,null,null,"RESPONSÁVEL PROPONENTE:",null,null,null,"DATA"]
[null,"MUNICÍPIO: SANTO ANTÔNIO DA PATRULHA",null,null,null,"III - REDE COLETORA"]
[null,"OBRA: EEB DO RESIDENCIAL SANTO ANTÔNIO"]
[null,"ITEM","DISCRIMINAÇÃO","CÓDIGO","UN","QTDE","CUSTO",null,"B.D.I. APLICADO","PREÇO",null,null,"CUSTO PROPOSTO","B.D.I.           (%)","PREÇO PROPOSTO","PREÇO MÁXIMO ADMISSÍVEL PARA ESTA LICITAÇÃO",null,"PERCENTUAL"]
[null,null,null,null,null,null,"(SEM B.D.I.)",null,null,"(COM B.D.I.)"]
[null,null,null,null,null,null,"UNITÁRIO","TOTAL",null,"UNITÁRIO","TOTAL",null,null,null,null,"UNITÁRIO","TOTAL"]
[]
[null,"3.2.3","Argila para aterro/reaterro (inclusive carga e descarga)","04.09.02.09","m3",127,{"$f":"ROUND(M158,2)","v":0},{"$f":"ROUND(F158*G158,2)","v":0},{"$f":"ROUND(N158,4)","v":{"$error":"#VALUE!"}},{"$f":"IF(ROUND(O158,2)>P158,\"Reduzir Valor \",ROUND(O158,2))","v":{"$error":"#VALUE!"}},{"$f":"IF(J158=\"Reduzir Valor \",\"Reduzir Valor \",ROUND(F158*J158,2))","v":{"$error":"#VALUE!"}},"+",null,{"$f":"$N$2","v":"BDI não preenchido"},{"$f":"ROUND(M158*(1+N158),2)","v":{"$error":"#VALUE!"}},25.61,3252.47,{"$f":"IF(P158=\"\",\"\",O158/P158)","v":{"$error":"#VALUE!"}}]
[null,"3.2.4","Reenchimento mecânico e compactação mecânica de vala, 0-2 m","04.09.02.22","m3",116,0,0,{"$error":"#VALUE!"},{"$error":"#VALUE!"},{"$error":"#VALUE!"},"+",null,{"$f":"$N$2","v":"BDI não preenchido"},{"$error":"#VALUE!"},16.78,1946.48,{"$error":"#VALUE!"}]
[null,"3.2.5","Reenchimento mecânico e compactação mecânica de vala, 0-3 m","04.09.02.23","m3",11,0,0,{"$error":"#VALUE!"},{"$error":"#VALUE!"},{"$error":"#VALUE!"},"+",null,{"$f":"$N$2","v":"BDI não preenchido"},{"$error":"#VALUE!"},10.49,115.39,{"$error":"#VALUE!"}]
[null,"3.2.6","Lastro de areia - material, compactação, carga e descarga","04.09.03.01","m3",8,0,0,{"$error":"#VALUE!"},{"$error":"#VALUE!"},{"$error":"#VALUE!"},"+",null,{"$f":"$N$2","v":"BDI não preenchido"},{"$error":"#VALUE!"},134.08000000000001,1072.6400000000001,{"$error":"#VALUE!"}]
[null,"3.3","Carga, Transporte, Descarga","04.10.00.00",0,null,0,0,0,0,0,"+",null,null,0,"","",""]
[null,"3.3.1","Transporte de solo para empréstimo até 30km","04.10.01.38","m3xkm",2100,0,0,{"$error":"#VALUE!"},{"$error":"#VALUE!"},{"$error":"#VALUE!"},"+",null,{"$f":"$N$2","v":"BDI não preenchido"},{"$error":"#VALUE!"},1.75,3675,{"$error":"#VALUE!"}]
[null,"3.3.2","Carga e descarga de solo para bota-fora","04.10.02.01","m3",191,0,0,{"$error":"#VALUE!"},{"$error":"#VALUE!"},{"$error":"#VALUE!"},"+",null,{"$f":"$N$2","v":"BDI não preenchido"},{"$error":"#VALUE!"},5.58,1065.78,{"$error":"#VALUE!"}]
[null,"3.3.3","Transporte de solos para bota-fora até 30km","04.10.02.08","m3xkm",2292,0,0,{"$error":"#VALUE!"},{"$error":"#VALUE!"},{"$error":"#VALUE!"},"+",null,{"$f":"$N$2","v":"BDI não preenchido"},{"$error":"#VALUE!"},1.75,4011,{"$error":"#VALUE!"}]
[]
[null,4,"ESCORAMENTO","05.00.00.00",0,null,{"$f":"ROUND(M167,2)","v":0},{"$f":"ROUND(F167*G167,2)","v":0},{"$f":"ROUND(N167,4)","v":0},{"$f":"IF(ROUND(O167,2)>P167,\"Reduzir Valor \",ROUND(O167,2))","v":0},{"$f":"IF(J167=\"Reduzir Valor \",\"Reduzir Valor \",ROUND(F167*J167,2))","v":0},"+",null,null,{"$f":"ROUND(M167*(1+N167),2)","v":0},"","",{"$f":"IF(P167=\"\",\"\",O167/P167)","v":""}]
[null,"4.1","Escoramento Metálico","05.02.00.00",0,null,{"$f":"ROUND(M168,2)","v":0},{"$f":"ROUND(F168*G168,2)","v":0},{"$f":"ROUND(N168,4)","v":0},{"$f":"IF(ROUND(O168,2)>P168,\"Reduzir Valor \",ROUND(O168,2))","v":0},{"$f":"IF(J168=\"Reduzir Valor \",\"Reduzir Valor \",ROUND(F168*J168,2))","v":0},"+",null,null,{"$f":"ROUND(M168*(1+N168),2)","v":0},"","",{"$f":"IF(P168=\"\",\"\",O168/P168)","v":""}]
[null,"4.1.1","Escoramento contínuo metálico, blindagem pesada, valas acima de 2 m","05.02.00.50","m2",361,{"$f":"ROUND(M169,2)","v":0},{"$f":"ROUND(F169*G169,2)","v":0},{"$f":"ROUND(N169,4)","v":{"$error":"#VALUE!"}},{"$f":"IF(ROUND(O169,2)>P169,\"Reduzir Valor \",ROUND(O169,2))","v":{"$error":"#VALUE!"}},{"$f":"IF(J169=\"Reduzir Valor \",\"Reduzir Valor \",ROUND(F169*J169,2))","v":{"$error":"#VALUE!"}},"+",null,{"$f":"$N$2","v":"BDI não preenchido"},{"$f":"ROUND(M169*(1+N169),2)","v":{"$error":"#VALUE!"}},17.48,6310.28,{"$f":"IF(P169=\"\",\"\",O169/P169)","v":{"$error":"#VALUE!"}}]
[]
[null,5,"ESGOTAMENTO","06.00.00.00",0,null,{"$f":"ROUND(M171,2)","v":0},{"$f":"ROUND(F171*G171,2)","v":0},{"$f":"ROUND(N171,4)","v":0},{"$f":"IF(ROUND(O171,2)>P171,\"Reduzir Valor \",ROUND(O171,2))","v":0},{"$f":"IF(J171=\"Reduzir Valor \",\"Reduzir Valor \",ROUND(F171*J171,2))","v":0},"+",null,null,{"$f":"ROUND(M171*(1+N171),2)","v":0},"","",{"$f":"IF(P171=\"\",\"\",O171/P171)","v":""}]
[null,"5.1","Esgotamento com Bombas","06.01.00.00",0,null,{"$f":"ROUND(M172,2)","v":0},{"$f":"ROUND(F172*G172,2)","v":0},{"$f":"ROUND(N172,4)","v":0},{"$f":"IF(ROUND(O172,2)>P172,\"Reduzir Valor \",ROUND(O172,2))","v":0},{"$f":"IF(J172=\"Reduzir Valor \",\"Reduzir Valor \",ROUND(F172*J172,2))","v":0},"+",null,null,{"$f":"ROUND(M172*(1+N172),2)","v":0},"","",{"$f":"IF(P172=\"\",\"\",O172/P172)","v":""}]
[null,"5.1.1","Esgotamento com bomba auto-escorvante 3,5 HP, a gasolina","06.01.00.10","h",24,{"$f":"ROUND(M173,2)","v":0},{"$f":"ROUND(F173*G173,2)","v":0},{"$f":"ROUND(N173,4)","v":{"$error":"#VALUE!"}},{"$f":"IF(ROUND(O173,2)>P173,\"Reduzir Valor \",ROUND(O173,2))","v":{"$error":"#VALUE!"}},{"$f":"IF(J173=\"Reduzir Valor \",\"Reduzir Valor \",ROUND(F173*J173,2))","v":{"$error":"#VALUE!"}},"+",null,{"$f":"$N$2","v":"BDI não preenchido"},{"$f":"ROUND(M173*(1+N173),2)","v":{"$error":"#VALUE!"}},9.82,235.68,{"$f":"IF(P173=\"\",\"\",O173/P173)","v":{"$error":"#VALUE!"}}]
[]
[null,6,"FUNDAÇÃO E ESTRUTURA","08.00.00.00",0,null,{"$f":"ROUND(M175,2)","v":0},{"$f":"ROUND(F175*G175,2)","v":0},{"$f":"ROUND(N175,4)","v":0},{"$f":"IF(ROUND(O175,2)>P175,\"Reduzir Valor \",ROUND(O175,2))","v":0},{"$f":"IF(J175=\"Reduzir Valor \",\"Reduzir Valor \",ROUND(F175*J175,2))","v":0},"+",null,null,{"$f":"ROUND(M175*(1+N175),2)","v":0},"","",{"$f":"IF(P175=\"\",\"\",O175/P175)","v":""}]
[null,"6.1","Lastro","08.03.00.00",0,null,0,0,0,0,0,"+",null,null,0,"","",""]
[null,"6.1.1","Lastro de brita n° 2","08.03.00.14","m3",1,0,0,{"$error":"#VALUE!"},{"$error":"#VALUE!"},{"$error":"#VALUE!"},"+",null,{"$f":"$N$2","v":"BDI não preenchido"},{"$error":"#VALUE!"},79.05,79.05,{"$error":"#VALUE!"}]
[null,"6.2","Caixas e Poços","08.10.00.00",0,null,0,0,0,0,0,"+",null,null,0,"","",""]
[null,"6.2.1","Montagem, carga, descarga e transporte de tampão de ferro para PV","08.10.04.10","un",2,0,0,{"$error":"#VALUE!"},{"$error":"#VALUE!"},{"$error":"#VALUE!"},"+",null,{"$f":"$N$2","v":"BDI não preenchido"},{"$error":"#VALUE!"},67.27,134.54,{"$error":"#VALUE!"}]
[null,"6.2.2","Montagem, carga, descarga e transporte de pré-moldados de concreto para PV","08.10.04.20","m",6,0,0,{"$error":"#VALUE!"},{"$error":"#VALUE!"},{"$error":"#VALUE!"},"+",null,{"$f":"$N$2","v":"BDI não preenchido"},{"$error":"#VALUE!"},98.73,592.38,{"$error":"#VALUE!"}]
[null,"6.2.3","Laje de concreto para tampão de ferro fundido tipo IT","08.10.04.30","un",2,0,0,{"$error":"#VALUE!"},{"$error":"#VALUE!"},{"$error":"#VALUE!"},"+",null,{"$f":"$N$2","v":"BDI não preenchido"},{"$error":"#VALUE!"},98.87,197.74,{"$error":"#VALUE!"}]
[null,"6.2.4","Laje de concreto para tampão de ferro fundido DN 600","08.10.04.40","un",2,0,0,{"$error":"#VALUE!"},{"$error":"#VALUE!"},{"$error":"#VALUE!"},"+",null,{"$f":"$N$2","v":"BDI não preenchido"},{"$error":"#VALUE!"},260.51,521.02,{"$error":"#VALUE!"}]
[null,"6.3","Junta argamassada de poço de visita/caixa de calçada","08.10.07.00",0,null,0,0,0,0,0,"+",null,null,0,"","",""]
[null,"6.3.1","Junta argamassada entre tubo DN 200 e PV","08.10.07.20","un",5,0,0,{"$error":"#VALUE!"},{"$error":"#VALUE!"},{"$error":"#VALUE!"},"+",null,{"$f":"$N$2","v":"BDI não preenchido"},{"$error":"#VALUE!"},39.21,196.05,{"$error":"#VALUE!"}]
[]
[]
[]
[null,"RAZÃO SOCIAL DO PROPONENTE:",null,null,null,"RESPONSÁVEL PROPONENTE:",null,null,null,"DATA"]
[null,"MUNICÍPIO: SANTO ANTÔNIO DA PATRULHA",null,null,null,"III - REDE COLETORA"]
[null,"OBRA: EEB DO RESIDENCIAL SANTO ANTÔNIO"]
[null,"ITEM","DISCRIMINAÇÃO","CÓDIGO","UN","QTDE","CUSTO",null,"B.D.I. APLICADO","PREÇO",null,null,"CUSTO PROPOSTO","B.D.I.           (%)","PREÇO PROPOSTO","PREÇO MÁXIMO ADMISSÍVEL PARA ESTA LICITAÇÃO",null,"PERCENTUAL"]
[null,null,null,null,null,null,"(SEM B.D.I.)",null,null,"(COM B.D.I.)"]
[null,null,null,null,null,null,"UNITÁRIO","TOTAL",null,"UNITÁRIO","TOTAL",null,null,null,null,"UNITÁRIO","TOTAL"]
[]
[null,7,"ASSENTAMENTO, CARGA, DESCARGA E TRANSPORTE","09.00.00.00",0,null,{"$f":"ROUND(M195,2)","v":0},{"$f":"ROUND(F195*G195,2)","v":0},{"$f":"ROUND(N195,4)","v":0},{"$f":"IF(ROUND(O195,2)>P195,\"Reduzir Valor \",ROUND(O195,2))","v":0},{"$f":"IF(J195=\"Reduzir Valor \",\"Reduzir Valor \",ROUND(F195*J195,2))","v":0},"+",null,null,{"$f":"ROUND(M195*(1+N195),2)","v":0},"","",{"$f":"IF(P195=\"\",\"\",O195/P195)","v":""}]
[null,"7.1","Assentamento, Carga, Descarga e Transporte de Tubulação","09.01.00.00",0,null,{"$f":"ROUND(M196,2)","v":0},{"$f":"ROUND(F196*G196,2)","v":0},{"$f":"ROUND(N196,4)","v":0},{"$f":"IF(ROUND(O196,2)>P196,\"Reduzir Valor \",ROUND(O196,2))","v":0},{"$f":"IF(J196=\"Reduzir Valor \",\"Reduzir Valor \",ROUND(F196*J196,2))","v":0},"+",null,null,{"$f":"ROUND(M196*(1+N196),2)","v":0},"","",{"$f":"IF(P196=\"\",\"\",O196/P196)","v":""}]
[null,"7.1.1","Assentamento, carga, descarga e transporte de tubos de PVC DN 200","09.01.05.05","m",79,{"$f":"ROUND(M197,2)","v":0},{"$f":"ROUND(F197*G197,2)","v":0},{"$f":"ROUND(N197,4)","v":{"$error":"#VALUE!"}},{"$f":"IF(ROUND(O197,2)>P197,\"Reduzir Valor \",ROUND(O197,2))","v":{"$error":"#VALUE!"}},{"$f":"IF(J197=\"Reduzir Valor \",\"Reduzir Valor \",ROUND(F197*J197,2))","v":{"$error":"#VALUE!"}},"+",null,{"$f":"$N$2","v":"BDI não preenchido"},{"$f":"ROUND(M197*(1+N197),2)","v":{"$error":"#VALUE!"}},6.3,497.7,{"$f":"IF(P197=\"\",\"\",O197/P197)","v":{"$error":"#VALUE!"}}]
[]
[null,8,"PAVIMENTAÇÃO","10.00.00.00",0,null,{"$f":"ROUND(M199,2)","v":0},{"$f":"ROUND(F199*G199,2)","v":0},{"$f":"ROUND(N199,4)","v":0},{"$f":"IF(ROUND(O199,2)>P199,\"Reduzir Valor \",ROUND(O199,2))","v":0},{"$f":"IF(J199=\"Reduzir Valor \",\"Reduzir Valor \",ROUND(F199*J199,2))","v":0},"+",null,null,{"$f":"ROUND(M199*(1+N199),2)","v":0},"","",{"$f":"IF(P199=\"\",\"\",O199/P199)","v":""}]
[null,"8.1","Recomposição de Pavimentos, Guias e Sarjetas","10.02.00.00",0,null,{"$f":"ROUND(M200,2)","v":0},{"$f":"ROUND(F200*G200,2)","v":0},{"$f":"ROUND(N200,4)","v":0},{"$f":"IF(ROUND(O200,2)>P200,\"Reduzir Valor \",ROUND(O200,2))","v":0},{"$f":"IF(J200=\"Reduzir Valor \",\"Reduzir Valor \",ROUND(F200*J200,2))","v":0},"+",null,null,{"$f":"ROUND(M200*(1+N200),2)","v":0},"","",{"$f":"IF(P200=\"\",\"\",O200/P200)","v":""}]
[null,"8.1.1","Recomposição de pavimento de saibro e=15cm","10.02.00.01","m2",83,{"$f":"ROUND(M201,2)","v":0},{"$f":"ROUND(F201*G201,2)","v":0},{"$f":"ROUND(N201,4)","v":{"$error":"#VALUE!"}},{"$f":"IF(ROUND(O201,2)>P201,\"Reduzir Valor \",ROUND(O201,2))","v":{"$error":"#VALUE!"}},{"$f":"IF(J201=\"Reduzir Valor \",\"Reduzir Valor \",ROUND(F201*J201,2))","v":{"$error":"#VALUE!"}},"+",null,{"$f":"$N$2","v":"BDI não preenchido"},{"$f":"ROUND(M201*(1+N201),2)","v":{"$error":"#VALUE!"}},12.14,1007.62,{"$f":"IF(P201=\"\",\"\",O201/P201)","v":{"$error":"#VALUE!"}}]
[]
[null,9,"FORNECIMENTO DE MATERIAIS","18.00.00.00",0,null,{"$f":"ROUND(M203,2)","v":0},{"$f":"ROUND(F203*G203,2)","v":0},{"$f":"ROUND(N203,4)","v":0},{"$f":"IF(ROUND(O203,2)>P203,\"Reduzir Valor \",ROUND(O203,2))","v":0},{"$f":"IF(J203=\"Reduzir Valor \",\"Reduzir Valor \",ROUND(F203*J203,2))","v":0},"+",null,null,{"$f":"ROUND(M203*(1+N203),2)","v":0},"","",{"$f":"IF(P203=\"\",\"\",O203/P203)","v":""}]
[null,"9.1","Tubos e Peças de PVC Coletor de Esgoto","18.05.00.00",0,null,0,0,0,0,0,"+",null,null,0,"","",""]
[null,"9.1.1","Tubo de PVC coletor de esgoto, JEI/JERI, DN 200, L=6m","18.05.01.20","br",14,0,0,{"$error":"#VALUE!"},{"$error":"#VALUE!"},{"$error":"#VALUE!"},"+",null,{"$f":"$N$3","v":"BDI não preenchido"},{"$error":"#VALUE!"},296.35000000000002,4148.8999999999996,{"$error":"#VALUE!"}]
[null,"9.1.2","Kit inspeção tubular de PVC, DN 150 (tubo coletor + curva)","18.05.08.15","cj",2,0,0,{"$error":"#VALUE!"},{"$error":"#VALUE!"},{"$error":"#VALUE!"},"+",null,{"$f":"$N$3","v":"BDI não preenchido"},{"$error":"#VALUE!"},146.35,292.7,{"$error":"#VALUE!"}]
[null,"9.2","Tubos e Peças Pré-moldadas de Concreto","18.10.00.00",0,null,0,0,0,0,0,"+",null,null,0,"","",""]
[null,"9.2.1","Anel p/ PV tipo \"N\" e \"S\", PB, JE, anel de borracha, DN 600, h=10 cm - GEM 7738","18.10.03.01","pç",2,0,0,{"$error":"#VALUE!"},{"$error":"#VALUE!"},{"$error":"#VALUE!"},"+",null,{"$f":"$N$3","v":"BDI não preenchido"},{"$error":"#VALUE!"},141.82,283.64,{"$error":"#VALUE!"}]
[null,"9.2.2","Anel p/ PV tipo \"N\" e \"S\", PB, JE, anel de borracha, DN 600, h=15 cm - GEM 7739","18.10.03.02","pç",1,0,0,{"$error":"#VALUE!"},{"$error":"#VALUE!"},{"$error":"#VALUE!"},"+",null,"BDI não preenchido",{"$error":"#VALUE!"},184.07,184.07,{"$error":"#VALUE!"}]
[null,"9.2.3","Anel p/ PV tipo \"N\", PB, JE, anel de borracha, DN 1000, h=20 cm - GEM 14111","18.10.04.01","pç",1,0,0,{"$error":"#VALUE!"},{"$error":"#VALUE!"},{"$error":"#VALUE!"},"+",null,"BDI não preenchido",{"$error":"#VALUE!"},457.85,457.85,{"$error":"#VALUE!"}]
[null,"9.2.4","Anel p/ PV tipo \"N\", PB, JE, anel de borracha, DN 1000, h=100 cm","18.10.04.04","pç",1,0,0,{"$error":"#VALUE!"},{"$error":"#VALUE!"},{"$error":"#VALUE!"},"+",null,"BDI não preenchido",{"$error":"#VALUE!"},1184.81,1184.81,{"$error":"#VALUE!"}]
[null,"9.2.5","Fundo de PV tipo \"N\", JE, DN 1000, h=75 cm - GEM 12979","18.10.04.05","pç",2,0,0,{"$error":"#VALUE!"},{"$error":"#VALUE!"},{"$error":"#VALUE!"},"+",null,"BDI não preenchido",{"$error":"#VALUE!"},1187.1400000000001,2374.2800000000002,{"$error":"#VALUE!"}]
[null,"9.2.6","Cone excêntrico, PB, JE, anel de borracha, DN 1000 x 600, h = 100cm - GEM 13024","18.10.05.02","pç",2,0,0,{"$error":"#VALUE!"},{"$error":"#VALUE!"},{"$error":"#VALUE!"},"+",null,"BDI não preenchido",{"$error":"#VALUE!"},911.03,1822.06,{"$error":"#VALUE!"}]
[null,"9.3","Tampões de Ferro Fundido","18.15.00.00",0,null,0,0,0,0,0,"+",null,null,0,"","",""]
[null,"9.3.1","Tampão de ferro fundido dúctil, articulado, com travamento automático, DN 600","18.15.01.01","pç",2,0,0,{"$error":"#VALUE!"},{"$error":"#VALUE!"},{"$error":"#VALUE!"},"+",null,{"$f":"$N$3","v":"BDI não preenchido"},{"$error":"#VALUE!"},542.12,1084.24,{"$error":"#VALUE!"}]
[null,"9.3.2","Tampão de ferro fundido dúctil, com corrente e travamento, DN 230","18.15.02.01","pç",2,0,0,{"$error":"#VALUE!"},{"$error":"#VALUE!"},{"$error":"#VALUE!"},"+",null,{"$f":"$N$3","v":"BDI não preenchido"},{"$error":"#VALUE!"},151.44999999999999,302.89999999999998,{"$error":"#VALUE!"}]
[]
[]
[]
[]
[]
[]
[]
[null,"III - REDE COLETORA",null,null,null,"TOTAL SEM B.D.I. ",null,{"$f":"SUM(H120:H149,H157:H186,H195:H222)","v":0},"TOTAL COM B.D.I. ",null,{"$f":"SUM(K120:K149,K157:K186,K195:K222)","v":{"$error":"#VALUE!"}}]
[null,"RAZÃO SOCIAL DO PROPONENTE:",null,null,null,"RESPONSÁVEL PROPONENTE:",null,null,null,"DATA"]
[null,"MUNICÍPIO: SANTO ANTÔNIO DA PATRULHA",null,null,null,"IV - EEB SANTO ANTÔNIO"]
[null,"OBRA: EEB DO RESIDENCIAL SANTO ANTÔNIO"]
[null,"ITEM","DISCRIMINAÇÃO","CÓDIGO","UN","QTDE","CUSTO",null,"B.D.I. APLICADO","PREÇO",null,null,"CUSTO PROPOSTO","B.D.I.           (%)","PREÇO PROPOSTO","PREÇO MÁXIMO ADMISSÍVEL PARA ESTA LICITAÇÃO",null,"PERCENTUAL"]
[null,null,null,null,null,null,"(SEM B.D.I.)",null,null,"(COM B.D.I.)"]
[null,null,null,null,null,null,"UNITÁRIO","TOTAL",null,"UNITÁRIO","TOTAL",null,null,null,null,"UNITÁRIO","TOTAL"]
[]
[null,1,"SERVIÇOS TÉCNICOS","02.00.00.00",0,null,{"$f":"ROUND(M232,2)","v":0},{"$f":"ROUND(F232*G232,2)","v":0},{"$f":"ROUND(N232,4)","v":0},{"$f":"IF(ROUND(O232,2)>P232,\"Reduzir Valor \",ROUND(O232,2))","v":0},{"$f":"IF(J232=\"Reduzir Valor \",\"Reduzir Valor \",ROUND(F232*J232,2))","v":0},"+",0,null,{"$f":"ROUND(M232*(1+N232),2)","v":0},"","",{"$f":"IF(P232=\"\",\"\",O232/P232)","v":""}]
[null,"1.1","Locação e Cadastro","02.04.00.00",0,null,{"$f":"ROUND(M233,2)","v":0},{"$f":"ROUND(F233*G233,2)","v":0},{"$f":"ROUND(N233,4)","v":0},{"$f":"IF(ROUND(O233,2)>P233,\"Reduzir Valor \",ROUND(O233,2))","v":0},{"$f":"IF(J233=\"Reduzir Valor \",\"Reduzir Valor \",ROUND(F233*J233,2))","v":0},"+",0,null,{"$f":"ROUND(M233*(1+N233),2)","v":0},"","",{"$f":"IF(P233=\"\",\"\",O233/P233)","v":""}]
[null,"1.1.1","Locação e nivelamento de obras localizadas","02.04.01.40","m2",18,{"$f":"ROUND(M234,2)","v":0},{"$f":"ROUND(F234*G234,2)","v":0},{"$f":"ROUND(N234,4)","v":{"$error":"#VALUE!"}},{"$f":"IF(ROUND(O234,2)>P234,\"Reduzir Valor \",ROUND(O234,2))","v":{"$error":"#VALUE!"}},{"$f":"IF(J234=\"Reduzir Valor \",\"Reduzir Valor \",ROUND(F234*J234,2))","v":{"$error":"#VALUE!"}},"+",null,{"$f":"$N$2","v":"BDI não preenchido"},{"$f":"ROUND(M234*(1+N234),2)","v":{"$error":"#VALUE!"}},6.77,121.86,{"$f":"IF(P234=\"\",\"\",O234/P234)","v":{"$error":"#VALUE!"}}]
[null,"1.1.2","Cadastro e desenho para obras localizadas","02.04.02.40","m2",18,{"$f":"ROUND(M235,2)","v":0},{"$f":"ROUND(F235*G235,2)","v":0},{"$f":"ROUND(N235,4)","v":{"$error":"#VALUE!"}},{"$f":"IF(ROUND(O235,2)>P235,\"Reduzir Valor \",ROUND(O235,2))","v":{"$error":"#VALUE!"}},{"$f":"IF(J235=\"Reduzir Valor \",\"Reduzir Valor \",ROUND(F235*J235,2))","v":{"$error":"#VALUE!"}},"+",null,{"$f":"$N$2","v":"BDI não preenchido"},{"$f":"ROUND(M235*(1+N235),2)","v":{"$error":"#VALUE!"}},5.67,102.06,{"$f":"IF(P235=\"\",\"\",O235/P235)","v":{"$error":"#VALUE!"}}]
[]
[null,2,"SERVIÇOS PRELIMINARES","03.00.00.00",0,null,{"$f":"ROUND(M237,2)","v":0},{"$f":"ROUND(F237*G237,2)","v":0},{"$f":"ROUND(N237,4)","v":0},{"$f":"IF(ROUND(O237,2)>P237,\"Reduzir Valor \",ROUND(O237,2))","v":0},{"$f":"IF(J237=\"Reduzir Valor \",\"Reduzir Valor \",ROUND(F237*J237,2))","v":0},"+",null,null,{"$f":"ROUND(M237*(1+N237),2)","v":0},"","",{"$f":"IF(P237=\"\",\"\",O237/P237)","v":""}]
[null,"2.1","Trânsito e Segurança","03.02.00.00",0,null,{"$f":"ROUND(M238,2)","v":0},{"$f":"ROUND(F238*G238,2)","v":0},{"$f":"ROUND(N238,4)","v":0},{"$f":"IF(ROUND(O238,2)>P238,\"Reduzir Valor \",ROUND(O238,2))","v":0},{"$f":"IF(J238=\"Reduzir Valor \",\"Reduzir Valor \",ROUND(F238*J238,2))","v":0},"+",null,null,{"$f":"ROUND(M238*(1+N238),2)","v":0},"","",{"$f":"IF(P238=\"\",\"\",O238/P238)","v":""}]
[null,"2.1.1","Tapume de proteção","03.02.00.30","m2",133,{"$f":"ROUND(M239,2)","v":0},{"$f":"ROUND(F239*G239,2)","v":0},{"$f":"ROUND(N239,4)","v":{"$error":"#VALUE!"}},{"$f":"IF(ROUND(O239,2)>P239,\"Reduzir Valor \",ROUND(O239,2))","v":{"$error":"#VALUE!"}},{"$f":"IF(J239=\"Reduzir Valor \",\"Reduzir Valor \",ROUND(F239*J239,2))","v":{"$error":"#VALUE!"}},"+",null,{"$f":"$N$2","v":"BDI não preenchido"},{"$f":"ROUND(M239*(1+N239),2)","v":{"$error":"#VALUE!"}},27.66,3678.78,{"$f":"IF(P239=\"\",\"\",O239/P239)","v":{"$error":"#VALUE!"}}]
[]
[null,3,"MOVIMENTO DE SOLO","04.00.00.00",0,null,{"$f":"ROUND(M241,2)","v":0},{"$f":"ROUND(F241*G241,2)","v":0},{"$f":"ROUND(N241,4)","v":0},{"$f":"IF(ROUND(O241,2)>P241,\"Reduzir Valor \",ROUND(O241,2))","v":0},{"$f":"IF(J241=\"Reduzir Valor \",\"Reduzir Valor \",ROUND(F241*J241,2))","v":0},"+",null,null,{"$f":"ROUND(M241*(1+N241),2)","v":0},"","",{"$f":"IF(P241=\"\",\"\",O241/P241)","v":""}]
[null,"3.1","Escavação de Solo Localizada","04.01.00.00",0,null,0,0,0,0,0,"+",null,null,0,"","",""]
[null,"3.1.1","Escavação localizada mecânica, solo 0-2 m","04.01.02.42","m3",52,0,0,{"$error":"#VALUE!"},{"$error":"#VALUE!"},{"$error":"#VALUE!"},"+",null,{"$f":"$N$2","v":"BDI não preenchido"},{"$error":"#VALUE!"},10.48,544.96,{"$error":"#VALUE!"}]
[null,"3.1.2","Escavação localizada mecânica, solo 0-3 m","04.01.02.43","m3",130,0,0,{"$error":"#VALUE!"},{"$error":"#VALUE!"},{"$error":"#VALUE!"},"+",null,{"$f":"$N$2","v":"BDI não preenchido"},{"$error":"#VALUE!"},11.31,1470.3,{"$error":"#VALUE!"}]
[null,"3.1.3","Escavação localizada mecânica, solo 0-4 m","04.01.02.44","m3",88,0,0,{"$error":"#VALUE!"},{"$error":"#VALUE!"},{"$error":"#VALUE!"},"+",null,{"$f":"$N$2","v":"BDI não preenchido"},{"$error":"#VALUE!"},12.23,1076.24,{"$error":"#VALUE!"}]
[null,"3.1.4","Escavação localizada mecânica, solo 0-5 m","04.01.02.45","m3",122,0,0,{"$error":"#VALUE!"},{"$error":"#VALUE!"},{"$error":"#VALUE!"},"+",null,{"$f":"$N$2","v":"BDI não preenchido"},{"$error":"#VALUE!"},13.42,1637.24,{"$error":"#VALUE!"}]
[null,"3.2","Aterro, Reaterro, Lastro, Espalhamento e Nivelamento","04.09.00.00",0,null,0,0,0,0,0,"+",null,null,0,"","",""]
[null,"3.2.1","Argila para aterro/reaterro (inclusive carga e descarga)","04.09.02.09","m3",346,0,0,{"$error":"#VALUE!"},{"$error":"#VALUE!"},{"$error":"#VALUE!"},"+",null,{"$f":"$N$2","v":"BDI não preenchido"},{"$error":"#VALUE!"},25.61,8861.06,{"$error":"#VALUE!"}]
[null,"3.2.2","Reenchimento mecânico e compactação mecânica, localizado em pequenas áreas, 0-2 m","04.09.02.32","m3",44,0,0,{"$error":"#VALUE!"},{"$error":"#VALUE!"},{"$error":"#VALUE!"},"+",null,"BDI não preenchido",{"$error":"#VALUE!"},16.78,738.32,{"$error":"#VALUE!"}]
[null,"3.2.3","Reenchimento mecânico e compactação mecânica, localizado em pequenas áreas, 0-3 m","04.09.02.33","m3",130,0,0,{"$error":"#VALUE!"},{"$error":"#VALUE!"},{"$error":"#VALUE!"},"+",null,"BDI não preenchido",{"$error":"#VALUE!"},10.49,1363.7,{"$error":"#VALUE!"}]
[null,"3.2.4","Reenchimento mecânico e compactação mecânica, localizado em pequenas áreas, 0-4 m","04.09.02.34","m3",75,0,0,{"$error":"#VALUE!"},{"$error":"#VALUE!"},{"$error":"#VALUE!"},"+",null,"BDI não preenchido",{"$error":"#VALUE!"},10.89,816.75,{"$error":"#VALUE!"}]
[null,"3.2.5","Reenchimento mecânico e compactação mecânica, localizado em pequenas áreas, 0-5 m","04.09.02.35","m3",97,0,0,{"$error":"#VALUE!"},{"$error":"#VALUE!"},{"$error":"#VALUE!"},"+",null,"BDI não preenchido",{"$error":"#VALUE!"},10.28,997.16,{"$error":"#VALUE!"}]
[null,"3.2.6","Lastro de pó de pedra - material, compactação, carga e descarga ","04.09.03.03","m3",4,0,0,{"$error":"#VALUE!"},{"$error":"#VALUE!"},{"$error":"#VALUE!"},"+",null,"BDI não preenchido",{"$error":"#VALUE!"},141.63,566.52,{"$error":"#VALUE!"}]
[null,"3.3","Carga, Transporte, Descarga","04.10.00.00",0,null,0,0,0,0,0,"+",null,null,0,"","",""]
[null,"3.3.1","Carga e descarga de solo para bota-fora","04.10.02.01","m3",391,0,0,{"$error":"#VALUE!"},{"$error":"#VALUE!"},{"$error":"#VALUE!"},"+",null,{"$f":"$N$2","v":"BDI não preenchido"},{"$error":"#VALUE!"},5.58,2181.7800000000002,{"$error":"#VALUE!"}]
[null,"3.3.2","Transporte de solos para bota-fora até 30km","04.10.02.08","m3xkm",4681,0,0,{"$error":"#VALUE!"},{"$error":"#VALUE!"},{"$error":"#VALUE!"},"+",null,{"$f":"$N$2","v":"BDI não preenchido"},{"$error":"#VALUE!"},1.75,8191.75,{"$error":"#VALUE!"}]
[]
[null,4,"ESCORAMENTO","05.00.00.00",0,null,{"$f":"ROUND(M258,2)","v":0},{"$f":"ROUND(F258*G258,2)","v":0},{"$f":"ROUND(N258,4)","v":0},{"$f":"IF(ROUND(O258,2)>P258,\"Reduzir Valor \",ROUND(O258,2))","v":0},{"$f":"IF(J258=\"Reduzir Valor \",\"Reduzir Valor \",ROUND(F258*J258,2))","v":0},"+",0,null,{"$f":"ROUND(M258*(1+N258),2)","v":0},"","",{"$f":"IF(P258=\"\",\"\",O258/P258)","v":""}]
[null,"4.1","Escoramento Metálico","05.02.00.00",0,null,{"$f":"ROUND(M259,2)","v":0},{"$f":"ROUND(F259*G259,2)","v":0},{"$f":"ROUND(N259,4)","v":0},{"$f":"IF(ROUND(O259,2)>P259,\"Reduzir Valor \",ROUND(O259,2))","v":0},{"$f":"IF(J259=\"Reduzir Valor \",\"Reduzir Valor \",ROUND(F259*J259,2))","v":0},"+",0,null,{"$f":"ROUND(M259*(1+N259),2)","v":0},"","",{"$f":"IF(P259=\"\",\"\",O259/P259)","v":""}]
[]
[]
[null,"RAZÃO SOCIAL DO PROPONENTE:",null,null,null,"RESPONSÁVEL PROPONENTE:",null,null,null,"DATA"]
[null,"MUNICÍPIO: SANTO ANTÔNIO DA PATRULHA",null,null,null,"IV - EEB SANTO ANTÔNIO"]
[null,"OBRA: EEB DO RESIDENCIAL SANTO ANTÔNIO"]
[null,"ITEM","DISCRIMINAÇÃO","CÓDIGO","UN","QTDE","CUSTO",null,"B.D.I. APLICADO","PREÇO",null,null,"CUSTO PROPOSTO","B.D.I.           (%)","PREÇO PROPOSTO","PREÇO MÁXIMO ADMISSÍVEL PARA ESTA LICITAÇÃO",null,"PERCENTUAL"]
[null,null,null,null,null,null,"(SEM B.D.I.)",null,null,"(COM B.D.I.)"]
[null,null,null,null,null,null,"UNITÁRIO","TOTAL",null,"UNITÁRIO","TOTAL",null,null,null,null,"UNITÁRIO","TOTAL"]
[]
[null,"4.1.1","Escoramento de valas com pranchões metálicos - área cravada","05.02.00.30","m2",84,{"$f":"ROUND(M269,2)","v":0},{"$f":"ROUND(F269*G269,2)","v":0},{"$f":"ROUND(N269,4)","v":{"$error":"#VALUE!"}},{"$f":"IF(ROUND(O269,2)>P269,\"Reduzir Valor \",ROUND(O269,2))","v":{"$error":"#VALUE!"}},{"$f":"IF(J269=\"Reduzir Valor \",\"Reduzir Valor \",ROUND(F269*J269,2))","v":{"$error":"#VALUE!"}},"+",null,{"$f":"$N$2","v":"BDI não preenchido"},{"$f":"ROUND(M269*(1+N269),2)","v":{"$error":"#VALUE!"}},70.790000000000006,5946.36,{"$f":"IF(P269=\"\",\"\",O269/P269)","v":{"$error":"#VALUE!"}}]
[]
[null,5,"ESGOTAMENTO","06.00.00.00",0,null,{"$f":"ROUND(M271,2)","v":0},{"$f":"ROUND(F271*G271,2)","v":0},{"$f":"ROUND(N271,4)","v":0},{"$f":"IF(ROUND(O271,2)>P271,\"Reduzir Valor \",ROUND(O271,2))","v":0},{"$f":"IF(J271=\"Reduzir Valor \",\"Reduzir Valor \",ROUND(F271*J271,2))","v":0},"+",null,null,{"$f":"ROUND(M271*(1+N271),2)","v":0},"","",{"$f":"IF(P271=\"\",\"\",O271/P271)","v":""}]
[null,"5.1","Esgotamento com Bombas","06.01.00.00",0,null,{"$f":"ROUND(M272,2)","v":0},{"$f":"ROUND(F272*G272,2)","v":0},{"$f":"ROUND(N272,4)","v":0},{"$f":"IF(ROUND(O272,2)>P272,\"Reduzir Valor \",ROUND(O272,2))","v":0},{"$f":"IF(J272=\"Reduzir Valor \",\"Reduzir Valor \",ROUND(F272*J272,2))","v":0},"+",null,null,{"$f":"ROUND(M272*(1+N272),2)","v":0},"","",{"$f":"IF(P272=\"\",\"\",O272/P272)","v":""}]
[null,"5.1.1","Esgotamento com bomba auto-escorvante 3,5 HP, a gasolina","06.01.00.10","h",98,{"$f":"ROUND(M273,2)","v":0},{"$f":"ROUND(F273*G273,2)","v":0},{"$f":"ROUND(N273,4)","v":{"$error":"#VALUE!"}},{"$f":"IF(ROUND(O273,2)>P273,\"Reduzir Valor \",ROUND(O273,2))","v":{"$error":"#VALUE!"}},{"$f":"IF(J273=\"Reduzir Valor \",\"Reduzir Valor \",ROUND(F273*J273,2))","v":{"$error":"#VALUE!"}},"+",null,{"$f":"$N$2","v":"BDI não preenchido"},{"$f":"ROUND(M273*(1+N273),2)","v":{"$error":"#VALUE!"}},9.82,962.36,{"$f":"IF(P273=\"\",\"\",O273/P273)","v":{"$error":"#VALUE!"}}]
[]
[null,6,"FUNDAÇÃO E ESTRUTURA","08.00.00.00",0,null,{"$f":"ROUND(M275,2)","v":0},{"$f":"ROUND(F275*G275,2)","v":0},{"$f":"ROUND(N275,4)","v":0},{"$f":"IF(ROUND(O275,2)>P275,\"Reduzir Valor \",ROUND(O275,2))","v":0},{"$f":"IF(J275=\"Reduzir Valor \",\"Reduzir Valor \",ROUND(F275*J275,2))","v":0},"+",null,null,{"$f":"ROUND(M275*(1+N275),2)","v":0},"","",{"$f":"IF(P275=\"\",\"\",O275/P275)","v":""}]
[null,"6.1","Lastro","08.03.00.00",0,null,0,0,0,0,0,"+",null,null,0,"","",""]
[null,"6.1.1","Lastro de concreto usinado bombeado 250 kg cim/m³","08.03.00.44","m3",4,0,0,{"$error":"#VALUE!"},{"$error":"#VALUE!"},{"$error":"#VALUE!"},"+",null,{"$f":"$N$2","v":"BDI não preenchido"},{"$error":"#VALUE!"},369.9,1479.6,{"$error":"#VALUE!"}]
[null,"6.2","Fôrmas e Cimbramentos","08.04.00.00",0,null,0,0,0,0,0,"+",null,null,0,"","",""]
[null,"6.2.1","Fôrmas planas para lajes e paredes, com escoramento","08.04.00.24","m2",225,0,0,{"$error":"#VALUE!"},{"$error":"#VALUE!"},{"$error":"#VALUE!"},"+",null,{"$f":"$N$2","v":"BDI não preenchido"},{"$error":"#VALUE!"},97.17,21863.25,{"$error":"#VALUE!"}]
[null,"6.3","Armaduras","08.05.00.00",0,null,0,0,0,0,0,"+",null,null,0,"","",""]
[null,"6.3.1","Armadura CA-50, 6,30 mm - Fornecimento, corte (com perda de 7%), dobra e colocação","08.05.00.23","kg",67,0,0,{"$error":"#VALUE!"},{"$error":"#VALUE!"},{"$error":"#VALUE!"},"+",null,{"$f":"$N$2","v":"BDI não preenchido"},{"$error":"#VALUE!"},11.41,764.47,{"$error":"#VALUE!"}]
[null,"6.3.2","Armadura CA-50, 8,00 mm - Fornecimento, corte (com perda de 11%), dobra e colocação","08.05.00.24","kg",1752,0,0,{"$error":"#VALUE!"},{"$error":"#VALUE!"},{"$error":"#VALUE!"},"+",null,{"$f":"$N$2","v":"BDI não preenchido"},{"$error":"#VALUE!"},11.04,19342.080000000002,{"$error":"#VALUE!"}]
[null,"6.3.3","Armadura CA-50, 10,00 mm - Fornecimento, corte (com perda de 11%), dobra e colocação","08.05.00.25","kg",45,0,0,{"$error":"#VALUE!"},{"$error":"#VALUE!"},{"$error":"#VALUE!"},"+",null,{"$f":"$N$2","v":"BDI não preenchido"},{"$error":"#VALUE!"},8.9499999999999993,402.75,{"$error":"#VALUE!"}]
[null,"6.3.4","Armadura CA-50, 12,50 mm - Fornecimento, corte (com perda de 11%), dobra e colocação","08.05.00.26","kg",158,0,0,{"$error":"#VALUE!"},{"$error":"#VALUE!"},{"$error":"#VALUE!"},"+",null,{"$f":"$N$2","v":"BDI não preenchido"},{"$error":"#VALUE!"},7.97,1259.26,{"$error":"#VALUE!"}]
[null,"6.4","Concreto","08.06.00.00",0,null,0,0,0,0,0,"+",null,null,0,"","",""]
[null,"6.4.1","Concreto Fck=15 MPa, misturado em betoneira, estruturas correntes","08.06.00.14","m3",2,0,0,{"$error":"#VALUE!"},{"$error":"#VALUE!"},{"$error":"#VALUE!"},"+",null,{"$f":"$N$2","v":"BDI não preenchido"},{"$error":"#VALUE!"},609.58000000000004,1219.1600000000001,{"$error":"#VALUE!"}]
[null,"6.4.2","Fornecimento concreto usinado bombeado Fck = 40 Mpa, inclusive bombeamento","08.06.00.94","m3",32,0,0,{"$error":"#VALUE!"},{"$error":"#VALUE!"},{"$error":"#VALUE!"},"+",null,{"$f":"$N$2","v":"BDI não preenchido"},{"$error":"#VALUE!"},497.26,15912.32,{"$error":"#VALUE!"}]
[null,"6.4.3","Lançamento, adensamento e acabamento de concreto usinado bombeado","08.06.00.97","m3",32,0,0,{"$error":"#VALUE!"},{"$error":"#VALUE!"},{"$error":"#VALUE!"},"+",null,{"$f":"$N$2","v":"BDI não preenchido"},{"$error":"#VALUE!"},33.03,1056.96,{"$error":"#VALUE!"}]
[]
[null,7,"PAVIMENTAÇÃO","10.00.00.00",0,null,{"$f":"ROUND(M290,2)","v":0},{"$f":"ROUND(F290*G290,2)","v":0},{"$f":"ROUND(N290,4)","v":0},{"$f":"IF(ROUND(O290,2)>P290,\"Reduzir Valor \",ROUND(O290,2))","v":0},{"$f":"IF(J290=\"Reduzir Valor \",\"Reduzir Valor \",ROUND(F290*J290,2))","v":0},"+",null,null,{"$f":"ROUND(M290*(1+N290),2)","v":0},"","",{"$f":"IF(P290=\"\",\"\",O290/P290)","v":""}]
[null,"7.1","Execução de Pavimentos","10.04.00.00",0,null,{"$f":"ROUND(M291,2)","v":0},{"$f":"ROUND(F291*G291,2)","v":0},{"$f":"ROUND(N291,4)","v":0},{"$f":"IF(ROUND(O291,2)>P291,\"Reduzir Valor \",ROUND(O291,2))","v":0},{"$f":"IF(J291=\"Reduzir Valor \",\"Reduzir Valor \",ROUND(F291*J291,2))","v":0},"+",null,null,{"$f":"ROUND(M291*(1+N291),2)","v":0},"","",{"$f":"IF(P291=\"\",\"\",O291/P291)","v":""}]
[null,"7.1.1","Execução de pavimento de brita graduada espessura 10 cm","10.04.00.04","m2",404,{"$f":"ROUND(M292,2)","v":0},{"$f":"ROUND(F292*G292,2)","v":0},{"$f":"ROUND(N292,4)","v":{"$error":"#VALUE!"}},{"$f":"IF(ROUND(O292,2)>P292,\"Reduzir Valor \",ROUND(O292,2))","v":{"$error":"#VALUE!"}},{"$f":"IF(J292=\"Reduzir Valor \",\"Reduzir Valor \",ROUND(F292*J292,2))","v":{"$error":"#VALUE!"}},"+",null,{"$f":"$N$2","v":"BDI não preenchido"},{"$f":"ROUND(M292*(1+N292),2)","v":{"$error":"#VALUE!"}},8.99,3631.96,{"$f":"IF(P292=\"\",\"\",O292/P292)","v":{"$error":"#VALUE!"}}]
[null,"7.1.2","Execução de meio-fio de concreto, seção 15 x 30 cm","10.04.00.41","m",198,{"$f":"ROUND(M293,2)","v":0},{"$f":"ROUND(F293*G293,2)","v":0},{"$f":"ROUND(N293,4)","v":{"$error":"#VALUE!"}},{"$f":"IF(ROUND(O293,2)>P293,\"Reduzir Valor \",ROUND(O293,2))","v":{"$error":"#VALUE!"}},{"$f":"IF(J293=\"Reduzir Valor \",\"Reduzir Valor \",ROUND(F293*J293,2))","v":{"$error":"#VALUE!"}},"+",null,{"$f":"$N$2","v":"BDI não preenchido"},{"$f":"ROUND(M293*(1+N293),2)","v":{"$error":"#VALUE!"}},41.87,8290.26,{"$f":"IF(P293=\"\",\"\",O293/P293)","v":{"$error":"#VALUE!"}}]
[null,"7.1.3","Execução enleivamento","10.04.00.42","m2",218,{"$f":"ROUND(M294,2)","v":0},{"$f":"ROUND(F294*G294,2)","v":0},{"$f":"ROUND(N294,4)","v":{"$error":"#VALUE!"}},{"$f":"IF(ROUND(O294,2)>P294,\"Reduzir Valor \",ROUND(O294,2))","v":{"$error":"#VALUE!"}},{"$f":"IF(J294=\"Reduzir Valor \",\"Reduzir Valor \",ROUND(F294*J294,2))","v":{"$error":"#VALUE!"}},"+",null,{"$f":"$N$2","v":"BDI não preenchido"},{"$f":"ROUND(M294*(1+N294),2)","v":{"$error":"#VALUE!"}},16.79,3660.22,{"$f":"IF(P294=\"\",\"\",O294/P294)","v":{"$error":"#VALUE!"}}]
[]
[]
[]
[]
[null,"RAZÃO SOCIAL DO PROPONENTE:",null,null,null,"RESPONSÁVEL PROPONENTE:",null,null,null,"DATA"]
[null,"MUNICÍPIO: SANTO ANTÔNIO DA PATRULHA",null,null,null,"IV - EEB SANTO ANTÔNIO"]
[null,"OBRA: EEB DO RESIDENCIAL SANTO ANTÔNIO"]
[null,"ITEM","DISCRIMINAÇÃO","CÓDIGO","UN","QTDE","CUSTO",null,"B.D.I. APLICADO","PREÇO",null,null,"CUSTO PROPOSTO","B.D.I.           (%)","PREÇO PROPOSTO","PREÇO MÁXIMO ADMISSÍVEL PARA ESTA LICITAÇÃO",null,"PERCENTUAL"]
[null,null,null,null,null,null,"(SEM B.D.I.)",null,null,"(COM B.D.I.)"]
[null,null,null,null,null,null,"UNITÁRIO","TOTAL",null,"UNITÁRIO","TOTAL",null,null,null,null,"UNITÁRIO","TOTAL"]
[]
[null,8,"REVESTIMENTO E TRATAMENTO DE SUPERFÍCIES","13.00.00.00",0,null,{"$f":"ROUND(M306,2)","v":0},{"$f":"ROUND(F306*G306,2)","v":0},{"$f":"ROUND(N306,4)","v":0},{"$f":"IF(ROUND(O306,2)>P306,\"Reduzir Valor \",ROUND(O306,2))","v":0},{"$f":"IF(J306=\"Reduzir Valor \",\"Reduzir Valor \",ROUND(F306*J306,2))","v":0},"+",0,null,{"$f":"ROUND(M306*(1+N306),2)","v":0},"","",{"$f":"IF(P306=\"\",\"\",O306/P306)","v":""}]
[null,"8.1","Impermeabilização","13.02.00.00",0,null,{"$f":"ROUND(M307,2)","v":0},{"$f":"ROUND(F307*G307,2)","v":0},{"$f":"ROUND(N307,4)","v":0},{"$f":"IF(ROUND(O307,2)>P307,\"Reduzir Valor \",ROUND(O307,2))","v":0},{"$f":"IF(J307=\"Reduzir Valor \",\"Reduzir Valor \",ROUND(F307*J307,2))","v":0},"+",null,null,{"$f":"ROUND(M307*(1+N307),2)","v":0},"","",{"$f":"IF(P307=\"\",\"\",O307/P307)","v":""}]
[null,"8.1.1","Impermeabilização com membrana à base de Epoxi, bicomponente, duas demãos","###","m²",75,{"$f":"ROUND(M308,2)","v":0},{"$f":"ROUND(F308*G308,2)","v":0},{"$f":"ROUND(N308,4)","v":{"$error":"#VALUE!"}},{"$f":"IF(ROUND(O308,2)>P308,\"Reduzir Valor \",ROUND(O308,2))","v":{"$error":"#VALUE!"}},{"$f":"IF(J308=\"Reduzir Valor \",\"Reduzir Valor \",ROUND(F308*J308,2))","v":{"$error":"#VALUE!"}},"+",null,{"$f":"$N$2","v":"BDI não preenchido"},{"$f":"ROUND(M308*(1+N308),2)","v":{"$error":"#VALUE!"}},136.30000000000001,10222.5,{"$f":"IF(P308=\"\",\"\",O308/P308)","v":{"$error":"#VALUE!"}}]
[]
[null,9,"INSTALAÇÕES DE PRODUÇÃO","15.00.00.00",0,null,{"$f":"ROUND(M310,2)","v":0},{"$f":"ROUND(F310*G310,2)","v":0},{"$f":"ROUND(N310,4)","v":0},{"$f":"IF(ROUND(O310,2)>P310,\"Reduzir Valor \",ROUND(O310,2))","v":0},{"$f":"IF(J310=\"Reduzir Valor \",\"Reduzir Valor \",ROUND(F310*J310,2))","v":0},"+",null,null,{"$f":"ROUND(M310*(1+N310),2)","v":0},"","",{"$f":"IF(P310=\"\",\"\",O310/P310)","v":""}]
[null,"9.1","Instalação e Montagem de Materiais de Ferro Fundido - Cap. IV","###","eq",1,0,0,{"$error":"#VALUE!"},{"$error":"#VALUE!"},{"$error":"#VALUE!"},"+",null,{"$f":"$N$2","v":"BDI não preenchido"},{"$error":"#VALUE!"},1016.6,1016.6,{"$error":"#VALUE!"}]
[null,"9.2","Instalação e Montagem de Materiais de Aço Inóx - Cap. IV","###","eq",1,0,0,{"$error":"#VALUE!"},{"$error":"#VALUE!"},{"$error":"#VALUE!"},"+",null,"BDI não preenchido",{"$error":"#VALUE!"},169.43,169.43,{"$error":"#VALUE!"}]
[null,"9.3","Instalação e Montagem de Materiais de PVC - Cap. IV","###","eq",1,0,0,{"$error":"#VALUE!"},{"$error":"#VALUE!"},{"$error":"#VALUE!"},"+",null,"BDI não preenchido",{"$error":"#VALUE!"},169.43,169.43,{"$error":"#VALUE!"}]
[null,"9.4","Instalação e Montagem de Equipamentos - Cap. IV","###","eq",1,0,0,{"$error":"#VALUE!"},{"$error":"#VALUE!"},{"$error":"#VALUE!"},"+",null,"BDI não preenchido",{"$error":"#VALUE!"},3706.46,3706.46,{"$error":"#VALUE!"}]
[null,"9.5","Instalação e Montagem de Grupo Motor-Bomba - Cap. IV","###","eq",1,0,0,{"$error":"#VALUE!"},{"$error":"#VALUE!"},{"$error":"#VALUE!"},"+",null,"BDI não preenchido",{"$error":"#VALUE!"},1560.61,1560.61,{"$error":"#VALUE!"}]
[null,"9.6","Instalação e Montagem Válvulas - Cap. IV","###","eq",1,0,0,{"$error":"#VALUE!"},{"$error":"#VALUE!"},{"$error":"#VALUE!"},"+",null,"BDI não preenchido",{"$error":"#VALUE!"},338.87,338.87,{"$error":"#VALUE!"}]
[null,"9.7","Instalação e Montagem de Materiais de PRFV - Cap. IV","###","eq",1,0,0,{"$error":"#VALUE!"},{"$error":"#VALUE!"},{"$error":"#VALUE!"},"+",null,"BDI não preenchido",{"$error":"#VALUE!"},1016.6,1016.6,{"$error":"#VALUE!"}]
[]
[null,10,"URBANIZAÇÃO","16.00.00.00",0,null,{"$f":"ROUND(M319,2)","v":0},{"$f":"ROUND(F319*G319,2)","v":0},{"$f":"ROUND(N319,4)","v":0},{"$f":"IF(ROUND(O319,2)>P319,\"Reduzir Valor \",ROUND(O319,2))","v":0},{"$f":"IF(J319=\"Reduzir Valor \",\"Reduzir Valor \",ROUND(F319*J319,2))","v":0},"+",null,null,{"$f":"ROUND(M319*(1+N319),2)","v":0},"","",{"$f":"IF(P319=\"\",\"\",O319/P319)","v":""}]
[null,"10.1","Demolições","03.05.00.00",0,null,0,0,0,0,0,"+",null,null,0,"","",""]
[null,"10.1.1","Demolição mecânica de concreto estrutural","03.05.00.20","m3",18,0,0,{"$error":"#VALUE!"},{"$error":"#VALUE!"},{"$error":"#VALUE!"},"+",null,{"$f":"$N$2","v":"BDI não preenchido"},{"$error":"#VALUE!"},194.3,3497.4,{"$error":"#VALUE!"}]
[null,"10.2","Portões, Cercas, Muros e Alambrados","16.01.00.00",0,null,0,0,0,0,0,"+",null,null,0,"","",""]
[null,"10.2.1","Portão padrão Corsan P5","16.01.01.07","pç",1,0,0,{"$error":"#VALUE!"},{"$error":"#VALUE!"},{"$error":"#VALUE!"},"+",null,{"$f":"$N$2","v":"BDI não preenchido"},{"$error":"#VALUE!"},7278.78,7278.78,{"$error":"#VALUE!"}]
[null,"10.2.2","Gradil concr. pré-fabr. padrão CORSAN - inclusive transporte e instalação","16.01.03.01","m",112,0,0,{"$error":"#VALUE!"},{"$error":"#VALUE!"},{"$error":"#VALUE!"},"+",null,{"$f":"$N$2","v":"BDI não preenchido"},{"$error":"#VALUE!"},828.57,92799.84,{"$error":"#VALUE!"}]
[null,"10.2.3","Cerca de tela padrão, com cordão de concreto","16.01.02.03","m",102,0,0,{"$error":"#VALUE!"},{"$error":"#VALUE!"},{"$error":"#VALUE!"},"+",null,{"$f":"$N$2","v":"BDI não preenchido"},{"$error":"#VALUE!"},152.05000000000001,15509.1,{"$error":"#VALUE!"}]
[null,"10.2.4","Abrigo para QGBT e Telemetria padrão Corsan conforme projeto da EBE 3","###","un",1,0,0,{"$error":"#VALUE!"},{"$error":"#VALUE!"},{"$error":"#VALUE!"},"+",null,{"$f":"$N$2","v":"BDI não preenchido"},{"$error":"#VALUE!"},11658,11658,{"$error":"#VALUE!"}]
[null,"10.2.5","Mureta para medição conforme projeto ","###","un",1,0,0,{"$error":"#VALUE!"},{"$error":"#VALUE!"},{"$error":"#VALUE!"},"+",null,{"$f":"$N$2","v":"BDI não preenchido"},{"$error":"#VALUE!"},1202.08,1202.08,{"$error":"#VALUE!"}]
[]
[null,11,"FORNECIMENTO DE MATERIAIS","18.00.00.00",0,null,{"$f":"ROUND(M329,2)","v":0},{"$f":"ROUND(F329*G329,2)","v":0},{"$f":"ROUND(N329,4)","v":0},{"$f":"IF(ROUND(O329,2)>P329,\"Reduzir Valor \",ROUND(O329,2))","v":0},{"$f":"IF(J329=\"Reduzir Valor \",\"Reduzir Valor \",ROUND(F329*J329,2))","v":0},"+",null,null,{"$f":"ROUND(M329*(1+N329),2)","v":0},"","",{"$f":"IF(P329=\"\",\"\",O329/P329)","v":""}]
[null,"11.1","Materiais de Ferro Fundido"]
[null,"11.1.1","Tubo flange e ponta, DN 200, L = 2.150mm","***","pç",1,{"$f":"ROUND(M331,2)","v":0},{"$f":"ROUND(F331*G331,2)","v":0},{"$f":"ROUND(N331,4)","v":{"$error":"#VALUE!"}},{"$f":"IF(ROUND(O331,2)>P331,\"Reduzir Valor \",ROUND(O331,2))","v":{"$error":"#VALUE!"}},{"$f":"IF(J331=\"Reduzir Valor \",\"Reduzir Valor \",ROUND(F331*J331,2))","v":{"$error":"#VALUE!"}},"+",null,{"$f":"$N$3","v":"BDI não preenchido"},{"$f":"ROUND(M331*(1+N331),2)","v":{"$error":"#VALUE!"}},2618.2399999999998,2618.2399999999998,{"$f":"IF(P331=\"\",\"\",O331/P331)","v":{"$error":"#VALUE!"}}]
[null,"11.1.2","Tubo com flanges DN 100, L = 2.900mm","***","pç",2,{"$f":"ROUND(M332,2)","v":0},{"$f":"ROUND(F332*G332,2)","v":0},{"$f":"ROUND(N332,4)","v":{"$error":"#VALUE!"}},{"$f":"IF(ROUND(O332,2)>P332,\"Reduzir Valor \",ROUND(O332,2))","v":{"$error":"#VALUE!"}},{"$f":"IF(J332=\"Reduzir Valor \",\"Reduzir Valor \",ROUND(F332*J332,2))","v":{"$error":"#VALUE!"}},"+",null,{"$f":"$N$3","v":"BDI não preenchido"},{"$f":"ROUND(M332*(1+N332),2)","v":{"$error":"#VALUE!"}},1850.98,3701.96,{"$f":"IF(P332=\"\",\"\",O332/P332)","v":{"$error":"#VALUE!"}}]
[null,"11.1.3","Curva 90° com flanges, DN 100","***","pç",2,{"$f":"ROUND(M333,2)","v":0},{"$f":"ROUND(F333*G333,2)","v":0},{"$f":"ROUND(N333,4)","v":{"$error":"#VALUE!"}},{"$f":"IF(ROUND(O333,2)>P333,\"Reduzir Valor \",ROUND(O333,2))","v":{"$error":"#VALUE!"}},{"$f":"IF(J333=\"Reduzir Valor \",\"Reduzir Valor \",ROUND(F333*J333,2))","v":{"$error":"#VALUE!"}},"+",null,{"$f":"$N$3","v":"BDI não preenchido"},{"$f":"ROUND(M333*(1+N333),2)","v":{"$error":"#VALUE!"}},259.58999999999997,519.17999999999995,{"$f":"IF(P333=\"\",\"\",O333/P333)","v":{"$error":"#VALUE!"}}]
[]
[]
[null,"RAZÃO SOCIAL DO PROPONENTE:",null,null,null,"RESPONSÁVEL PROPONENTE:",null,null,null,"DATA"]
[null,"MUNICÍPIO: SANTO ANTÔNIO DA PATRULHA",null,null,null,"IV - EEB SANTO ANTÔNIO"]
[null,"OBRA: EEB DO RESIDENCIAL SANTO ANTÔNIO"]
[null,"ITEM","DISCRIMINAÇÃO","CÓDIGO","UN","QTDE","CUSTO",null,"B.D.I. APLICADO","PREÇO",null,null,"CUSTO PROPOSTO","B.D.I.           (%)","PREÇO PROPOSTO","PREÇO MÁXIMO ADMISSÍVEL PARA ESTA LICITAÇÃO",null,"PERCENTUAL"]
[null,null,null,null,null,null,"(SEM B.D.I.)",null,null,"(COM B.D.I.)"]
[null,null,null,null,null,null,"UNITÁRIO","TOTAL",null,"UNITÁRIO","TOTAL",null,null,null,null,"UNITÁRIO","TOTAL"]
[]
[null,"11.1.4","Tubo com flanges DN 100, L = 2.220mm","***","pç",2,{"$f":"ROUND(M343,2)","v":0},{"$f":"ROUND(F343*G343,2)","v":0},{"$f":"ROUND(N343,4)","v":{"$error":"#VALUE!"}},{"$f":"IF(ROUND(O343,2)>P343,\"Reduzir Valor \",ROUND(O343,2))","v":{"$error":"#VALUE!"}},{"$f":"IF(J343=\"Reduzir Valor \",\"Reduzir Valor \",ROUND(F343*J343,2))","v":{"$error":"#VALUE!"}},"+",null,{"$f":"$N$3","v":"BDI não preenchido"},{"$f":"ROUND(M343*(1+N343),2)","v":{"$error":"#VALUE!"}},1700.26,3400.52,{"$f":"IF(P343=\"\",\"\",O343/P343)","v":{"$error":"#VALUE!"}}]
[null,"11.1.5","Junta de desmontagem travada axialmente, DN 100","***","pç",2,0,0,{"$error":"#VALUE!"},{"$error":"#VALUE!"},{"$error":"#VALUE!"},"+",null,"BDI não preenchido",{"$error":"#VALUE!"},1700.26,3400.52,{"$error":"#VALUE!"}]
[null,"11.1.6","Toco com flanges DN 100, L=500mm","***","pç",1,0,0,{"$error":"#VALUE!"},{"$error":"#VALUE!"},{"$error":"#VALUE!"},"+",null,"BDI não preenchido",{"$error":"#VALUE!"},418.33,418.33,{"$error":"#VALUE!"}]
[null,"11.1.7","Junção 45° com flanges, DN 100","***","pç",2,0,0,{"$error":"#VALUE!"},{"$error":"#VALUE!"},{"$error":"#VALUE!"},"+",null,"BDI não preenchido",{"$error":"#VALUE!"},466.06,932.12,{"$error":"#VALUE!"}]
[null,"11.1.8","Tubo com flanges, DN 100, L = 550mm","***","pç",1,0,0,{"$error":"#VALUE!"},{"$error":"#VALUE!"},{"$error":"#VALUE!"},"+",null,"BDI não preenchido",{"$error":"#VALUE!"},1247.96,1247.96,{"$error":"#VALUE!"}]
[null,"11.1.9","Curva 45º com flanges, DN 100","***","pç",1,0,0,{"$error":"#VALUE!"},{"$error":"#VALUE!"},{"$error":"#VALUE!"},"+",null,"BDI não preenchido",{"$error":"#VALUE!"},278.82,278.82,{"$error":"#VALUE!"}]
[null,"11.1.10","Tubo com flanges, DN 100, L = 2.650mm","***","pç",1,0,0,{"$error":"#VALUE!"},{"$error":"#VALUE!"},{"$error":"#VALUE!"},"+",null,"BDI não preenchido",{"$error":"#VALUE!"},1850.98,1850.98,{"$error":"#VALUE!"}]
[null,"11.1.11","Extremidade com flange e bolsa, DN 100","***","pç",1,0,0,{"$error":"#VALUE!"},{"$error":"#VALUE!"},{"$error":"#VALUE!"},"+",null,"BDI não preenchido",{"$error":"#VALUE!"},180.47,180.47,{"$error":"#VALUE!"}]
[null,"11.2","Materiais de Aço inox"]
[null,"11.2.1","Redução excêntrica com flanges DN100X50, L=300mm","***","pç",2,{"$f":"ROUND(M352,2)","v":0},{"$f":"ROUND(F352*G352,2)","v":0},{"$f":"ROUND(N352,4)","v":{"$error":"#VALUE!"}},{"$f":"IF(ROUND(O352,2)>P352,\"Reduzir Valor \",ROUND(O352,2))","v":{"$error":"#VALUE!"}},{"$f":"IF(J352=\"Reduzir Valor \",\"Reduzir Valor \",ROUND(F352*J352,2))","v":{"$error":"#VALUE!"}},"+",null,{"$f":"$N$3","v":"BDI não preenchido"},{"$f":"ROUND(M352*(1+N352),2)","v":{"$error":"#VALUE!"}},485.81,971.62,{"$f":"IF(P352=\"\",\"\",O352/P352)","v":{"$error":"#VALUE!"}}]
[null,"11.3","Materiais de PVC"]
[null,"11.3.1","Tubo com pontas, série normal, DN 100, L = 1.850mm","***","br",1,{"$f":"ROUND(M354,2)","v":0},{"$f":"ROUND(F354*G354,2)","v":0},{"$f":"ROUND(N354,4)","v":{"$error":"#VALUE!"}},{"$f":"IF(ROUND(O354,2)>P354,\"Reduzir Valor \",ROUND(O354,2))","v":{"$error":"#VALUE!"}},{"$f":"IF(J354=\"Reduzir Valor \",\"Reduzir Valor \",ROUND(F354*J354,2))","v":{"$error":"#VALUE!"}},"+",null,{"$f":"$N$3","v":"BDI não preenchido"},{"$f":"ROUND(M354*(1+N354),2)","v":{"$error":"#VALUE!"}},9.8800000000000008,9.8800000000000008,{"$f":"IF(P354=\"\",\"\",O354/P354)","v":{"$error":"#VALUE!"}}]
[null,"11.3.2","Válvula de retenção série normal, DN 100","***","pç",1,{"$f":"ROUND(M355,2)","v":0},{"$f":"ROUND(F355*G355,2)","v":0},{"$f":"ROUND(N355,4)","v":{"$error":"#VALUE!"}},{"$f":"IF(ROUND(O355,2)>P355,\"Reduzir Valor \",ROUND(O355,2))","v":{"$error":"#VALUE!"}},{"$f":"IF(J355=\"Reduzir Valor \",\"Reduzir Valor \",ROUND(F355*J355,2))","v":{"$error":"#VALUE!"}},"+",null,{"$f":"$N$3","v":"BDI não preenchido"},{"$f":"ROUND(M355*(1+N355),2)","v":{"$error":"#VALUE!"}},116.38,116.38,{"$f":"IF(P355=\"\",\"\",O355/P355)","v":{"$error":"#VALUE!"}}]
[null,"11.4","Equipamentos"]
[null,"11.4.1","Cesto içável com malha específica (conforme projeto)","***","cj",1,{"$f":"ROUND(M357,2)","v":0},{"$f":"ROUND(F357*G357,2)","v":0},{"$f":"ROUND(N357,4)","v":{"$error":"#VALUE!"}},{"$f":"IF(ROUND(O357,2)>P357,\"Reduzir Valor \",ROUND(O357,2))","v":{"$error":"#VALUE!"}},{"$f":"IF(J357=\"Reduzir Valor \",\"Reduzir Valor \",ROUND(F357*J357,2))","v":{"$error":"#VALUE!"}},"+",null,{"$f":"$N$3","v":"BDI não preenchido"},{"$f":"ROUND(M357*(1+N357),2)","v":{"$error":"#VALUE!"}},6407.5,6407.5,{"$f":"IF(P357=\"\",\"\",O357/P357)","v":{"$error":"#VALUE!"}}]
[null,"11.4.2","Defletor (conforme projeto)","***","cj",1,0,0,{"$error":"#VALUE!"},{"$error":"#VALUE!"},{"$error":"#VALUE!"},"+",null,"BDI não preenchido",{"$error":"#VALUE!"},1284.4100000000001,1284.4100000000001,{"$error":"#VALUE!"}]
[null,"11.4.3","Haste de prolongamento, HQC1, Ø1.1/8'', L= 2.790 mm","***","pç",2,0,0,{"$error":"#VALUE!"},{"$error":"#VALUE!"},{"$error":"#VALUE!"},"+",null,"BDI não preenchido",{"$error":"#VALUE!"},882.97,1765.94,{"$error":"#VALUE!"}]
[null,"11.4.4","Suporte para haste, Ø1.1/8'', (vide projeto)","***","pç",2,0,0,{"$error":"#VALUE!"},{"$error":"#VALUE!"},{"$error":"#VALUE!"},"+",null,"BDI não preenchido",{"$error":"#VALUE!"},256.3,512.6,{"$error":"#VALUE!"}]
[null,"11.4.5","Escada tipo grampo 200x500x200mm = barra 1' - conforme NR 12","***","cj",5,0,0,{"$error":"#VALUE!"},{"$error":"#VALUE!"},{"$error":"#VALUE!"},"+",null,"BDI não preenchido",{"$error":"#VALUE!"},347.17,1735.85,{"$error":"#VALUE!"}]
[null,"11.4.6","Monovia W200x19,3, L=5400mm, com acessórios para fixação","***","cj",1,0,0,{"$error":"#VALUE!"},{"$error":"#VALUE!"},{"$error":"#VALUE!"},"+",null,"BDI não preenchido",{"$error":"#VALUE!"},5504.63,5504.63,{"$error":"#VALUE!"}]
[null,"11.4.7","Monovia W200x19,3, L=5900mm, com acessórios para fixação","***","cj",1,0,0,{"$error":"#VALUE!"},{"$error":"#VALUE!"},{"$error":"#VALUE!"},"+",null,"BDI não preenchido",{"$error":"#VALUE!"},5626.95,5626.95,{"$error":"#VALUE!"}]
[null,"11.4.8","Talha e trole manuais - capacidade: 1ton","***","cj",2,0,0,{"$error":"#VALUE!"},{"$error":"#VALUE!"},{"$error":"#VALUE!"},"+",null,"BDI não preenchido",{"$error":"#VALUE!"},2409.1,4818.2,{"$error":"#VALUE!"}]
[null,"11.5","Grupos Motobombas"]
[null,"11.5.1","Bomba submersível, Q=5,00 l/s, AMT=10,98m, pot. 5CV","***","cj",2,{"$f":"ROUND(M366,2)","v":0},{"$f":"ROUND(F366*G366,2)","v":0},{"$f":"ROUND(N366,4)","v":{"$error":"#VALUE!"}},{"$f":"IF(ROUND(O366,2)>P366,\"Reduzir Valor \",ROUND(O366,2))","v":{"$error":"#VALUE!"}},{"$f":"IF(J366=\"Reduzir Valor \",\"Reduzir Valor \",ROUND(F366*J366,2))","v":{"$error":"#VALUE!"}},"+",null,{"$f":"$N$3","v":"BDI não preenchido"},{"$f":"ROUND(M366*(1+N366),2)","v":{"$error":"#VALUE!"}},11067.5,22135,{"$f":"IF(P366=\"\",\"\",O366/P366)","v":{"$error":"#VALUE!"}}]
[null,"11.6","Válvulas e Registros"]
[null,"11.6.1","Válvula de gaveta com cunha metálica, DN100","***","pç",3,{"$f":"ROUND(M368,2)","v":0},{"$f":"ROUND(F368*G368,2)","v":0},{"$f":"ROUND(N368,4)","v":{"$error":"#VALUE!"}},{"$f":"IF(ROUND(O368,2)>P368,\"Reduzir Valor \",ROUND(O368,2))","v":{"$error":"#VALUE!"}},{"$f":"IF(J368=\"Reduzir Valor \",\"Reduzir Valor \",ROUND(F368*J368,2))","v":{"$error":"#VALUE!"}},"+",null,{"$f":"$N$3","v":"BDI não preenchido"},{"$f":"ROUND(M368*(1+N368),2)","v":{"$error":"#VALUE!"}},611.63,1834.89,{"$f":"IF(P368=\"\",\"\",O368/P368)","v":{"$error":"#VALUE!"}}]
[null,"11.6.2","Válvula de gaveta com cunha metálica, DN200","***","pç",1,{"$f":"ROUND(M369,2)","v":0},{"$f":"ROUND(F369*G369,2)","v":0},{"$f":"ROUND(N369,4)","v":{"$error":"#VALUE!"}},{"$f":"IF(ROUND(O369,2)>P369,\"Reduzir Valor \",ROUND(O369,2))","v":{"$error":"#VALUE!"}},{"$f":"IF(J369=\"Reduzir Valor \",\"Reduzir Valor \",ROUND(F369*J369,2))","v":{"$error":"#VALUE!"}},"+",null,{"$f":"$N$3","v":"BDI não preenchido"},{"$f":"ROUND(M369*(1+N369),2)","v":{"$error":"#VALUE!"}},1913.93,1913.93,{"$f":"IF(P369=\"\",\"\",O369/P369)","v":{"$error":"#VALUE!"}}]
[null,"11.6.3","Válvula de retenção tipo portinhola única, DN100","***","pç",2,{"$f":"ROUND(M370,2)","v":0},{"$f":"ROUND(F370*G370,2)","v":0},{"$f":"ROUND(N370,4)","v":{"$error":"#VALUE!"}},{"$f":"IF(ROUND(O370,2)>P370,\"Reduzir Valor \",ROUND(O370,2))","v":{"$error":"#VALUE!"}},{"$f":"IF(J370=\"Reduzir Valor \",\"Reduzir Valor \",ROUND(F370*J370,2))","v":{"$error":"#VALUE!"}},"+",null,{"$f":"$N$3","v":"BDI não preenchido"},{"$f":"ROUND(M370*(1+N370),2)","v":{"$error":"#VALUE!"}},955.3,1910.6,{"$f":"IF(P370=\"\",\"\",O370/P370)","v":{"$error":"#VALUE!"}}]
[]
[]
[null,"RAZÃO SOCIAL DO PROPONENTE:",null,null,null,"RESPONSÁVEL PROPONENTE:",null,null,null,"DATA"]
[null,"MUNICÍPIO: SANTO ANTÔNIO DA PATRULHA",null,null,null,"IV - EEB SANTO ANTÔNIO"]
[null,"OBRA: EEB DO RESIDENCIAL SANTO ANTÔNIO"]
[null,"ITEM","DISCRIMINAÇÃO","CÓDIGO","UN","QTDE","CUSTO",null,"B.D.I. APLICADO","PREÇO",null,null,"CUSTO PROPOSTO","B.D.I.           (%)","PREÇO PROPOSTO","PREÇO MÁXIMO ADMISSÍVEL PARA ESTA LICITAÇÃO",null,"PERCENTUAL"]
[null,null,null,null,null,null,"(SEM B.D.I.)",null,null,"(COM B.D.I.)"]
[null,null,null,null,null,null,"UNITÁRIO","TOTAL",null,"UNITÁRIO","TOTAL",null,null,null,null,"UNITÁRIO","TOTAL"]
[]
[null,"11.7","Parafusos e arruelas para flanges"]
[null,"11.7.1","Parafuso M16 com rosca com arruela e porca - NBR7675","***","cj",160,{"$f":"ROUND(M381,2)","v":0},{"$f":"ROUND(F381*G381,2)","v":0},{"$f":"ROUND(N381,4)","v":{"$error":"#VALUE!"}},{"$f":"IF(ROUND(O381,2)>P381,\"Reduzir Valor \",ROUND(O381,2))","v":{"$error":"#VALUE!"}},{"$f":"IF(J381=\"Reduzir Valor \",\"Reduzir Valor \",ROUND(F381*J381,2))","v":{"$error":"#VALUE!"}},"+",null,{"$f":"$N$3","v":"BDI não preenchido"},{"$f":"ROUND(M381*(1+N381),2)","v":{"$error":"#VALUE!"}},9.23,1476.8,{"$f":"IF(P381=\"\",\"\",O381/P381)","v":{"$error":"#VALUE!"}}]
[null,"11.7.2","Parafuso M20 com rosca com arruela e porca - NBR7676","***","cj",8,{"$f":"ROUND(M382,2)","v":0},{"$f":"ROUND(F382*G382,2)","v":0},{"$f":"ROUND(N382,4)","v":{"$error":"#VALUE!"}},{"$f":"IF(ROUND(O382,2)>P382,\"Reduzir Valor \",ROUND(O382,2))","v":{"$error":"#VALUE!"}},{"$f":"IF(J382=\"Reduzir Valor \",\"Reduzir Valor \",ROUND(F382*J382,2))","v":{"$error":"#VALUE!"}},"+",null,{"$f":"$N$3","v":"BDI não preenchido"},{"$f":"ROUND(M382*(1+N382),2)","v":{"$error":"#VALUE!"}},23.18,185.44,{"$f":"IF(P382=\"\",\"\",O382/P382)","v":{"$error":"#VALUE!"}}]
[null,"11.7.3","Arruela com alma metálica e dispositivo de apoio DN 50","***","pç",2,{"$f":"ROUND(M383,2)","v":0},{"$f":"ROUND(F383*G383,2)","v":0},{"$f":"ROUND(N383,4)","v":{"$error":"#VALUE!"}},{"$f":"IF(ROUND(O383,2)>P383,\"Reduzir Valor \",ROUND(O383,2))","v":{"$error":"#VALUE!"}},{"$f":"IF(J383=\"Reduzir Valor \",\"Reduzir Valor \",ROUND(F383*J383,2))","v":{"$error":"#VALUE!"}},"+",null,{"$f":"$N$3","v":"BDI não preenchido"},{"$f":"ROUND(M383*(1+N383),2)","v":{"$error":"#VALUE!"}},36.58,73.16,{"$f":"IF(P383=\"\",\"\",O383/P383)","v":{"$error":"#VALUE!"}}]
[null,"11.7.4","Arruela com alma metálica e dispositivo de apoio DN 100","***","pç",19,{"$f":"ROUND(M384,2)","v":0},{"$f":"ROUND(F384*G384,2)","v":0},{"$f":"ROUND(N384,4)","v":{"$error":"#VALUE!"}},{"$f":"IF(ROUND(O384,2)>P384,\"Reduzir Valor \",ROUND(O384,2))","v":{"$error":"#VALUE!"}},{"$f":"IF(J384=\"Reduzir Valor \",\"Reduzir Valor \",ROUND(F384*J384,2))","v":{"$error":"#VALUE!"}},"+",null,{"$f":"$N$3","v":"BDI não preenchido"},{"$f":"ROUND(M384*(1+N384),2)","v":{"$error":"#VALUE!"}},21.49,408.31,{"$f":"IF(P384=\"\",\"\",O384/P384)","v":{"$error":"#VALUE!"}}]
[null,"11.7.5","Arruela com alma metálica e dispositivo de apoio DN 150","***","pç",1,{"$f":"ROUND(M385,2)","v":0},{"$f":"ROUND(F385*G385,2)","v":0},{"$f":"ROUND(N385,4)","v":{"$error":"#VALUE!"}},{"$f":"IF(ROUND(O385,2)>P385,\"Reduzir Valor \",ROUND(O385,2))","v":{"$error":"#VALUE!"}},{"$f":"IF(J385=\"Reduzir Valor \",\"Reduzir Valor \",ROUND(F385*J385,2))","v":{"$error":"#VALUE!"}},"+",null,{"$f":"$N$3","v":"BDI não preenchido"},{"$f":"ROUND(M385*(1+N385),2)","v":{"$error":"#VALUE!"}},29.92,29.92,{"$f":"IF(P385=\"\",\"\",O385/P385)","v":{"$error":"#VALUE!"}}]
[null,"11.8","Materiais em PRFV"]
[null,"11.8.1","Tampa pultrudado, 2100x1860mm","***","cj",1,{"$f":"ROUND(M387,2)","v":0},{"$f":"ROUND(F387*G387,2)","v":0},{"$f":"ROUND(N387,4)","v":{"$error":"#VALUE!"}},{"$f":"IF(ROUND(O387,2)>P387,\"Reduzir Valor \",ROUND(O387,2))","v":{"$error":"#VALUE!"}},{"$f":"IF(J387=\"Reduzir Valor \",\"Reduzir Valor \",ROUND(F387*J387,2))","v":{"$error":"#VALUE!"}},"+",null,{"$f":"$N$3","v":"BDI não preenchido"},{"$f":"ROUND(M387*(1+N387),2)","v":{"$error":"#VALUE!"}},4037.19,4037.19,{"$f":"IF(P387=\"\",\"\",O387/P387)","v":{"$error":"#VALUE!"}}]
[null,"11.8.2","Tampa pultrudado, D = 2120mm","***","cj",1,{"$f":"ROUND(M388,2)","v":0},{"$f":"ROUND(F388*G388,2)","v":0},{"$f":"ROUND(N388,4)","v":{"$error":"#VALUE!"}},{"$f":"IF(ROUND(O388,2)>P388,\"Reduzir Valor \",ROUND(O388,2))","v":{"$error":"#VALUE!"}},{"$f":"IF(J388=\"Reduzir Valor \",\"Reduzir Valor \",ROUND(F388*J388,2))","v":{"$error":"#VALUE!"}},"+",null,{"$f":"$N$3","v":"BDI não preenchido"},{"$f":"ROUND(M388*(1+N388),2)","v":{"$error":"#VALUE!"}},4273.22,4273.22,{"$f":"IF(P388=\"\",\"\",O388/P388)","v":{"$error":"#VALUE!"}}]
[null,"11.8.3","Tampa pultrudado, D = 1600mm","***","cj",1,{"$f":"ROUND(M389,2)","v":0},{"$f":"ROUND(F389*G389,2)","v":0},{"$f":"ROUND(N389,4)","v":{"$error":"#VALUE!"}},{"$f":"IF(ROUND(O389,2)>P389,\"Reduzir Valor \",ROUND(O389,2))","v":{"$error":"#VALUE!"}},{"$f":"IF(J389=\"Reduzir Valor \",\"Reduzir Valor \",ROUND(F389*J389,2))","v":{"$error":"#VALUE!"}},"+",null,{"$f":"$N$3","v":"BDI não preenchido"},{"$f":"ROUND(M389*(1+N389),2)","v":{"$error":"#VALUE!"}},2529.04,2529.04,{"$f":"IF(P389=\"\",\"\",O389/P389)","v":{"$error":"#VALUE!"}}]
[]
[null,12,"Instalações Elétricas","14.01.00.00"]
[null,"12.1","Equipamentos e Materiais para instalações Elétricas","18.35.00.00",0,null,{"$f":"ROUND(M392,2)","v":0},{"$f":"ROUND(F392*G392,2)","v":0},{"$f":"ROUND(N392,4)","v":0},{"$f":"IF(ROUND(O392,2)>P392,\"Reduzir Valor \",ROUND(O392,2))","v":0},{"$f":"IF(J392=\"Reduzir Valor \",\"Reduzir Valor \",ROUND(F392*J392,2))","v":0},"+",null,null,{"$f":"ROUND(M392*(1+N392),2)","v":0},"","",{"$f":"IF(P392=\"\",\"\",O392/P392)","v":""}]
[null,"12.1.1","Armação secundária 1 estribo, tipo as-11, galvanizada","***","un",1,0,0,{"$error":"#VALUE!"},{"$error":"#VALUE!"},{"$error":"#VALUE!"},"+",null,{"$f":"$N$3","v":"BDI não preenchido"},{"$error":"#VALUE!"},19.489999999999998,19.489999999999998,{"$error":"#VALUE!"}]
[null,"12.1.2","Cabo de cobre múltiplo, seção 2 x 1,5mm², isol. PVC 0,6/1 kV","***","m",125,0,0,{"$error":"#VALUE!"},{"$error":"#VALUE!"},{"$error":"#VALUE!"},"+",null,"BDI não preenchido",{"$error":"#VALUE!"},2.4500000000000002,306.25,{"$error":"#VALUE!"}]
[null,"12.1.3","Cabo de cobre múltiplo, seção 3x2,5mm2, Isolamento Anti-chama 1 kV","18.35.01.84","m",30,0,0,{"$error":"#VALUE!"},{"$error":"#VALUE!"},{"$error":"#VALUE!"},"+",null,"BDI não preenchido",{"$error":"#VALUE!"},5.72,171.6,{"$error":"#VALUE!"}]
[null,"12.1.4","Cabo de cobre múltiplo, seção 4 x 4,0 mm², isol. PVC 0,6/1 kV","***","m",50,0,0,{"$error":"#VALUE!"},{"$error":"#VALUE!"},{"$error":"#VALUE!"},"+",null,"BDI não preenchido",{"$error":"#VALUE!"},8.8000000000000007,440,{"$error":"#VALUE!"}]
[null,"12.1.5","Cabo de Cobre Nu, seção 10mm2, Meio duro","18.35.01.02","m",110,0,0,{"$error":"#VALUE!"},{"$error":"#VALUE!"},{"$error":"#VALUE!"},"+",null,"BDI não preenchido",{"$error":"#VALUE!"},5.89,647.9,{"$error":"#VALUE!"}]
[null,"12.1.6","Cabo de cobre singelo, seção 6,0mm2, Isolamento Anti-chama 0,45/0,75 kV TP Foreplast Alcoa ou equiv.","18.35.01.49","m",40,0,0,{"$error":"#VALUE!"},{"$error":"#VALUE!"},{"$error":"#VALUE!"},"+",null,"BDI não preenchido",{"$error":"#VALUE!"},3.53,141.19999999999999,{"$error":"#VALUE!"}]
[null,"12.1.7","Cabo de cobre singelo, seção 6,0mm2, Isolamento Anti-chama 0,6/1 kV TP Sintenax Pirelli ou equiv.","18.35.01.22","m",500,0,0,{"$error":"#VALUE!"},{"$error":"#VALUE!"},{"$error":"#VALUE!"},"+",null,"BDI não preenchido",{"$error":"#VALUE!"},4.1100000000000003,2055,{"$error":"#VALUE!"}]
[null,"12.1.8","Cabo Multiplex Q - 4x10 mm²","***","m",30,0,0,{"$error":"#VALUE!"},{"$error":"#VALUE!"},{"$error":"#VALUE!"},"+",null,"BDI não preenchido",{"$error":"#VALUE!"},4.87,146.1,{"$error":"#VALUE!"}]
[null,"12.1.9","Cachimbo de PVC DN 1\"","***","un",1,0,0,{"$error":"#VALUE!"},{"$error":"#VALUE!"},{"$error":"#VALUE!"},"+",null,"BDI não preenchido",{"$error":"#VALUE!"},9.48,9.48,{"$error":"#VALUE!"}]
[null,"12.1.10","Cachimbo de PVC DN 3/4\"","***","un",1,0,0,{"$error":"#VALUE!"},{"$error":"#VALUE!"},{"$error":"#VALUE!"},"+",null,"BDI não preenchido",{"$error":"#VALUE!"},6.41,6.41,{"$error":"#VALUE!"}]
[null,"12.1.11","Caixa de Medição, Tipo II, 600x600x240mm (AxLxP), padrão CEEE","***","un",1,0,0,{"$error":"#VALUE!"},{"$error":"#VALUE!"},{"$error":"#VALUE!"},"+",null,"BDI não preenchido",{"$error":"#VALUE!"},404.44,404.44,{"$error":"#VALUE!"}]
[null,"12.1.12","Caixa de passagem subterrânea de alvenaria p/ eletrovia, 40x40x60cm (dimensões internas)","08.10.06.04","un",6,0,0,{"$error":"#VALUE!"},{"$error":"#VALUE!"},{"$error":"#VALUE!"},"+",null,{"$f":"$N$2","v":"BDI não preenchido"},{"$error":"#VALUE!"},248.02,1488.12,{"$error":"#VALUE!"}]
[null,"12.1.13","Cinta de aço zincado para poste de concreto seção quadrada","***","un",6,0,0,{"$error":"#VALUE!"},{"$error":"#VALUE!"},{"$error":"#VALUE!"},"+",null,{"$f":"$N$3","v":"BDI não preenchido"},{"$error":"#VALUE!"},24.22,145.32,{"$error":"#VALUE!"}]
[null,"12.1.14","Cinta de aço zincado para poste de seção circular","***","un",6,0,0,{"$error":"#VALUE!"},{"$error":"#VALUE!"},{"$error":"#VALUE!"},"+",null,{"$f":"$N$3","v":"BDI não preenchido"},{"$error":"#VALUE!"},24.22,145.32,{"$error":"#VALUE!"}]
[null,"12.1.15","Curva 90º, PVC, DN 1\", para Eletroduto Roscável, com Luva","18.35.02.12","cj",3,0,0,{"$error":"#VALUE!"},{"$error":"#VALUE!"},{"$error":"#VALUE!"},"+",null,{"$f":"$N$3","v":"BDI não preenchido"},{"$error":"#VALUE!"},4.67,14.01,{"$error":"#VALUE!"}]
[]
[]
[null,"RAZÃO SOCIAL DO PROPONENTE:",null,null,null,"RESPONSÁVEL PROPONENTE:",null,null,null,"DATA"]
[null,"MUNICÍPIO: SANTO ANTÔNIO DA PATRULHA",null,null,null,"IV - EEB SANTO ANTÔNIO"]
[null,"OBRA: EEB DO RESIDENCIAL SANTO ANTÔNIO"]
[null,"ITEM","DISCRIMINAÇÃO","CÓDIGO","UN","QTDE","CUSTO",null,"B.D.I. APLICADO","PREÇO",null,null,"CUSTO PROPOSTO","B.D.I.           (%)","PREÇO PROPOSTO","PREÇO MÁXIMO ADMISSÍVEL PARA ESTA LICITAÇÃO",null,"PERCENTUAL"]
[null,null,null,null,null,null,"(SEM B.D.I.)",null,null,"(COM B.D.I.)"]
[null,null,null,null,null,null,"UNITÁRIO","TOTAL",null,"UNITÁRIO","TOTAL",null,null,null,null,"UNITÁRIO","TOTAL"]
[]
[null,"12.1.16","Curva 90º, PVC, DN 1/2\", para Eletroduto Roscável, com Luva","18.35.02.10","cj",1,{"$f":"ROUND(M417,2)","v":0},{"$f":"ROUND(F417*G417,2)","v":0},{"$f":"ROUND(N417,4)","v":{"$error":"#VALUE!"}},{"$f":"IF(ROUND(O417,2)>P417,\"Reduzir Valor \",ROUND(O417,2))","v":{"$error":"#VALUE!"}},{"$f":"IF(J417=\"Reduzir Valor \",\"Reduzir Valor \",ROUND(F417*J417,2))","v":{"$error":"#VALUE!"}},"+",null,{"$f":"$N$3","v":"BDI não preenchido"},{"$f":"ROUND(M417*(1+N417),2)","v":{"$error":"#VALUE!"}},2.84,2.84,{"$f":"IF(P417=\"\",\"\",O417/P417)","v":{"$error":"#VALUE!"}}]
[null,"12.1.17","Curva 90º, PVC, DN 3/4\", para Eletroduto Roscável, com Luva","18.35.02.11","cj",1,0,0,{"$error":"#VALUE!"},{"$error":"#VALUE!"},{"$error":"#VALUE!"},"+",null,"BDI não preenchido",{"$error":"#VALUE!"},3.16,3.16,{"$error":"#VALUE!"}]
[null,"12.1.18","Disjuntor termomagnético, tipo DIN, trifásico, de 10 A a 50 A","18.35.05.07","pç",1,0,0,{"$error":"#VALUE!"},{"$error":"#VALUE!"},{"$error":"#VALUE!"},"+",null,"BDI não preenchido",{"$error":"#VALUE!"},54.51,54.51,{"$error":"#VALUE!"}]
[null,"12.1.19","Eletroduto de PVC,corrugado, tipo canaflex, DN 50mm","***","m",150,0,0,{"$error":"#VALUE!"},{"$error":"#VALUE!"},{"$error":"#VALUE!"},"+",null,"BDI não preenchido",{"$error":"#VALUE!"},10.09,1513.5,{"$error":"#VALUE!"}]
[null,"12.1.20","Eletroduto, PVC, Roscável, 3 metros, DN 1\" com Luva","18.35.03.03","cj",4,0,0,{"$error":"#VALUE!"},{"$error":"#VALUE!"},{"$error":"#VALUE!"},"+",null,"BDI não preenchido",{"$error":"#VALUE!"},15.06,60.24,{"$error":"#VALUE!"}]
[null,"12.1.21","Eletroduto, PVC, Roscável, 3 metros, DN 1/2\" com Luva","18.35.03.01","cj",1,0,0,{"$error":"#VALUE!"},{"$error":"#VALUE!"},{"$error":"#VALUE!"},"+",null,"BDI não preenchido",{"$error":"#VALUE!"},7.7,7.7,{"$error":"#VALUE!"}]
[null,"12.1.22","Eletroduto, PVC, Roscável, 3 metros, DN 3/4\" com Luva","18.35.03.02","cj",2,0,0,{"$error":"#VALUE!"},{"$error":"#VALUE!"},{"$error":"#VALUE!"},"+",null,"BDI não preenchido",{"$error":"#VALUE!"},9.73,19.46,{"$error":"#VALUE!"}]
[null,"12.1.23","Fornecimento concreto usinado bombeado Fck = 15 Mpa, inclusive bombeamento","08.06.00.80","m3",8,0,0,{"$error":"#VALUE!"},{"$error":"#VALUE!"},{"$error":"#VALUE!"},"+",null,{"$f":"$N$2","v":"BDI não preenchido"},{"$error":"#VALUE!"},371.89,2975.12,{"$error":"#VALUE!"}]
[null,"12.1.24","Haste de aterramento cobreada, DN 19x3.000mm","***","un",6,0,0,{"$error":"#VALUE!"},{"$error":"#VALUE!"},{"$error":"#VALUE!"},"+",null,{"$f":"$N$3","v":"BDI não preenchido"},{"$error":"#VALUE!"},65.55,393.3,{"$error":"#VALUE!"}]
[null,"12.1.25","Conector p/ haste de aterramento duplo aperto","***","un",6,0,0,{"$error":"#VALUE!"},{"$error":"#VALUE!"},{"$error":"#VALUE!"},"+",null,"BDI não preenchido",{"$error":"#VALUE!"},23.14,138.84,{"$error":"#VALUE!"}]
[null,"12.1.26","Luminaria LED 60 W , com fotocélula e braço instalação em poste","***","un",1,0,0,{"$error":"#VALUE!"},{"$error":"#VALUE!"},{"$error":"#VALUE!"},"+",null,"BDI não preenchido",{"$error":"#VALUE!"},291.72000000000003,291.72000000000003,{"$error":"#VALUE!"}]
[null,"12.1.27","Poste de concreto conico 2 kN 9 m","***","un",1,0,0,{"$error":"#VALUE!"},{"$error":"#VALUE!"},{"$error":"#VALUE!"},"+",null,"BDI não preenchido",{"$error":"#VALUE!"},735.84,735.84,{"$error":"#VALUE!"}]
[null,"12.1.28","Poste de concreto, seção quadrada 7,5 m","***","un",1,0,0,{"$error":"#VALUE!"},{"$error":"#VALUE!"},{"$error":"#VALUE!"},"+",null,"BDI não preenchido",{"$error":"#VALUE!"},494.61,494.61,{"$error":"#VALUE!"}]
[null,"12.1.29","QGBT/CCM 2x5CV conforme Diagrama Unifamiliar e Esquema de Comando","***","un",1,0,0,{"$error":"#VALUE!"},{"$error":"#VALUE!"},{"$error":"#VALUE!"},"+",null,"BDI não preenchido",{"$error":"#VALUE!"},10174.290000000001,10174.290000000001,{"$error":"#VALUE!"}]
[null,"12.1.30","Suporte inox para cabos, conforme projeto","***","un",1,0,0,{"$error":"#VALUE!"},{"$error":"#VALUE!"},{"$error":"#VALUE!"},"+",null,"BDI não preenchido",{"$error":"#VALUE!"},243.67,243.67,{"$error":"#VALUE!"}]
[null,"12.1.31","Tubo de concreto, DN 300x600 mm com tampa de concreto","***","un",1,0,0,{"$error":"#VALUE!"},{"$error":"#VALUE!"},{"$error":"#VALUE!"},"+",null,"BDI não preenchido",{"$error":"#VALUE!"},57.82,57.82,{"$error":"#VALUE!"}]
[null,"12.1.32","Eletroduto, PVC, Roscável, 3 metros, DN 1 1/2\" com Luva","18.35.03.05","cj",3,0,0,{"$error":"#VALUE!"},{"$error":"#VALUE!"},{"$error":"#VALUE!"},"+",null,"BDI não preenchido",{"$error":"#VALUE!"},22.94,68.819999999999993,{"$error":"#VALUE!"}]
[null,"12.1.33","Curva 90º, PVC, DN 1 1/2\", para Eletroduto Roscável, com Luva","18.35.02.14","cj",3,0,0,{"$error":"#VALUE!"},{"$error":"#VALUE!"},{"$error":"#VALUE!"},"+",null,"BDI não preenchido",{"$error":"#VALUE!"},7.41,22.23,{"$error":"#VALUE!"}]
[null,"12.1.34","Caixa metálica tipo CP-2","***","un",1,0,0,{"$error":"#VALUE!"},{"$error":"#VALUE!"},{"$error":"#VALUE!"},"+",null,"BDI não preenchido",{"$error":"#VALUE!"},58.08,58.08,{"$error":"#VALUE!"}]
[null,"12.1.35","Cabo de cobre singelo, seção 2,5mm2, Isolamento Anti-chama 0,45/0,75 kV TP Foreplast Alcoa ou equiv.","18.35.01.47","m",20,0,0,{"$error":"#VALUE!"},{"$error":"#VALUE!"},{"$error":"#VALUE!"},"+",null,"BDI não preenchido",{"$error":"#VALUE!"},1.41,28.2,{"$error":"#VALUE!"}]
[null,"12.1.36","Condulete de pvc tipo universal DN 3/4\"","***","un",5,0,0,{"$error":"#VALUE!"},{"$error":"#VALUE!"},{"$error":"#VALUE!"},"+",null,"BDI não preenchido",{"$error":"#VALUE!"},13.28,66.400000000000006,{"$error":"#VALUE!"}]
[null,"12.1.37","Eletroduto, PVC, Roscável, 3 metros, DN 3/4\" com Luva","18.35.03.02","cj",3,0,0,{"$error":"#VALUE!"},{"$error":"#VALUE!"},{"$error":"#VALUE!"},"+",null,"BDI não preenchido",{"$error":"#VALUE!"},9.73,29.19,{"$error":"#VALUE!"}]
[null,"12.1.38","Interruptor simples p/ instalação em condulete 10A- 250 v","***","un",1,0,0,{"$error":"#VALUE!"},{"$error":"#VALUE!"},{"$error":"#VALUE!"},"+",null,"BDI não preenchido",{"$error":"#VALUE!"},6.99,6.99,{"$error":"#VALUE!"}]
[null,"12.1.39","Luminária com lâmpada LED 10W","***","un",1,0,0,{"$error":"#VALUE!"},{"$error":"#VALUE!"},{"$error":"#VALUE!"},"+",null,"BDI não preenchido",{"$error":"#VALUE!"},67.97,67.97,{"$error":"#VALUE!"}]
[null,"12.1.40","Tampa p/ condulete DN 3/4\" furação central para interruptor ","***","un",1,0,0,{"$error":"#VALUE!"},{"$error":"#VALUE!"},{"$error":"#VALUE!"},"+",null,"BDI não preenchido",{"$error":"#VALUE!"},4.29,4.29,{"$error":"#VALUE!"}]
[null,"12.1.41","Tampa p/ condulete DN 3/4\" furação central para tomada","***","un",1,0,0,{"$error":"#VALUE!"},{"$error":"#VALUE!"},{"$error":"#VALUE!"},"+",null,"BDI não preenchido",{"$error":"#VALUE!"},4.29,4.29,{"$error":"#VALUE!"}]
[null,"12.1.42","Abraçadeira Metálica para Eletroduto, Tipo D, 3/4\", com parafuso de fixação","18.35.04.02","un",2,0,0,{"$error":"#VALUE!"},{"$error":"#VALUE!"},{"$error":"#VALUE!"},"+",null,"BDI não preenchido",{"$error":"#VALUE!"},0.79,1.58,{"$error":"#VALUE!"}]
[null,"12.1.43","Tomada ABNT 2P+T 20A- 250v p/ montagem em condulete","***","un",3,0,0,{"$error":"#VALUE!"},{"$error":"#VALUE!"},{"$error":"#VALUE!"},"+",null,"BDI não preenchido",{"$error":"#VALUE!"},15.77,47.31,{"$error":"#VALUE!"}]
[]
[]
[null,"RAZÃO SOCIAL DO PROPONENTE:",null,null,null,"RESPONSÁVEL PROPONENTE:",null,null,null,"DATA"]
[null,"MUNICÍPIO: SANTO ANTÔNIO DA PATRULHA",null,null,null,"IV - EEB SANTO ANTÔNIO"]
[null,"OBRA: EEB DO RESIDENCIAL SANTO ANTÔNIO"]
[null,"ITEM","DISCRIMINAÇÃO","CÓDIGO","UN","QTDE","CUSTO",null,"B.D.I. APLICADO","PREÇO",null,null,"CUSTO PROPOSTO","B.D.I.           (%)","PREÇO PROPOSTO","PREÇO MÁXIMO ADMISSÍVEL PARA ESTA LICITAÇÃO",null,"PERCENTUAL"]
[null,null,null,null,null,null,"(SEM B.D.I.)",null,null,"(COM B.D.I.)"]
[null,null,null,null,null,null,"UNITÁRIO","TOTAL",null,"UNITÁRIO","TOTAL",null,null,null,null,"UNITÁRIO","TOTAL"]
[]
[null,"12.1.44","Cabo de cobre múltiplo, seção 3x1,5mm² blindado, isol. PVC 0,6/1 kV","***","m",25,{"$f":"ROUND(M454,2)","v":0},{"$f":"ROUND(F454*G454,2)","v":0},{"$f":"ROUND(N454,4)","v":{"$error":"#VALUE!"}},{"$f":"IF(ROUND(O454,2)>P454,\"Reduzir Valor \",ROUND(O454,2))","v":{"$error":"#VALUE!"}},{"$f":"IF(J454=\"Reduzir Valor \",\"Reduzir Valor \",ROUND(F454*J454,2))","v":{"$error":"#VALUE!"}},"+",null,{"$f":"$N$3","v":"BDI não preenchido"},{"$f":"ROUND(M454*(1+N454),2)","v":{"$error":"#VALUE!"}},6.24,156,{"$f":"IF(P454=\"\",\"\",O454/P454)","v":{"$error":"#VALUE!"}}]
[null,"12.1.45","Chave bóia","***","un",3,0,0,{"$error":"#VALUE!"},{"$error":"#VALUE!"},{"$error":"#VALUE!"},"+",null,"BDI não preenchido",{"$error":"#VALUE!"},45.96,137.88,{"$error":"#VALUE!"}]
[null,"12.1.46","Conjunto pêndulo para fixação das boias, conforme projeto","***","un",1,0,0,{"$error":"#VALUE!"},{"$error":"#VALUE!"},{"$error":"#VALUE!"},"+",null,"BDI não preenchido",{"$error":"#VALUE!"},96.4,96.4,{"$error":"#VALUE!"}]
[null,"12.1.47","Equipamento de Telemetria Tipo 5","***","un",1,0,0,{"$error":"#VALUE!"},{"$error":"#VALUE!"},{"$error":"#VALUE!"},"+",null,"BDI não preenchido",{"$error":"#VALUE!"},12209.2,12209.2,{"$error":"#VALUE!"}]
[null,"12.1.48","Sensor de nível Ultrassom 4-20mA","***","un",1,0,0,{"$error":"#VALUE!"},{"$error":"#VALUE!"},{"$error":"#VALUE!"},"+",null,"BDI não preenchido",{"$error":"#VALUE!"},3362.19,3362.19,{"$error":"#VALUE!"}]
[null,"12.1.49","Suporte inox para chaves boias, conforme projeto","***","un",1,0,0,{"$error":"#VALUE!"},{"$error":"#VALUE!"},{"$error":"#VALUE!"},"+",null,"BDI não preenchido",{"$error":"#VALUE!"},142.35,142.35,{"$error":"#VALUE!"}]
[null,"12.1.50","Suporte inox para Sensor Ultrassom, conforme projeto","***","un",1,0,0,{"$error":"#VALUE!"},{"$error":"#VALUE!"},{"$error":"#VALUE!"},"+",null,"BDI não preenchido",{"$error":"#VALUE!"},142.35,142.35,{"$error":"#VALUE!"}]
[null,"12.1.51","Armação secundária 1 estribo, tipo as-11, galvanizada","***","un",8,0,0,{"$error":"#VALUE!"},{"$error":"#VALUE!"},{"$error":"#VALUE!"},"+",null,"BDI não preenchido",{"$error":"#VALUE!"},19.010000000000002,152.08000000000001,{"$error":"#VALUE!"}]
[null,"12.1.52","Cabo de Alumínio, Sem Alma de Aço, bitola 2 AWG","18.35.01.17","kg",9,0,0,{"$error":"#VALUE!"},{"$error":"#VALUE!"},{"$error":"#VALUE!"},"+",null,"BDI não preenchido",{"$error":"#VALUE!"},33.979999999999997,305.82,{"$error":"#VALUE!"}]
[null,"12.1.53","Poste de concreto conico 2 kN 9 m","***","un",1,0,0,{"$error":"#VALUE!"},{"$error":"#VALUE!"},{"$error":"#VALUE!"},"+",null,"BDI não preenchido",{"$error":"#VALUE!"},789.75,789.75,{"$error":"#VALUE!"}]
[null,"12.2","Mão de Obra"]
[null,"12.2.1","Instalação Medição, Distribuição de força e Comando da EEB ","###","Eq",1,{"$f":"ROUND(M465,2)","v":0},{"$f":"ROUND(F465*G465,2)","v":0},{"$f":"ROUND(N465,4)","v":{"$error":"#VALUE!"}},{"$f":"IF(ROUND(O465,2)>P465,\"Reduzir Valor \",ROUND(O465,2))","v":{"$error":"#VALUE!"}},{"$f":"IF(J465=\"Reduzir Valor \",\"Reduzir Valor \",ROUND(F465*J465,2))","v":{"$error":"#VALUE!"}},"+",null,{"$f":"$N$2","v":"BDI não preenchido"},{"$f":"ROUND(M465*(1+N465),2)","v":{"$error":"#VALUE!"}},10192.9,10192.9,{"$f":"IF(P465=\"\",\"\",O465/P465)","v":{"$error":"#VALUE!"}}]
[null,"12.2.2","Instalação Abrigo QGBT/CCM  da EEB","###","Eq",1,{"$f":"ROUND(M466,2)","v":0},{"$f":"ROUND(F466*G466,2)","v":0},{"$f":"ROUND(N466,4)","v":{"$error":"#VALUE!"}},{"$f":"IF(ROUND(O466,2)>P466,\"Reduzir Valor \",ROUND(O466,2))","v":{"$error":"#VALUE!"}},{"$f":"IF(J466=\"Reduzir Valor \",\"Reduzir Valor \",ROUND(F466*J466,2))","v":{"$error":"#VALUE!"}},"+",null,{"$f":"$N$2","v":"BDI não preenchido"},{"$f":"ROUND(M466*(1+N466),2)","v":{"$error":"#VALUE!"}},4016.16,4016.16,{"$f":"IF(P466=\"\",\"\",O466/P466)","v":{"$error":"#VALUE!"}}]
[null,"12.2.3","Inslatação Telemetria/Automação  da EEB","###","Eq",1,{"$f":"ROUND(M467,2)","v":0},{"$f":"ROUND(F467*G467,2)","v":0},{"$f":"ROUND(N467,4)","v":{"$error":"#VALUE!"}},{"$f":"IF(ROUND(O467,2)>P467,\"Reduzir Valor \",ROUND(O467,2))","v":{"$error":"#VALUE!"}},{"$f":"IF(J467=\"Reduzir Valor \",\"Reduzir Valor \",ROUND(F467*J467,2))","v":{"$error":"#VALUE!"}},"+",null,{"$f":"$N$2","v":"BDI não preenchido"},{"$f":"ROUND(M467*(1+N467),2)","v":{"$error":"#VALUE!"}},9052,9052,{"$f":"IF(P467=\"\",\"\",O467/P467)","v":{"$error":"#VALUE!"}}]
[null,"12.2.4","Instalação da Rede Aérea","###","Eq",1,{"$f":"ROUND(M468,2)","v":0},{"$f":"ROUND(F468*G468,2)","v":0},{"$f":"ROUND(N468,4)","v":{"$error":"#VALUE!"}},{"$f":"IF(ROUND(O468,2)>P468,\"Reduzir Valor \",ROUND(O468,2))","v":{"$error":"#VALUE!"}},{"$f":"IF(J468=\"Reduzir Valor \",\"Reduzir Valor \",ROUND(F468*J468,2))","v":{"$error":"#VALUE!"}},"+",null,{"$f":"$N$2","v":"BDI não preenchido"},{"$f":"ROUND(M468*(1+N468),2)","v":{"$error":"#VALUE!"}},3327.07,3327.07,{"$f":"IF(P468=\"\",\"\",O468/P468)","v":{"$error":"#VALUE!"}}]
[]
[]
[]
[]
[]
[]
[]
[]
[]
[]
[]
[]
[]
[]
[null,"IV - EEB SANTO ANTÔNIO",null,null,null,"TOTAL SEM B.D.I. ",null,{"$f":"SUM(H232:H260,H268:H297,H306:H334,H342:H371,H379:H407,H417:H445,H454:H481)","v":0},"TOTAL COM B.D.I. ",null,{"$f":"SUM(K232:K260,K268:K297,K306:K334,K342:K371,K379:K407,K417:K445,K454:K481)","v":{"$error":"#VALUE!"}}]
[null,"RAZÃO SOCIAL DO PROPONENTE:",null,null,null,"RESPONSÁVEL PROPONENTE:",null,null,null,"DATA"]
[null,"MUNICÍPIO: SANTO ANTÔNIO DA PATRULHA",null,null,null,"V - EXTRAVASOR EEB SANTO ANTÔNIO"]
[null,"OBRA: EEB DO RESIDENCIAL SANTO ANTÔNIO"]
[null,"ITEM","DISCRIMINAÇÃO","CÓDIGO","UN","QTDE","CUSTO",null,"B.D.I. APLICADO","PREÇO",null,null,"CUSTO PROPOSTO","B.D.I.           (%)","PREÇO PROPOSTO","PREÇO MÁXIMO ADMISSÍVEL PARA ESTA LICITAÇÃO",null,"PERCENTUAL"]
[null,null,null,null,null,null,"(SEM B.D.I.)",null,null,"(COM B.D.I.)"]
[null,null,null,null,null,null,"UNITÁRIO","TOTAL",null,"UNITÁRIO","TOTAL",null,null,null,null,"UNITÁRIO","TOTAL"]
[]
[null,1,"SERVIÇOS TÉCNICOS","02.00.00.00",0,null,{"$f":"ROUND(M491,2)","v":0},{"$f":"ROUND(F491*G491,2)","v":0},{"$f":"ROUND(N491,4)","v":0},{"$f":"IF(ROUND(O491,2)>P491,\"Reduzir Valor \",ROUND(O491,2))","v":0},{"$f":"IF(J491=\"Reduzir Valor \",\"Reduzir Valor \",ROUND(F491*J491,2))","v":0},"+",0,null,{"$f":"ROUND(M491*(1+N491),2)","v":0},"","",{"$f":"IF(P491=\"\",\"\",O491/P491)","v":""}]
[null,"1.1","Controle Tecnológico","02.02.00.00",0,null,0,0,0,0,0,"+",0,null,0,"","",""]
[null,"1.1.1","Teste hidráulico em rede de esgoto com bola de isopor","02.02.01.10","m",176,0,0,{"$error":"#VALUE!"},{"$error":"#VALUE!"},{"$error":"#VALUE!"},"+",null,{"$f":"$N$2","v":"BDI não preenchido"},{"$error":"#VALUE!"},1.54,271.04000000000002,{"$error":"#VALUE!"}]
[null,"1.2","Locação e Cadastro","02.04.00.00",0,null,0,0,0,0,0,"+",null,null,0,"","",""]
[null,"1.2.1","Locação e nivelamento para obras de condutos livres","02.04.01.20","m",176,0,0,{"$error":"#VALUE!"},{"$error":"#VALUE!"},{"$error":"#VALUE!"},"+",null,{"$f":"$N$2","v":"BDI não preenchido"},{"$error":"#VALUE!"},1.74,306.24,{"$error":"#VALUE!"}]
[null,"1.2.2","Cadastro e desenho para obras de condutos livres","02.04.02.20","m",176,0,0,{"$error":"#VALUE!"},{"$error":"#VALUE!"},{"$error":"#VALUE!"},"+",null,{"$f":"$N$2","v":"BDI não preenchido"},{"$error":"#VALUE!"},1.05,184.8,{"$error":"#VALUE!"}]
[]
[null,2,"SERVIÇOS PRELIMINARES","03.00.00.00",0,null,{"$f":"ROUND(M498,2)","v":0},{"$f":"ROUND(F498*G498,2)","v":0},{"$f":"ROUND(N498,4)","v":0},{"$f":"IF(ROUND(O498,2)>P498,\"Reduzir Valor \",ROUND(O498,2))","v":0},{"$f":"IF(J498=\"Reduzir Valor \",\"Reduzir Valor \",ROUND(F498*J498,2))","v":0},"+",null,null,{"$f":"ROUND(M498*(1+N498),2)","v":0},"","",{"$f":"IF(P498=\"\",\"\",O498/P498)","v":""}]
[null,"2.1","Trânsito e Segurança","03.02.00.00",0,null,0,0,0,0,0,"+",null,null,0,"","",""]
[null,"2.1.1","Sinalização com cavaletes, placas e cones","03.02.00.10","m",123,0,0,{"$error":"#VALUE!"},{"$error":"#VALUE!"},{"$error":"#VALUE!"},"+",null,{"$f":"$N$2","v":"BDI não preenchido"},{"$error":"#VALUE!"},1.04,127.92,{"$error":"#VALUE!"}]
[null,"2.1.2","Sinalização luminosa com cavaletes, placas e cones","03.02.00.20","m",53,0,0,{"$error":"#VALUE!"},{"$error":"#VALUE!"},{"$error":"#VALUE!"},"+",null,{"$f":"$N$2","v":"BDI não preenchido"},{"$error":"#VALUE!"},2.33,123.49,{"$error":"#VALUE!"}]
[null,"2.1.3","Tela plástica (PVC/PEAD) laranja, para sinalização e isolamento, incluso estrutura de fixação","03.02.00.35","m",352,0,0,{"$error":"#VALUE!"},{"$error":"#VALUE!"},{"$error":"#VALUE!"},"+",null,{"$f":"$N$2","v":"BDI não preenchido"},{"$error":"#VALUE!"},1.28,450.56,{"$error":"#VALUE!"}]
[null,"2.1.4","Passadiço de aço, espessura 3/4\" - 2,00 x 1,00 m","03.02.00.50","un",1,0,0,{"$error":"#VALUE!"},{"$error":"#VALUE!"},{"$error":"#VALUE!"},"+",null,{"$f":"$N$2","v":"BDI não preenchido"},{"$error":"#VALUE!"},204.71,204.71,{"$error":"#VALUE!"}]
[null,"2.1.5","Instalações sanitárias móveis para obras lineares","03.02.00.60","m",176,0,0,{"$error":"#VALUE!"},{"$error":"#VALUE!"},{"$error":"#VALUE!"},"+",null,{"$f":"$N$2","v":"BDI não preenchido"},{"$error":"#VALUE!"},0.56000000000000005,98.56,{"$error":"#VALUE!"}]
[null,"2.2","Remanejamento de Interferência","03.06.00.00",0,null,0,0,0,0,0,"+",null,null,0,"","",""]
[null,"2.2.1","Execução de tampa de boca de lobo","03.06.00.21","un",1,0,0,{"$error":"#VALUE!"},{"$error":"#VALUE!"},{"$error":"#VALUE!"},"+",null,{"$f":"$N$2","v":"BDI não preenchido"},{"$error":"#VALUE!"},63.9,63.9,{"$error":"#VALUE!"}]
[null,"2.2.2","Remanejamento de rede de água","03.06.00.22","m",1,0,0,{"$error":"#VALUE!"},{"$error":"#VALUE!"},{"$error":"#VALUE!"},"+",null,"BDI não preenchido",{"$error":"#VALUE!"},83.58,83.58,{"$error":"#VALUE!"}]
[null,"2.2.3","Conserto de rede de água","03.06.00.23","m",1,0,0,{"$error":"#VALUE!"},{"$error":"#VALUE!"},{"$error":"#VALUE!"},"+",null,"BDI não preenchido",{"$error":"#VALUE!"},44.33,44.33,{"$error":"#VALUE!"}]
[null,"2.2.4","Conserto de ramal de água","03.06.00.24","m",1,0,0,{"$error":"#VALUE!"},{"$error":"#VALUE!"},{"$error":"#VALUE!"},"+",null,"BDI não preenchido",{"$error":"#VALUE!"},24.11,24.11,{"$error":"#VALUE!"}]
[null,"2.2.5","Execução de caixa de pluvial","03.06.00.25","un",1,0,0,{"$error":"#VALUE!"},{"$error":"#VALUE!"},{"$error":"#VALUE!"},"+",null,"BDI não preenchido",{"$error":"#VALUE!"},2148.77,2148.77,{"$error":"#VALUE!"}]
[null,"2.2.6","Remanejamento de rede pluvial DN 300","03.06.00.26","m",1,0,0,{"$error":"#VALUE!"},{"$error":"#VALUE!"},{"$error":"#VALUE!"},"+",null,"BDI não preenchido",{"$error":"#VALUE!"},252.69,252.69,{"$error":"#VALUE!"}]
[null,"2.2.7","Remanejamento de rede pluvial DN 400","03.06.00.27","m",1,0,0,{"$error":"#VALUE!"},{"$error":"#VALUE!"},{"$error":"#VALUE!"},"+",null,"BDI não preenchido",{"$error":"#VALUE!"},312.68,312.68,{"$error":"#VALUE!"}]
[null,"2.2.8","Remanejamento de rede pluvial DN 500","03.06.00.28","m",1,0,0,{"$error":"#VALUE!"},{"$error":"#VALUE!"},{"$error":"#VALUE!"},"+",null,"BDI não preenchido",{"$error":"#VALUE!"},360.98,360.98,{"$error":"#VALUE!"}]
[null,"2.2.9","Remanejamento de rede pluvial DN 600","03.06.00.29","m",1,0,0,{"$error":"#VALUE!"},{"$error":"#VALUE!"},{"$error":"#VALUE!"},"+",null,"BDI não preenchido",{"$error":"#VALUE!"},396.13,396.13,{"$error":"#VALUE!"}]
[]
[null,3,"MOVIMENTO DE SOLO","04.00.00.00",0,null,{"$f":"ROUND(M516,2)","v":0},{"$f":"ROUND(F516*G516,2)","v":0},{"$f":"ROUND(N516,4)","v":0},{"$f":"IF(ROUND(O516,2)>P516,\"Reduzir Valor \",ROUND(O516,2))","v":0},{"$f":"IF(J516=\"Reduzir Valor \",\"Reduzir Valor \",ROUND(F516*J516,2))","v":0},"+",null,null,{"$f":"ROUND(M516*(1+N516),2)","v":0},"","",{"$f":"IF(P516=\"\",\"\",O516/P516)","v":""}]
[null,"3.1","Escavação de Solo Valas","04.02.00.00",0,null,{"$f":"ROUND(M517,2)","v":0},{"$f":"ROUND(F517*G517,2)","v":0},{"$f":"ROUND(N517,4)","v":0},{"$f":"IF(ROUND(O517,2)>P517,\"Reduzir Valor \",ROUND(O517,2))","v":0},{"$f":"IF(J517=\"Reduzir Valor \",\"Reduzir Valor \",ROUND(F517*J517,2))","v":0},"+",null,null,{"$f":"ROUND(M517*(1+N517),2)","v":0},"","",{"$f":"IF(P517=\"\",\"\",O517/P517)","v":""}]
[null,"3.1.1","Escavação de valas mecânica, solo 0-2 m","04.02.02.42","m3",143,{"$f":"ROUND(M518,2)","v":0},{"$f":"ROUND(F518*G518,2)","v":0},{"$f":"ROUND(N518,4)","v":{"$error":"#VALUE!"}},{"$f":"IF(ROUND(O518,2)>P518,\"Reduzir Valor \",ROUND(O518,2))","v":{"$error":"#VALUE!"}},{"$f":"IF(J518=\"Reduzir Valor \",\"Reduzir Valor \",ROUND(F518*J518,2))","v":{"$error":"#VALUE!"}},"+",null,{"$f":"$N$2","v":"BDI não preenchido"},{"$f":"ROUND(M518*(1+N518),2)","v":{"$error":"#VALUE!"}},10.83,1548.69,{"$f":"IF(P518=\"\",\"\",O518/P518)","v":{"$error":"#VALUE!"}}]
[]
[]
[null,"RAZÃO SOCIAL DO PROPONENTE:",null,null,null,"RESPONSÁVEL PROPONENTE:",null,null,null,"DATA"]
[null,"MUNICÍPIO: SANTO ANTÔNIO DA PATRULHA",null,null,null,"V - EXTRAVASOR EEB SANTO ANTÔNIO"]
[null,"OBRA: EEB DO RESIDENCIAL SANTO ANTÔNIO"]
[null,"ITEM","DISCRIMINAÇÃO","CÓDIGO","UN","QTDE","CUSTO",null,"B.D.I. APLICADO","PREÇO",null,null,"CUSTO PROPOSTO","B.D.I.           (%)","PREÇO PROPOSTO","PREÇO MÁXIMO ADMISSÍVEL PARA ESTA LICITAÇÃO",null,"PERCENTUAL"]
[null,null,null,null,null,null,"(SEM B.D.I.)",null,null,"(COM B.D.I.)"]
[null,null,null,null,null,null,"UNITÁRIO","TOTAL",null,"UNITÁRIO","TOTAL",null,null,null,null,"UNITÁRIO","TOTAL"]
[]
[null,"3.2","Aterro, Reaterro, Lastro, Espalhamento e Nivelamento","04.09.00.00",0,null,{"$f":"ROUND(M528,2)","v":0},{"$f":"ROUND(F528*G528,2)","v":0},{"$f":"ROUND(N528,4)","v":0},{"$f":"IF(ROUND(O528,2)>P528,\"Reduzir Valor \",ROUND(O528,2))","v":0},{"$f":"IF(J528=\"Reduzir Valor \",\"Reduzir Valor \",ROUND(F528*J528,2))","v":0},"+",null,null,{"$f":"ROUND(M528*(1+N528),2)","v":0},"","",{"$f":"IF(P528=\"\",\"\",O528/P528)","v":""}]
[null,"3.2.1","Reenchimento manual apiloado de vala","04.09.02.02","m3",62,0,0,{"$error":"#VALUE!"},{"$error":"#VALUE!"},{"$error":"#VALUE!"},"+",null,{"$f":"$N$2","v":"BDI não preenchido"},{"$error":"#VALUE!"},23.24,1440.88,{"$error":"#VALUE!"}]
[null,"3.2.2","Areia para aterro/reaterro (inclusive carga e descarga)","04.09.02.03","m3",62,0,0,{"$error":"#VALUE!"},{"$error":"#VALUE!"},{"$error":"#VALUE!"},"+",null,{"$f":"$N$2","v":"BDI não preenchido"},{"$error":"#VALUE!"},66.27,4108.74,{"$error":"#VALUE!"}]
[null,"3.2.3","Argila para aterro/reaterro (inclusive carga e descarga)","04.09.02.09","m3",41,0,0,{"$error":"#VALUE!"},{"$error":"#VALUE!"},{"$error":"#VALUE!"},"+",null,{"$f":"$N$2","v":"BDI não preenchido"},{"$error":"#VALUE!"},25.61,1050.01,{"$error":"#VALUE!"}]
[null,"3.2.4","Reenchimento mecânico e compactação mecânica de vala, 0-2 m","04.09.02.22","m3",41,0,0,{"$error":"#VALUE!"},{"$error":"#VALUE!"},{"$error":"#VALUE!"},"+",null,{"$f":"$N$2","v":"BDI não preenchido"},{"$error":"#VALUE!"},16.78,687.98,{"$error":"#VALUE!"}]
[null,"3.2.5","Lastro de areia - material, compactação, carga e descarga","04.09.03.01","m3",13,0,0,{"$error":"#VALUE!"},{"$error":"#VALUE!"},{"$error":"#VALUE!"},"+",null,{"$f":"$N$2","v":"BDI não preenchido"},{"$error":"#VALUE!"},134.08000000000001,1743.04,{"$error":"#VALUE!"}]
[null,"3.3","Carga, Transporte, Descarga","04.10.00.00",0,null,0,0,0,0,0,"+",null,null,0,"","",""]
[null,"3.3.1","Transporte de solo para empréstimo até 30km","04.10.01.38","m3xkm",1392,0,0,{"$error":"#VALUE!"},{"$error":"#VALUE!"},{"$error":"#VALUE!"},"+",null,{"$f":"$N$2","v":"BDI não preenchido"},{"$error":"#VALUE!"},1.75,2436,{"$error":"#VALUE!"}]
[null,"3.3.2","Carga e descarga de solo para bota-fora","04.10.02.01","m3",143,0,0,{"$error":"#VALUE!"},{"$error":"#VALUE!"},{"$error":"#VALUE!"},"+",null,{"$f":"$N$2","v":"BDI não preenchido"},{"$error":"#VALUE!"},5.58,797.94,{"$error":"#VALUE!"}]
[null,"3.3.3","Transporte de solos para bota-fora até 30km","04.10.02.08","m3xkm",1716,0,0,{"$error":"#VALUE!"},{"$error":"#VALUE!"},{"$error":"#VALUE!"},"+",null,{"$f":"$N$2","v":"BDI não preenchido"},{"$error":"#VALUE!"},1.75,3003,{"$error":"#VALUE!"}]
[]
[null,4,"ESGOTAMENTO","06.00.00.00",0,null,{"$f":"ROUND(M539,2)","v":0},{"$f":"ROUND(F539*G539,2)","v":0},{"$f":"ROUND(N539,4)","v":0},{"$f":"IF(ROUND(O539,2)>P539,\"Reduzir Valor \",ROUND(O539,2))","v":0},{"$f":"IF(J539=\"Reduzir Valor \",\"Reduzir Valor \",ROUND(F539*J539,2))","v":0},"+",null,null,{"$f":"ROUND(M539*(1+N539),2)","v":0},"","",{"$f":"IF(P539=\"\",\"\",O539/P539)","v":""}]
[null,"4.1","Esgotamento com Bombas","06.01.00.00",0,null,{"$f":"ROUND(M540,2)","v":0},{"$f":"ROUND(F540*G540,2)","v":0},{"$f":"ROUND(N540,4)","v":0},{"$f":"IF(ROUND(O540,2)>P540,\"Reduzir Valor \",ROUND(O540,2))","v":0},{"$f":"IF(J540=\"Reduzir Valor \",\"Reduzir Valor \",ROUND(F540*J540,2))","v":0},"+",null,null,{"$f":"ROUND(M540*(1+N540),2)","v":0},"","",{"$f":"IF(P540=\"\",\"\",O540/P540)","v":""}]
[null,"4.1.1","Esgotamento com bomba auto-escorvante 3,5 HP, a gasolina","06.01.00.10","h",18,{"$f":"ROUND(M541,2)","v":0},{"$f":"ROUND(F541*G541,2)","v":0},{"$f":"ROUND(N541,4)","v":{"$error":"#VALUE!"}},{"$f":"IF(ROUND(O541,2)>P541,\"Reduzir Valor \",ROUND(O541,2))","v":{"$error":"#VALUE!"}},{"$f":"IF(J541=\"Reduzir Valor \",\"Reduzir Valor \",ROUND(F541*J541,2))","v":{"$error":"#VALUE!"}},"+",null,{"$f":"$N$2","v":"BDI não preenchido"},{"$f":"ROUND(M541*(1+N541),2)","v":{"$error":"#VALUE!"}},9.82,176.76,{"$f":"IF(P541=\"\",\"\",O541/P541)","v":{"$error":"#VALUE!"}}]
[]
[null,5,"FUNDAÇÃO E ESTRUTURA","08.00.00.00",0,null,{"$f":"ROUND(M543,2)","v":0},{"$f":"ROUND(F543*G543,2)","v":0},{"$f":"ROUND(N543,4)","v":0},{"$f":"IF(ROUND(O543,2)>P543,\"Reduzir Valor \",ROUND(O543,2))","v":0},{"$f":"IF(J543=\"Reduzir Valor \",\"Reduzir Valor \",ROUND(F543*J543,2))","v":0},"+",null,null,{"$f":"ROUND(M543*(1+N543),2)","v":0},"","",{"$f":"IF(P543=\"\",\"\",O543/P543)","v":""}]
[null,"5.1","Lastro","08.03.00.00",0,null,0,0,0,0,0,"+",null,null,0,"","",""]
[null,"5.1.1","Lastro de brita n° 2","08.03.00.14","m3",1,0,0,{"$error":"#VALUE!"},{"$error":"#VALUE!"},{"$error":"#VALUE!"},"+",null,{"$f":"$N$2","v":"BDI não preenchido"},{"$error":"#VALUE!"},79.05,79.05,{"$error":"#VALUE!"}]
[null,"5.2","Caixas e Poços","08.10.00.00",0,null,0,0,0,0,0,"+",null,null,0,"","",""]
[null,"5.2.1","Montagem, carga, descarga e transporte de pré-moldados de concreto para PV","08.10.04.20","m",3,0,0,{"$error":"#VALUE!"},{"$error":"#VALUE!"},{"$error":"#VALUE!"},"+",null,{"$f":"$N$2","v":"BDI não preenchido"},{"$error":"#VALUE!"},98.73,296.19,{"$error":"#VALUE!"}]
[null,"5.2.2","Concreto Fck=15 MPa, misturado em betoneira, estruturas correntes","08.06.00.14","m3",1,0,0,{"$error":"#VALUE!"},{"$error":"#VALUE!"},{"$error":"#VALUE!"},"+",null,{"$f":"$N$2","v":"BDI não preenchido"},{"$error":"#VALUE!"},609.58000000000004,609.58000000000004,{"$error":"#VALUE!"}]
[null,"5.3","Junta argamassada de poço de visita/caixa de calçada","08.10.07.00",0,null,0,0,0,0,0,"+",null,null,0,"","",""]
[null,"5.3.1","Junta argamassada entre tubo DN 200 e PV","08.10.07.20","un",6,0,0,{"$error":"#VALUE!"},{"$error":"#VALUE!"},{"$error":"#VALUE!"},"+",null,{"$f":"$N$2","v":"BDI não preenchido"},{"$error":"#VALUE!"},39.21,235.26,{"$error":"#VALUE!"}]
[]
[null,6,"ASSENTAMENTO, CARGA, DESCARGA E TRANSPORTE","09.00.00.00",0,null,{"$f":"ROUND(M552,2)","v":0},{"$f":"ROUND(F552*G552,2)","v":0},{"$f":"ROUND(N552,4)","v":0},{"$f":"IF(ROUND(O552,2)>P552,\"Reduzir Valor \",ROUND(O552,2))","v":0},{"$f":"IF(J552=\"Reduzir Valor \",\"Reduzir Valor \",ROUND(F552*J552,2))","v":0},"+",null,null,{"$f":"ROUND(M552*(1+N552),2)","v":0},null,null,{"$f":"IF(P552=\"\",\"\",O552/P552)","v":""}]
[null,"6.1","Assentamento, Carga, Descarga e Transporte de Tubulação","09.01.00.00",0,null,{"$f":"ROUND(M553,2)","v":0},{"$f":"ROUND(F553*G553,2)","v":0},{"$f":"ROUND(N553,4)","v":0},{"$f":"IF(ROUND(O553,2)>P553,\"Reduzir Valor \",ROUND(O553,2))","v":0},{"$f":"IF(J553=\"Reduzir Valor \",\"Reduzir Valor \",ROUND(F553*J553,2))","v":0},"+",null,null,{"$f":"ROUND(M553*(1+N553),2)","v":0},"","",{"$f":"IF(P553=\"\",\"\",O553/P553)","v":""}]
[null,"6.1.1","Assentamento, carga, descarga e transporte de tubos de PVC DN 200","09.01.05.05","m",176,{"$f":"ROUND(M554,2)","v":0},{"$f":"ROUND(F554*G554,2)","v":0},{"$f":"ROUND(N554,4)","v":{"$error":"#VALUE!"}},{"$f":"IF(ROUND(O554,2)>P554,\"Reduzir Valor \",ROUND(O554,2))","v":{"$error":"#VALUE!"}},{"$f":"IF(J554=\"Reduzir Valor \",\"Reduzir Valor \",ROUND(F554*J554,2))","v":{"$error":"#VALUE!"}},"+",null,{"$f":"$N$2","v":"BDI não preenchido"},{"$f":"ROUND(M554*(1+N554),2)","v":{"$error":"#VALUE!"}},6.3,1108.8,{"$f":"IF(P554=\"\",\"\",O554/P554)","v":{"$error":"#VALUE!"}}]
[]
[]
[]
[null,"RAZÃO SOCIAL DO PROPONENTE:",null,null,null,"RESPONSÁVEL PROPONENTE:",null,null,null,"DATA"]
[null,"MUNICÍPIO: SANTO ANTÔNIO DA PATRULHA",null,null,null,"V - EXTRAVASOR EEB SANTO ANTÔNIO"]
[null,"OBRA: EEB DO RESIDENCIAL SANTO ANTÔNIO"]
[null,"ITEM","DISCRIMINAÇÃO","CÓDIGO","UN","QTDE","CUSTO",null,"B.D.I. APLICADO","PREÇO",null,null,"CUSTO PROPOSTO","B.D.I.           (%)","PREÇO PROPOSTO","PREÇO MÁXIMO ADMISSÍVEL PARA ESTA LICITAÇÃO",null,"PERCENTUAL"]
[null,null,null,null,null,null,"(SEM B.D.I.)",null,null,"(COM B.D.I.)"]
[null,null,null,null,null,null,"UNITÁRIO","TOTAL",null,"UNITÁRIO","TOTAL",null,null,null,null,"UNITÁRIO","TOTAL"]
[]
[null,7,"PAVIMENTAÇÃO","10.00.00.00",0,null,{"$f":"ROUND(M565,2)","v":0},{"$f":"ROUND(F565*G565,2)","v":0},{"$f":"ROUND(N565,4)","v":0},{"$f":"IF(ROUND(O565,2)>P565,\"Reduzir Valor \",ROUND(O565,2))","v":0},{"$f":"IF(J565=\"Reduzir Valor \",\"Reduzir Valor \",ROUND(F565*J565,2))","v":0},"+",0,null,{"$f":"ROUND(M565*(1+N565),2)","v":0},"","",{"$f":"IF(P565=\"\",\"\",O565/P565)","v":""}]
[null,"7.1","Recomposição de Pavimentos, Guias e Sarjetas","10.02.00.00",0,null,{"$f":"ROUND(M566,2)","v":0},{"$f":"ROUND(F566*G566,2)","v":0},{"$f":"ROUND(N566,4)","v":0},{"$f":"IF(ROUND(O566,2)>P566,\"Reduzir Valor \",ROUND(O566,2))","v":0},{"$f":"IF(J566=\"Reduzir Valor \",\"Reduzir Valor \",ROUND(F566*J566,2))","v":0},"+",null,null,{"$f":"ROUND(M566*(1+N566),2)","v":0},"","",{"$f":"IF(P566=\"\",\"\",O566/P566)","v":""}]
[null,"7.1.1","Recomposição de pavimento de saibro e=15cm","10.02.00.01","m2",132,{"$f":"ROUND(M567,2)","v":0},{"$f":"ROUND(F567*G567,2)","v":0},{"$f":"ROUND(N567,4)","v":{"$error":"#VALUE!"}},{"$f":"IF(ROUND(O567,2)>P567,\"Reduzir Valor \",ROUND(O567,2))","v":{"$error":"#VALUE!"}},{"$f":"IF(J567=\"Reduzir Valor \",\"Reduzir Valor \",ROUND(F567*J567,2))","v":{"$error":"#VALUE!"}},"+",null,{"$f":"$N$2","v":"BDI não preenchido"},{"$f":"ROUND(M567*(1+N567),2)","v":{"$error":"#VALUE!"}},12.14,1602.48,{"$f":"IF(P567=\"\",\"\",O567/P567)","v":{"$error":"#VALUE!"}}]
[]
[null,8,"FORNECIMENTO DE MATERIAIS","18.00.00.00",0,null,{"$f":"ROUND(M569,2)","v":0},{"$f":"ROUND(F569*G569,2)","v":0},{"$f":"ROUND(N569,4)","v":0},{"$f":"IF(ROUND(O569,2)>P569,\"Reduzir Valor \",ROUND(O569,2))","v":0},{"$f":"IF(J569=\"Reduzir Valor \",\"Reduzir Valor \",ROUND(F569*J569,2))","v":0},"+",null,null,{"$f":"ROUND(M569*(1+N569),2)","v":0},"","",{"$f":"IF(P569=\"\",\"\",O569/P569)","v":""}]
[null,"8.1","Tubos e Peças de PVC Coletor de Esgoto","18.05.00.00",0,null,0,0,0,0,0,"+",null,null,0,"","",""]
[null,"8.1.1","Tubo de PVC coletor de esgoto, JEI/JERI, DN 200, L=6m","18.05.01.20","br",31,0,0,{"$error":"#VALUE!"},{"$error":"#VALUE!"},{"$error":"#VALUE!"},"+",null,{"$f":"$N$3","v":"BDI não preenchido"},{"$error":"#VALUE!"},296.35000000000002,9186.85,{"$error":"#VALUE!"}]
[null,"8.2","Tubos e Peças Pré-moldadas de Concreto","18.10.00.00",0,null,0,0,0,0,0,"+",null,null,0,"","",""]
[null,"8.2.1","Fundo de PV tipo \"P\", JE, DN 600, h=50 cm - GEM 13913","18.10.03.07","pç",3,0,0,{"$error":"#VALUE!"},{"$error":"#VALUE!"},{"$error":"#VALUE!"},"+",null,{"$f":"$N$3","v":"BDI não preenchido"},{"$error":"#VALUE!"},404.26,1212.78,{"$error":"#VALUE!"}]
[null,"8.2.2","Cone concêntrico com  tampa, PB, JE, anel borracha, DN 300 x 600, h = 50cm - GEM 7795","18.10.05.01","pç",3,0,0,{"$error":"#VALUE!"},{"$error":"#VALUE!"},{"$error":"#VALUE!"},"+",null,{"$f":"$N$3","v":"BDI não preenchido"},{"$error":"#VALUE!"},583.66999999999996,1751.01,{"$error":"#VALUE!"}]
[null,"8.2.3","Anel p/ PV tipo \"P\", PB, JE, anel de borracha, DN 600, h=20 cm - GEM 7740","18.10.03.03","pç",1,0,0,{"$error":"#VALUE!"},{"$error":"#VALUE!"},{"$error":"#VALUE!"},"+",null,{"$f":"$N$3","v":"BDI não preenchido"},{"$error":"#VALUE!"},198.56,198.56,{"$error":"#VALUE!"}]
[null,"8.2.4","Aduela de concreto armado, seção retangular 1.00 X 1.00m (L X A), C=1.00m, E=20cm","***","pç",1,0,0,{"$error":"#VALUE!"},{"$error":"#VALUE!"},{"$error":"#VALUE!"},"+",null,{"$f":"$N$3","v":"BDI não preenchido"},{"$error":"#VALUE!"},1946.3,1946.3,{"$error":"#VALUE!"}]
[null,"8.3","Materiais de aço inox",null,0,null,0,0,0,0,0,"+",null,null,0,"","",""]
[null,"8.3.1","Válvula flap, DN200","***","pç",1,0,0,{"$error":"#VALUE!"},{"$error":"#VALUE!"},{"$error":"#VALUE!"},"+",null,{"$f":"$N$3","v":"BDI não preenchido"},{"$error":"#VALUE!"},928.51,928.51,{"$error":"#VALUE!"}]
[]
[]
[]
[]
[]
[]
[]
[]
[]
[]
[]
[]
[]
[]
[]
[null,"V - EXTRAVASOR EEB SANTO ANTÔNIO",null,null,null,"TOTAL SEM B.D.I. ",null,{"$f":"SUM(H490:H519,H527:H556,H565:H592)","v":0},"TOTAL COM B.D.I. ",null,{"$f":"SUM(K490:K519,K527:K556,K565:K592)","v":{"$error":"#VALUE!"}}]
[null,"RAZÃO SOCIAL DO PROPONENTE:",null,null,null,"RESPONSÁVEL PROPONENTE:",null,null,null,"DATA"]
[null,"MUNICÍPIO: SANTO ANTÔNIO DA PATRULHA",null,null,null,"VI - LINHA DE RECALQUE EEB SANTO ANTÔNIO"]
[null,"OBRA: EEB DO RESIDENCIAL SANTO ANTÔNIO"]
[null,"ITEM","DISCRIMINAÇÃO","CÓDIGO","UN","QTDE","CUSTO",null,"B.D.I. APLICADO","PREÇO",null,null,"CUSTO PROPOSTO","B.D.I.           (%)","PREÇO PROPOSTO","PREÇO MÁXIMO ADMISSÍVEL PARA ESTA LICITAÇÃO",null,"PERCENTUAL"]
[null,null,null,null,null,null,"(SEM B.D.I.)",null,null,"(COM B.D.I.)"]
[null,null,null,null,null,null,"UNITÁRIO","TOTAL",null,"UNITÁRIO","TOTAL",null,null,null,null,"UNITÁRIO","TOTAL"]
[]
[null,1,"SERVIÇOS TÉCNICOS","02.00.00.00",0,null,{"$f":"ROUND(M602,2)","v":0},{"$f":"ROUND(F602*G602,2)","v":0},{"$f":"ROUND(N602,4)","v":0},{"$f":"IF(ROUND(O602,2)>P602,\"Reduzir Valor \",ROUND(O602,2))","v":0},{"$f":"IF(J602=\"Reduzir Valor \",\"Reduzir Valor \",ROUND(F602*J602,2))","v":0},"+",0,null,{"$f":"ROUND(M602*(1+N602),2)","v":0},"","",{"$f":"IF(P602=\"\",\"\",O602/P602)","v":""}]
[null,"1.1","Locação e Cadastro","02.04.00.00",0,null,{"$f":"ROUND(M603,2)","v":0},{"$f":"ROUND(F603*G603,2)","v":0},{"$f":"ROUND(N603,4)","v":0},{"$f":"IF(ROUND(O603,2)>P603,\"Reduzir Valor \",ROUND(O603,2))","v":0},{"$f":"IF(J603=\"Reduzir Valor \",\"Reduzir Valor \",ROUND(F603*J603,2))","v":0},"+",null,null,{"$f":"ROUND(M603*(1+N603),2)","v":0},"","",{"$f":"IF(P603=\"\",\"\",O603/P603)","v":""}]
[null,"1.1.1","Locação para obras de condutos forçados","02.04.01.10","m",1415,{"$f":"ROUND(M604,2)","v":0},{"$f":"ROUND(F604*G604,2)","v":0},{"$f":"ROUND(N604,4)","v":{"$error":"#VALUE!"}},{"$f":"IF(ROUND(O604,2)>P604,\"Reduzir Valor \",ROUND(O604,2))","v":{"$error":"#VALUE!"}},{"$f":"IF(J604=\"Reduzir Valor \",\"Reduzir Valor \",ROUND(F604*J604,2))","v":{"$error":"#VALUE!"}},"+",null,{"$f":"$N$2","v":"BDI não preenchido"},{"$f":"ROUND(M604*(1+N604),2)","v":{"$error":"#VALUE!"}},0.46,650.9,{"$f":"IF(P604=\"\",\"\",O604/P604)","v":{"$error":"#VALUE!"}}]
[null,"1.1.2","Cadastro e desenho para obras de condutos forçados","02.04.02.10","m",1415,{"$f":"ROUND(M605,2)","v":0},{"$f":"ROUND(F605*G605,2)","v":0},{"$f":"ROUND(N605,4)","v":{"$error":"#VALUE!"}},{"$f":"IF(ROUND(O605,2)>P605,\"Reduzir Valor \",ROUND(O605,2))","v":{"$error":"#VALUE!"}},{"$f":"IF(J605=\"Reduzir Valor \",\"Reduzir Valor \",ROUND(F605*J605,2))","v":{"$error":"#VALUE!"}},"+",null,{"$f":"$N$2","v":"BDI não preenchido"},{"$f":"ROUND(M605*(1+N605),2)","v":{"$error":"#VALUE!"}},0.53,749.95,{"$f":"IF(P605=\"\",\"\",O605/P605)","v":{"$error":"#VALUE!"}}]
[]
[null,2,"SERVIÇOS PRELIMINARES","03.00.00.00",0,null,{"$f":"ROUND(M607,2)","v":0},{"$f":"ROUND(F607*G607,2)","v":0},{"$f":"ROUND(N607,4)","v":0},{"$f":"IF(ROUND(O607,2)>P607,\"Reduzir Valor \",ROUND(O607,2))","v":0},{"$f":"IF(J607=\"Reduzir Valor \",\"Reduzir Valor \",ROUND(F607*J607,2))","v":0},"+",null,null,{"$f":"ROUND(M607*(1+N607),2)","v":0},"","",{"$f":"IF(P607=\"\",\"\",O607/P607)","v":""}]
[null,"2.1","Trânsito e Segurança","03.02.00.00",0,null,0,0,0,0,0,"+",null,null,0,"","",""]
[null,"2.1.1","Sinalização com cavaletes, placas e cones","03.02.00.10","m",990,0,0,{"$error":"#VALUE!"},{"$error":"#VALUE!"},{"$error":"#VALUE!"},"+",null,{"$f":"$N$2","v":"BDI não preenchido"},{"$error":"#VALUE!"},1.04,1029.5999999999999,{"$error":"#VALUE!"}]
[null,"2.1.2","Sinalização luminosa com cavaletes, placas e cones","03.02.00.20","m",424,0,0,{"$error":"#VALUE!"},{"$error":"#VALUE!"},{"$error":"#VALUE!"},"+",null,{"$f":"$N$2","v":"BDI não preenchido"},{"$error":"#VALUE!"},2.33,987.92,{"$error":"#VALUE!"}]
[null,"2.1.3","Tela plástica (PVC/PEAD) laranja, para sinalização e isolamento, incluso estrutura de fixação","03.02.00.35","m",2830,0,0,{"$error":"#VALUE!"},{"$error":"#VALUE!"},{"$error":"#VALUE!"},"+",null,{"$f":"$N$2","v":"BDI não preenchido"},{"$error":"#VALUE!"},1.28,3622.4,{"$error":"#VALUE!"}]
[null,"2.1.4","Passadiço de aço, espessura 3/4\" - 2,00 x 1,00 m","03.02.00.50","un",8,0,0,{"$error":"#VALUE!"},{"$error":"#VALUE!"},{"$error":"#VALUE!"},"+",null,{"$f":"$N$2","v":"BDI não preenchido"},{"$error":"#VALUE!"},204.71,1637.68,{"$error":"#VALUE!"}]
[null,"2.1.5","Instalações sanitárias móveis para obras lineares","03.02.00.60","m",1415,0,0,{"$error":"#VALUE!"},{"$error":"#VALUE!"},{"$error":"#VALUE!"},"+",null,{"$f":"$N$2","v":"BDI não preenchido"},{"$error":"#VALUE!"},0.56000000000000005,792.4,{"$error":"#VALUE!"}]
[null,"2.2","Remanejamento de Interferência","03.06.00.00",0,null,0,0,0,0,0,"+",null,null,0,"","",""]
[null,"2.2.1","Execução de tampa de boca de lobo","03.06.00.21","un",2,0,0,{"$error":"#VALUE!"},{"$error":"#VALUE!"},{"$error":"#VALUE!"},"+",null,{"$f":"$N$2","v":"BDI não preenchido"},{"$error":"#VALUE!"},63.9,127.8,{"$error":"#VALUE!"}]
[null,"2.2.2","Remanejamento de rede de água","03.06.00.22","m",8,0,0,{"$error":"#VALUE!"},{"$error":"#VALUE!"},{"$error":"#VALUE!"},"+",null,"BDI não preenchido",{"$error":"#VALUE!"},83.58,668.64,{"$error":"#VALUE!"}]
[null,"2.2.3","Conserto de rede de água","03.06.00.23","m",2,0,0,{"$error":"#VALUE!"},{"$error":"#VALUE!"},{"$error":"#VALUE!"},"+",null,"BDI não preenchido",{"$error":"#VALUE!"},44.33,88.66,{"$error":"#VALUE!"}]
[null,"2.2.4","Conserto de ramal de água","03.06.00.24","m",3,0,0,{"$error":"#VALUE!"},{"$error":"#VALUE!"},{"$error":"#VALUE!"},"+",null,"BDI não preenchido",{"$error":"#VALUE!"},24.11,72.33,{"$error":"#VALUE!"}]
[null,"2.2.5","Execução de caixa de pluvial","03.06.00.25","un",2,0,0,{"$error":"#VALUE!"},{"$error":"#VALUE!"},{"$error":"#VALUE!"},"+",null,"BDI não preenchido",{"$error":"#VALUE!"},2148.77,4297.54,{"$error":"#VALUE!"}]
[null,"2.2.6","Remanejamento de rede pluvial DN 300","03.06.00.26","m",2,0,0,{"$error":"#VALUE!"},{"$error":"#VALUE!"},{"$error":"#VALUE!"},"+",null,"BDI não preenchido",{"$error":"#VALUE!"},252.69,505.38,{"$error":"#VALUE!"}]
[null,"2.2.7","Remanejamento de rede pluvial DN 400","03.06.00.27","m",2,0,0,{"$error":"#VALUE!"},{"$error":"#VALUE!"},{"$error":"#VALUE!"},"+",null,"BDI não preenchido",{"$error":"#VALUE!"},312.68,625.36,{"$error":"#VALUE!"}]
[null,"2.2.8","Remanejamento de rede pluvial DN 500","03.06.00.28","m",2,0,0,{"$error":"#VALUE!"},{"$error":"#VALUE!"},{"$error":"#VALUE!"},"+",null,"BDI não preenchido",{"$error":"#VALUE!"},360.98,721.96,{"$error":"#VALUE!"}]
[null,"2.2.9","Remanejamento de rede pluvial DN 600","03.06.00.29","m",2,0,0,{"$error":"#VALUE!"},{"$error":"#VALUE!"},{"$error":"#VALUE!"},"+",null,"BDI não preenchido",{"$error":"#VALUE!"},396.13,792.26,{"$error":"#VALUE!"}]
[]
[null,3,"MOVIMENTO DE SOLO","04.00.00.00",0,null,{"$f":"ROUND(M625,2)","v":0},{"$f":"ROUND(F625*G625,2)","v":0},{"$f":"ROUND(N625,4)","v":0},{"$f":"IF(ROUND(O625,2)>P625,\"Reduzir Valor \",ROUND(O625,2))","v":0},{"$f":"IF(J625=\"Reduzir Valor \",\"Reduzir Valor \",ROUND(F625*J625,2))","v":0},"+",null,null,{"$f":"ROUND(M625*(1+N625),2)","v":0},"","",{"$f":"IF(P625=\"\",\"\",O625/P625)","v":""}]
[null,"3.1","Escavação de Solo Valas","04.02.00.00",0,null,{"$f":"ROUND(M626,2)","v":0},{"$f":"ROUND(F626*G626,2)","v":0},{"$f":"ROUND(N626,4)","v":0},{"$f":"IF(ROUND(O626,2)>P626,\"Reduzir Valor \",ROUND(O626,2))","v":0},{"$f":"IF(J626=\"Reduzir Valor \",\"Reduzir Valor \",ROUND(F626*J626,2))","v":0},"+",null,null,{"$f":"ROUND(M626*(1+N626),2)","v":0},"","",{"$f":"IF(P626=\"\",\"\",O626/P626)","v":""}]
[null,"3.1.1","Escavação de valas mecânica, solo 0-2 m","04.02.02.42","m3",1545,{"$f":"ROUND(M627,2)","v":0},{"$f":"ROUND(F627*G627,2)","v":0},{"$f":"ROUND(N627,4)","v":{"$error":"#VALUE!"}},{"$f":"IF(ROUND(O627,2)>P627,\"Reduzir Valor \",ROUND(O627,2))","v":{"$error":"#VALUE!"}},{"$f":"IF(J627=\"Reduzir Valor \",\"Reduzir Valor \",ROUND(F627*J627,2))","v":{"$error":"#VALUE!"}},"+",null,{"$f":"$N$2","v":"BDI não preenchido"},{"$f":"ROUND(M627*(1+N627),2)","v":{"$error":"#VALUE!"}},10.83,16732.349999999999,{"$f":"IF(P627=\"\",\"\",O627/P627)","v":{"$error":"#VALUE!"}}]
[null,"3.2","Aterro, Reaterro, Lastro, Espalhamento e Nivelamento","04.09.00.00",0,null,{"$f":"ROUND(M628,2)","v":0},{"$f":"ROUND(F628*G628,2)","v":0},{"$f":"ROUND(N628,4)","v":0},{"$f":"IF(ROUND(O628,2)>P628,\"Reduzir Valor \",ROUND(O628,2))","v":0},{"$f":"IF(J628=\"Reduzir Valor \",\"Reduzir Valor \",ROUND(F628*J628,2))","v":0},"+",null,null,{"$f":"ROUND(M628*(1+N628),2)","v":0},"","",{"$f":"IF(P628=\"\",\"\",O628/P628)","v":""}]
[null,"3.2.1","Reenchimento manual apiloado de vala","04.09.02.02","m3",490,{"$f":"ROUND(M629,2)","v":0},{"$f":"ROUND(F629*G629,2)","v":0},{"$f":"ROUND(N629,4)","v":{"$error":"#VALUE!"}},{"$f":"IF(ROUND(O629,2)>P629,\"Reduzir Valor \",ROUND(O629,2))","v":{"$error":"#VALUE!"}},{"$f":"IF(J629=\"Reduzir Valor \",\"Reduzir Valor \",ROUND(F629*J629,2))","v":{"$error":"#VALUE!"}},"+",null,{"$f":"$N$2","v":"BDI não preenchido"},{"$f":"ROUND(M629*(1+N629),2)","v":{"$error":"#VALUE!"}},23.24,11387.6,{"$f":"IF(P629=\"\",\"\",O629/P629)","v":{"$error":"#VALUE!"}}]
[]
[]
[null,"RAZÃO SOCIAL DO PROPONENTE:",null,null,null,"RESPONSÁVEL PROPONENTE:",null,null,null,"DATA"]
[null,"MUNICÍPIO: SANTO ANTÔNIO DA PATRULHA",null,null,null,"VI - LINHA DE RECALQUE EEB SANTO ANTÔNIO"]
[null,"OBRA: EEB DO RESIDENCIAL SANTO ANTÔNIO"]
[null,"ITEM","DISCRIMINAÇÃO","CÓDIGO","UN","QTDE","CUSTO",null,"B.D.I. APLICADO","PREÇO",null,null,"CUSTO PROPOSTO","B.D.I.           (%)","PREÇO PROPOSTO","PREÇO MÁXIMO ADMISSÍVEL PARA ESTA LICITAÇÃO",null,"PERCENTUAL"]
[null,null,null,null,null,null,"(SEM B.D.I.)",null,null,"(COM B.D.I.)"]
[null,null,null,null,null,null,"UNITÁRIO","TOTAL",null,"UNITÁRIO","TOTAL",null,null,null,null,"UNITÁRIO","TOTAL"]
[]
[null,"3.2.2","Areia para aterro/reaterro (inclusive carga e descarga)","04.09.02.03","m3",448,{"$f":"ROUND(M639,2)","v":0},{"$f":"ROUND(F639*G639,2)","v":0},{"$f":"ROUND(N639,4)","v":{"$error":"#VALUE!"}},{"$f":"IF(ROUND(O639,2)>P639,\"Reduzir Valor \",ROUND(O639,2))","v":{"$error":"#VALUE!"}},{"$f":"IF(J639=\"Reduzir Valor \",\"Reduzir Valor \",ROUND(F639*J639,2))","v":{"$error":"#VALUE!"}},"+",null,{"$f":"$N$2","v":"BDI não preenchido"},{"$f":"ROUND(M639*(1+N639),2)","v":{"$error":"#VALUE!"}},66.27,29688.959999999999,{"$f":"IF(P639=\"\",\"\",O639/P639)","v":{"$error":"#VALUE!"}}]
[null,"3.2.3","Reenchimento mecânico e compactação mecânica de vala, 0-2 m","04.09.02.22","m3",573,0,0,{"$error":"#VALUE!"},{"$error":"#VALUE!"},{"$error":"#VALUE!"},"+",null,{"$f":"$N$2","v":"BDI não preenchido"},{"$error":"#VALUE!"},16.78,9614.94,{"$error":"#VALUE!"}]
[null,"3.2.4","Lastro de areia - material, compactação, carga e descarga","04.09.03.01","m3",160,0,0,{"$error":"#VALUE!"},{"$error":"#VALUE!"},{"$error":"#VALUE!"},"+",null,{"$f":"$N$2","v":"BDI não preenchido"},{"$error":"#VALUE!"},134.08000000000001,21452.799999999999,{"$error":"#VALUE!"}]
[null,"3.2.5","Lastro de brita - material, compactação, carga e descarga ","04.09.03.02","m3",80,0,0,{"$error":"#VALUE!"},{"$error":"#VALUE!"},{"$error":"#VALUE!"},"+",null,{"$f":"$N$2","v":"BDI não preenchido"},{"$error":"#VALUE!"},154.21,12336.8,{"$error":"#VALUE!"}]
[null,"3.3","Carga, Transporte, Descarga","04.10.00.00",0,null,0,0,0,0,0,"+",null,null,0,"","",""]
[null,"3.3.1","Transporte de solo para empréstimo até 30km","04.10.01.38","m3xkm",8760,0,0,{"$error":"#VALUE!"},{"$error":"#VALUE!"},{"$error":"#VALUE!"},"+",null,{"$f":"$N$2","v":"BDI não preenchido"},{"$error":"#VALUE!"},1.75,15330,{"$error":"#VALUE!"}]
[null,"3.3.2","Carga e descarga de solo para bota-fora","04.10.02.01","m3",890,0,0,{"$error":"#VALUE!"},{"$error":"#VALUE!"},{"$error":"#VALUE!"},"+",null,{"$f":"$N$2","v":"BDI não preenchido"},{"$error":"#VALUE!"},5.58,4966.2,{"$error":"#VALUE!"}]
[null,"3.3.3","Transporte de solos para bota-fora até 30km","04.10.02.08","m3xkm",11664,0,0,{"$error":"#VALUE!"},{"$error":"#VALUE!"},{"$error":"#VALUE!"},"+",null,{"$f":"$N$2","v":"BDI não preenchido"},{"$error":"#VALUE!"},1.75,20412,{"$error":"#VALUE!"}]
[null,"3.3.4","Transporte de pavimentos para bota-fora","04.10.02.50","m3xkm",1115,0,0,{"$error":"#VALUE!"},{"$error":"#VALUE!"},{"$error":"#VALUE!"},"+",null,{"$f":"$N$2","v":"BDI não preenchido"},{"$error":"#VALUE!"},2.0299999999999998,2263.4499999999998,{"$error":"#VALUE!"}]
[]
[null,4,"ESCORAMENTO","05.00.00.00",0,null,{"$f":"ROUND(M649,2)","v":0},{"$f":"ROUND(F649*G649,2)","v":0},{"$f":"ROUND(N649,4)","v":0},{"$f":"IF(ROUND(O649,2)>P649,\"Reduzir Valor \",ROUND(O649,2))","v":0},{"$f":"IF(J649=\"Reduzir Valor \",\"Reduzir Valor \",ROUND(F649*J649,2))","v":0},"+",null,null,{"$f":"ROUND(M649*(1+N649),2)","v":0},"","",{"$f":"IF(P649=\"\",\"\",O649/P649)","v":""}]
[null,"4.1","Escoramento Metálico","05.02.00.00",0,null,{"$f":"ROUND(M650,2)","v":0},{"$f":"ROUND(F650*G650,2)","v":0},{"$f":"ROUND(N650,4)","v":0},{"$f":"IF(ROUND(O650,2)>P650,\"Reduzir Valor \",ROUND(O650,2))","v":0},{"$f":"IF(J650=\"Reduzir Valor \",\"Reduzir Valor \",ROUND(F650*J650,2))","v":0},"+",null,null,{"$f":"ROUND(M650*(1+N650),2)","v":0},"","",{"$f":"IF(P650=\"\",\"\",O650/P650)","v":""}]
[null,"4.1.1","Escoramento continuo metálico, blindagem leve, valas até 2 m","05.02.00.40","m2",3678,{"$f":"ROUND(M651,2)","v":0},{"$f":"ROUND(F651*G651,2)","v":0},{"$f":"ROUND(N651,4)","v":{"$error":"#VALUE!"}},{"$f":"IF(ROUND(O651,2)>P651,\"Reduzir Valor \",ROUND(O651,2))","v":{"$error":"#VALUE!"}},{"$f":"IF(J651=\"Reduzir Valor \",\"Reduzir Valor \",ROUND(F651*J651,2))","v":{"$error":"#VALUE!"}},"+",null,{"$f":"$N$2","v":"BDI não preenchido"},{"$f":"ROUND(M651*(1+N651),2)","v":{"$error":"#VALUE!"}},26.47,97356.66,{"$f":"IF(P651=\"\",\"\",O651/P651)","v":{"$error":"#VALUE!"}}]
[]
[null,5,"ESGOTAMENTO","06.00.00.00",0,null,{"$f":"ROUND(M653,2)","v":0},{"$f":"ROUND(F653*G653,2)","v":0},{"$f":"ROUND(N653,4)","v":0},{"$f":"IF(ROUND(O653,2)>P653,\"Reduzir Valor \",ROUND(O653,2))","v":0},{"$f":"IF(J653=\"Reduzir Valor \",\"Reduzir Valor \",ROUND(F653*J653,2))","v":0},"+",null,null,{"$f":"ROUND(M653*(1+N653),2)","v":0},"","",{"$f":"IF(P653=\"\",\"\",O653/P653)","v":""}]
[null,"5.1","Esgotamento com Bombas","06.01.00.00",0,null,{"$f":"ROUND(M654,2)","v":0},{"$f":"ROUND(F654*G654,2)","v":0},{"$f":"ROUND(N654,4)","v":0},{"$f":"IF(ROUND(O654,2)>P654,\"Reduzir Valor \",ROUND(O654,2))","v":0},{"$f":"IF(J654=\"Reduzir Valor \",\"Reduzir Valor \",ROUND(F654*J654,2))","v":0},"+",null,null,{"$f":"ROUND(M654*(1+N654),2)","v":0},"","",{"$f":"IF(P654=\"\",\"\",O654/P654)","v":""}]
[null,"5.1.1","Esgotamento com bomba auto-escorvante 3,5 HP, a gasolina","06.01.00.10","h",200,{"$f":"ROUND(M655,2)","v":0},{"$f":"ROUND(F655*G655,2)","v":0},{"$f":"ROUND(N655,4)","v":{"$error":"#VALUE!"}},{"$f":"IF(ROUND(O655,2)>P655,\"Reduzir Valor \",ROUND(O655,2))","v":{"$error":"#VALUE!"}},{"$f":"IF(J655=\"Reduzir Valor \",\"Reduzir Valor \",ROUND(F655*J655,2))","v":{"$error":"#VALUE!"}},"+",null,{"$f":"$N$2","v":"BDI não preenchido"},{"$f":"ROUND(M655*(1+N655),2)","v":{"$error":"#VALUE!"}},9.82,1964,{"$f":"IF(P655=\"\",\"\",O655/P655)","v":{"$error":"#VALUE!"}}]
[]
[null,6,"FUNDAÇÃO E ESTRUTURA","08.00.00.00",0,null,{"$f":"ROUND(M657,2)","v":0},{"$f":"ROUND(F657*G657,2)","v":0},{"$f":"ROUND(N657,4)","v":0},{"$f":"IF(ROUND(O657,2)>P657,\"Reduzir Valor \",ROUND(O657,2))","v":0},{"$f":"IF(J657=\"Reduzir Valor \",\"Reduzir Valor \",ROUND(F657*J657,2))","v":0},"+",null,null,{"$f":"ROUND(M657*(1+N657),2)","v":0},"","",{"$f":"IF(P657=\"\",\"\",O657/P657)","v":""}]
[null,"6.1","Lastro","08.03.00.00",0,null,0,0,0,0,0,"+",null,null,0,"","",""]
[null,"6.1.1","Lastro de concreto usinado bombeado 250 kg cim/m³","08.03.00.44","m3",1,0,0,{"$error":"#VALUE!"},{"$error":"#VALUE!"},{"$error":"#VALUE!"},"+",null,{"$f":"$N$2","v":"BDI não preenchido"},{"$error":"#VALUE!"},369.9,369.9,{"$error":"#VALUE!"}]
[null,"6.2","Fôrmas e Cimbramentos","08.04.00.00",0,null,0,0,0,0,0,"+",null,null,0,"","",""]
[null,"6.2.1","Fôrmas planas para lajes e paredes, com escoramento","08.04.00.24","m2",59,0,0,{"$error":"#VALUE!"},{"$error":"#VALUE!"},{"$error":"#VALUE!"},"+",null,{"$f":"$N$2","v":"BDI não preenchido"},{"$error":"#VALUE!"},97.17,5733.03,{"$error":"#VALUE!"}]
[null,"6.3","Armaduras","08.05.00.00",0,null,0,0,0,0,0,"+",null,null,0,"","",""]
[null,"6.3.1","Armadura CA-50, 6,30 mm - Fornecimento, corte (com perda de 7%), dobra e colocação","08.05.00.23","kg",128,0,0,{"$error":"#VALUE!"},{"$error":"#VALUE!"},{"$error":"#VALUE!"},"+",null,{"$f":"$N$2","v":"BDI não preenchido"},{"$error":"#VALUE!"},11.41,1460.48,{"$error":"#VALUE!"}]
[null,"6.3.2","Armadura CA-50, 8,00 mm - Fornecimento, corte (com perda de 11%), dobra e colocação","08.05.00.24","kg",468,0,0,{"$error":"#VALUE!"},{"$error":"#VALUE!"},{"$error":"#VALUE!"},"+",null,{"$f":"$N$2","v":"BDI não preenchido"},{"$error":"#VALUE!"},11.04,5166.72,{"$error":"#VALUE!"}]
[null,"6.4","Concreto","08.06.00.00",0,null,0,0,0,0,0,"+",null,null,0,"","",""]
[null,"6.4.1","Concreto Fck=15 MPa, misturado em betoneira, estruturas correntes","08.06.00.14","m3",1,0,0,{"$error":"#VALUE!"},{"$error":"#VALUE!"},{"$error":"#VALUE!"},"+",null,{"$f":"$N$2","v":"BDI não preenchido"},{"$error":"#VALUE!"},609.58000000000004,609.58000000000004,{"$error":"#VALUE!"}]
[]
[]
[null,"RAZÃO SOCIAL DO PROPONENTE:",null,null,null,"RESPONSÁVEL PROPONENTE:",null,null,null,"DATA"]
[null,"MUNICÍPIO: SANTO ANTÔNIO DA PATRULHA",null,null,null,"VI - LINHA DE RECALQUE EEB SANTO ANTÔNIO"]
[null,"OBRA: EEB DO RESIDENCIAL SANTO ANTÔNIO"]
[null,"ITEM","DISCRIMINAÇÃO","CÓDIGO","UN","QTDE","CUSTO",null,"B.D.I. APLICADO","PREÇO",null,null,"CUSTO PROPOSTO","B.D.I.           (%)","PREÇO PROPOSTO","PREÇO MÁXIMO ADMISSÍVEL PARA ESTA LICITAÇÃO",null,"PERCENTUAL"]
[null,null,null,null,null,null,"(SEM B.D.I.)",null,null,"(COM B.D.I.)"]
[null,null,null,null,null,null,"UNITÁRIO","TOTAL",null,"UNITÁRIO","TOTAL",null,null,null,null,"UNITÁRIO","TOTAL"]
[]
[null,"6.4.2","Fornecimento concreto usinado bombeado Fck = 40 Mpa, inclusive bombeamento","08.06.00.94","m3",8,{"$f":"ROUND(M676,2)","v":0},{"$f":"ROUND(F676*G676,2)","v":0},{"$f":"ROUND(N676,4)","v":{"$error":"#VALUE!"}},{"$f":"IF(ROUND(O676,2)>P676,\"Reduzir Valor \",ROUND(O676,2))","v":{"$error":"#VALUE!"}},{"$f":"IF(J676=\"Reduzir Valor \",\"Reduzir Valor \",ROUND(F676*J676,2))","v":{"$error":"#VALUE!"}},"+",null,{"$f":"$N$2","v":"BDI não preenchido"},{"$f":"ROUND(M676*(1+N676),2)","v":{"$error":"#VALUE!"}},497.26,3978.08,{"$f":"IF(P676=\"\",\"\",O676/P676)","v":{"$error":"#VALUE!"}}]
[null,"6.4.3","Lançamento, adensamento e acabamento de concreto usinado bombeado","08.06.00.97","m3",8,{"$f":"ROUND(M677,2)","v":0},{"$f":"ROUND(F677*G677,2)","v":0},{"$f":"ROUND(N677,4)","v":{"$error":"#VALUE!"}},{"$f":"IF(ROUND(O677,2)>P677,\"Reduzir Valor \",ROUND(O677,2))","v":{"$error":"#VALUE!"}},{"$f":"IF(J677=\"Reduzir Valor \",\"Reduzir Valor \",ROUND(F677*J677,2))","v":{"$error":"#VALUE!"}},"+",null,{"$f":"$N$2","v":"BDI não preenchido"},{"$f":"ROUND(M677*(1+N677),2)","v":{"$error":"#VALUE!"}},33.03,264.24,{"$f":"IF(P677=\"\",\"\",O677/P677)","v":{"$error":"#VALUE!"}}]
[null,"6.5","Caixas e Poços","08.10.00.00",0,null,{"$f":"ROUND(M678,2)","v":0},{"$f":"ROUND(F678*G678,2)","v":0},{"$f":"ROUND(N678,4)","v":0},{"$f":"IF(ROUND(O678,2)>P678,\"Reduzir Valor \",ROUND(O678,2))","v":0},{"$f":"IF(J678=\"Reduzir Valor \",\"Reduzir Valor \",ROUND(F678*J678,2))","v":0},"+",null,null,{"$f":"ROUND(M678*(1+N678),2)","v":0},"","",{"$f":"IF(P678=\"\",\"\",O678/P678)","v":""}]
[null,"6.5.1","Montagem, carga, descarga e transporte de tampão de ferro para PV","08.10.04.10","un",3,{"$f":"ROUND(M679,2)","v":0},{"$f":"ROUND(F679*G679,2)","v":0},{"$f":"ROUND(N679,4)","v":{"$error":"#VALUE!"}},{"$f":"IF(ROUND(O679,2)>P679,\"Reduzir Valor \",ROUND(O679,2))","v":{"$error":"#VALUE!"}},{"$f":"IF(J679=\"Reduzir Valor \",\"Reduzir Valor \",ROUND(F679*J679,2))","v":{"$error":"#VALUE!"}},"+",null,{"$f":"$N$2","v":"BDI não preenchido"},{"$f":"ROUND(M679*(1+N679),2)","v":{"$error":"#VALUE!"}},67.27,201.81,{"$f":"IF(P679=\"\",\"\",O679/P679)","v":{"$error":"#VALUE!"}}]
[]
[null,7,"ASSENTAMENTO, CARGA, DESCARGA E TRANSPORTE","09.00.00.00",0,null,{"$f":"ROUND(M681,2)","v":0},{"$f":"ROUND(F681*G681,2)","v":0},{"$f":"ROUND(N681,4)","v":0},{"$f":"IF(ROUND(O681,2)>P681,\"Reduzir Valor \",ROUND(O681,2))","v":0},{"$f":"IF(J681=\"Reduzir Valor \",\"Reduzir Valor \",ROUND(F681*J681,2))","v":0},"+",null,null,{"$f":"ROUND(M681*(1+N681),2)","v":0},"","",{"$f":"IF(P681=\"\",\"\",O681/P681)","v":""}]
[null,"7.1","Assentamento, Carga, Descarga e Transporte de Tubulação","09.01.00.00",0,null,{"$f":"ROUND(M682,2)","v":0},{"$f":"ROUND(F682*G682,2)","v":0},{"$f":"ROUND(N682,4)","v":0},{"$f":"IF(ROUND(O682,2)>P682,\"Reduzir Valor \",ROUND(O682,2))","v":0},{"$f":"IF(J682=\"Reduzir Valor \",\"Reduzir Valor \",ROUND(F682*J682,2))","v":0},"+",null,null,{"$f":"ROUND(M682*(1+N682),2)","v":0},"","",{"$f":"IF(P682=\"\",\"\",O682/P682)","v":""}]
[null,"7.1.1","Assentamento, carga, descarga e transporte de tubos de PVC DN 100","09.01.05.03","m",1328,{"$f":"ROUND(M683,2)","v":0},{"$f":"ROUND(F683*G683,2)","v":0},{"$f":"ROUND(N683,4)","v":{"$error":"#VALUE!"}},{"$f":"IF(ROUND(O683,2)>P683,\"Reduzir Valor \",ROUND(O683,2))","v":{"$error":"#VALUE!"}},{"$f":"IF(J683=\"Reduzir Valor \",\"Reduzir Valor \",ROUND(F683*J683,2))","v":{"$error":"#VALUE!"}},"+",null,{"$f":"$N$2","v":"BDI não preenchido"},{"$f":"ROUND(M683*(1+N683),2)","v":{"$error":"#VALUE!"}},4.67,6201.76,{"$f":"IF(P683=\"\",\"\",O683/P683)","v":{"$error":"#VALUE!"}}]
[null,"7.1.2","Assentamento, carga, descarga e transporte de tubos de PVC DN 150","09.01.05.04","m",105,{"$f":"ROUND(M684,2)","v":0},{"$f":"ROUND(F684*G684,2)","v":0},{"$f":"ROUND(N684,4)","v":{"$error":"#VALUE!"}},{"$f":"IF(ROUND(O684,2)>P684,\"Reduzir Valor \",ROUND(O684,2))","v":{"$error":"#VALUE!"}},{"$f":"IF(J684=\"Reduzir Valor \",\"Reduzir Valor \",ROUND(F684*J684,2))","v":{"$error":"#VALUE!"}},"+",null,{"$f":"$N$2","v":"BDI não preenchido"},{"$f":"ROUND(M684*(1+N684),2)","v":{"$error":"#VALUE!"}},5.42,569.1,{"$f":"IF(P684=\"\",\"\",O684/P684)","v":{"$error":"#VALUE!"}}]
[]
[null,8,"PAVIMENTAÇÃO","10.00.00.00",0,null,{"$f":"ROUND(M686,2)","v":0},{"$f":"ROUND(F686*G686,2)","v":0},{"$f":"ROUND(N686,4)","v":0},{"$f":"IF(ROUND(O686,2)>P686,\"Reduzir Valor \",ROUND(O686,2))","v":0},{"$f":"IF(J686=\"Reduzir Valor \",\"Reduzir Valor \",ROUND(F686*J686,2))","v":0},"+",null,null,{"$f":"ROUND(M686*(1+N686),2)","v":0},"","",{"$f":"IF(P686=\"\",\"\",O686/P686)","v":""}]
[null,"8.1","Remoção de Pavimentos, Guias e Sarjetas","10.01.00.00",0,null,0,0,0,0,0,"+",null,null,0,"","",""]
[null,"8.1.1","Remoção de asfalto cbuq espessura de 6 a 10 cm","10.01.00.54","m2",1549,0,0,{"$error":"#VALUE!"},{"$error":"#VALUE!"},{"$error":"#VALUE!"},"+",null,{"$f":"$N$2","v":"BDI não preenchido"},{"$error":"#VALUE!"},4.28,6629.72,{"$error":"#VALUE!"}]
[null,"8.2","Recomposição de Pavimentos, Guias e Sarjetas","10.02.00.00",0,null,0,0,0,0,0,"+",null,null,0,"","",""]
[null,"8.2.1","Recomposição de pavimento de saibro e=15cm","10.02.00.01","m2",290,0,0,{"$error":"#VALUE!"},{"$error":"#VALUE!"},{"$error":"#VALUE!"},"+",null,{"$f":"$N$2","v":"BDI não preenchido"},{"$error":"#VALUE!"},12.14,3520.6,{"$error":"#VALUE!"}]
[null,"8.2.2","Recomposição de asfalto CBUQ, inclusive imprimação","10.02.00.58","m3",93,0,0,{"$error":"#VALUE!"},{"$error":"#VALUE!"},{"$error":"#VALUE!"},"+",null,{"$f":"$N$2","v":"BDI não preenchido"},{"$error":"#VALUE!"},1215.0999999999999,113004.3,{"$error":"#VALUE!"}]
[null,"8.3","Recomposição de Base para Pavimentos","10.03.00.00",0,null,0,0,0,0,0,"+",null,null,0,"","",""]
[null,"8.3.1","Recomposição de base de brita graduada","10.03.00.10","m3",279,0,0,{"$error":"#VALUE!"},{"$error":"#VALUE!"},{"$error":"#VALUE!"},"+",null,{"$f":"$N$2","v":"BDI não preenchido"},{"$error":"#VALUE!"},89.86,25070.94,{"$error":"#VALUE!"}]
[null,"8.4","Limpeza de Pavimentos","10.05.00.00",0,null,0,0,0,0,0,"+",null,null,0,"","",""]
[null,"8.4.1","Varrição mecanizada de via de tráfego (pista)","10.05.00.01","m2",9584,0,0,{"$error":"#VALUE!"},{"$error":"#VALUE!"},{"$error":"#VALUE!"},"+",null,{"$f":"$N$2","v":"BDI não preenchido"},{"$error":"#VALUE!"},0.31,2971.04,{"$error":"#VALUE!"}]
[]
[null,9,"FORNECIMENTO DE MATERIAIS","18.00.00.00",0,null,{"$f":"ROUND(M697,2)","v":0},{"$f":"ROUND(F697*G697,2)","v":0},{"$f":"ROUND(N697,4)","v":0},{"$f":"IF(ROUND(O697,2)>P697,\"Reduzir Valor \",ROUND(O697,2))","v":0},{"$f":"IF(J697=\"Reduzir Valor \",\"Reduzir Valor \",ROUND(F697*J697,2))","v":0},"+",null,null,{"$f":"ROUND(M697*(1+N697),2)","v":0},"","",{"$f":"IF(P697=\"\",\"\",O697/P697)","v":""}]
[null,"9.1","Tubos e Peças de PVC-O para Esgoto","18.06.00.00",0,null,0,0,0,0,0,"+",null,null,0,"","",""]
[null,"9.1.1","Tubo de PVC-O para esgoto, JEI/JERI, PN 12,5, DN 100, L=6m","18.06.01.10","br",228,0,0,{"$error":"#VALUE!"},{"$error":"#VALUE!"},{"$error":"#VALUE!"},"+",null,{"$f":"$N$3","v":"BDI não preenchido"},{"$error":"#VALUE!"},188.42,42959.76,{"$error":"#VALUE!"}]
[null,"9.2","Tubos e Peças de PVC Coletor de Esgoto","18.05.00.00",0,null,0,0,0,0,0,"+",null,null,0,"","",""]
[null,"9.2.1","Tubo de PVC coletor de esgoto, JEI/JERI, DN 100, L=6m","18.05.01.10","br",3,0,0,{"$error":"#VALUE!"},{"$error":"#VALUE!"},{"$error":"#VALUE!"},"+",null,{"$f":"$N$3","v":"BDI não preenchido"},{"$error":"#VALUE!"},128.07,384.21,{"$error":"#VALUE!"}]
[null,"9.2.2","Tubo de PVC coletor de esgoto, JEI/JERI, DN 150, L=6m","18.05.01.15","br",19,0,0,{"$error":"#VALUE!"},{"$error":"#VALUE!"},{"$error":"#VALUE!"},"+",null,{"$f":"$N$3","v":"BDI não preenchido"},{"$error":"#VALUE!"},176.64,3356.16,{"$error":"#VALUE!"}]
[null,"9.3","Tampões de Ferro Fundido","18.15.00.00",0,null,0,0,0,0,0,"+",0,null,0,"","",""]
[]
[]
[null,"RAZÃO SOCIAL DO PROPONENTE:",null,null,null,"RESPONSÁVEL PROPONENTE:",null,null,null,"DATA"]
[null,"MUNICÍPIO: SANTO ANTÔNIO DA PATRULHA",null,null,null,"VI - LINHA DE RECALQUE EEB SANTO ANTÔNIO"]
[null,"OBRA: EEB DO RESIDENCIAL SANTO ANTÔNIO"]
[null,"ITEM","DISCRIMINAÇÃO","CÓDIGO","UN","QTDE","CUSTO",null,"B.D.I. APLICADO","PREÇO",null,null,"CUSTO PROPOSTO","B.D.I.           (%)","PREÇO PROPOSTO","PREÇO MÁXIMO ADMISSÍVEL PARA ESTA LICITAÇÃO",null,"PERCENTUAL"]
[null,null,null,null,null,null,"(SEM B.D.I.)",null,null,"(COM B.D.I.)"]
[null,null,null,null,null,null,"UNITÁRIO","TOTAL",null,"UNITÁRIO","TOTAL",null,null,null,null,"UNITÁRIO","TOTAL"]
[]
[null,"9.3.1","Tampão de ferro fundido dúctil, articulado, com travamento automático, DN 600","18.15.01.01","pç",3,{"$f":"ROUND(M713,2)","v":0},{"$f":"ROUND(F713*G713,2)","v":0},{"$f":"ROUND(N713,4)","v":{"$error":"#VALUE!"}},{"$f":"IF(ROUND(O713,2)>P713,\"Reduzir Valor \",ROUND(O713,2))","v":{"$error":"#VALUE!"}},{"$f":"IF(J713=\"Reduzir Valor \",\"Reduzir Valor \",ROUND(F713*J713,2))","v":{"$error":"#VALUE!"}},"+",null,{"$f":"$N$3","v":"BDI não preenchido"},{"$f":"ROUND(M713*(1+N713),2)","v":{"$error":"#VALUE!"}},542.12,1626.36,{"$f":"IF(P713=\"\",\"\",O713/P713)","v":{"$error":"#VALUE!"}}]
[null,"9.4","Materiais de ferro fundido"]
[null,"9.4.1","Tubo flange e ponta, DN 100, L = 950mm","***","pç",4,{"$f":"ROUND(M715,2)","v":0},{"$f":"ROUND(F715*G715,2)","v":0},{"$f":"ROUND(N715,4)","v":{"$error":"#VALUE!"}},{"$f":"IF(ROUND(O715,2)>P715,\"Reduzir Valor \",ROUND(O715,2))","v":{"$error":"#VALUE!"}},{"$f":"IF(J715=\"Reduzir Valor \",\"Reduzir Valor \",ROUND(F715*J715,2))","v":{"$error":"#VALUE!"}},"+",null,{"$f":"$N$3","v":"BDI não preenchido"},{"$f":"ROUND(M715*(1+N715),2)","v":{"$error":"#VALUE!"}},926.15,3704.6,{"$f":"IF(P715=\"\",\"\",O715/P715)","v":{"$error":"#VALUE!"}}]
[null,"9.4.2","Curva 45º com flanges, DN 100","***","pç",1,0,0,{"$error":"#VALUE!"},{"$error":"#VALUE!"},{"$error":"#VALUE!"},"+",null,"BDI não preenchido",{"$error":"#VALUE!"},278.82,278.82,{"$error":"#VALUE!"}]
[null,"9.4.3","Tê com flanges, DN 100x50","***","pç",1,0,0,{"$error":"#VALUE!"},{"$error":"#VALUE!"},{"$error":"#VALUE!"},"+",null,"BDI não preenchido",{"$error":"#VALUE!"},362.92,362.92,{"$error":"#VALUE!"}]
[null,"9.4.4","Tê com flanges, DN 100x100","***","pç",1,0,0,{"$error":"#VALUE!"},{"$error":"#VALUE!"},{"$error":"#VALUE!"},"+",null,"BDI não preenchido",{"$error":"#VALUE!"},389.39,389.39,{"$error":"#VALUE!"}]
[null,"9.4.5","Curva 90° com flanges, DN 100","***","pç",1,0,0,{"$error":"#VALUE!"},{"$error":"#VALUE!"},{"$error":"#VALUE!"},"+",null,"BDI não preenchido",{"$error":"#VALUE!"},259.58999999999997,259.58999999999997,{"$error":"#VALUE!"}]
[null,"9.4.6","Curva 22º com bolsas, DN 100","***","pç",2,0,0,{"$error":"#VALUE!"},{"$error":"#VALUE!"},{"$error":"#VALUE!"},"+",null,"BDI não preenchido",{"$error":"#VALUE!"},178.12,356.24,{"$error":"#VALUE!"}]
[null,"9.4.7","Curva 45º com bolsas, DN 100","***","pç",5,0,0,{"$error":"#VALUE!"},{"$error":"#VALUE!"},{"$error":"#VALUE!"},"+",null,"BDI não preenchido",{"$error":"#VALUE!"},177.31,886.55,{"$error":"#VALUE!"}]
[null,"9.5","Válvulas e ventosas"]
[null,"9.5.1","Válvula gaveta com cunha metálica, DN50 - Ferro Fundido","***","pç",1,{"$f":"ROUND(M723,2)","v":0},{"$f":"ROUND(F723*G723,2)","v":0},{"$f":"ROUND(N723,4)","v":{"$error":"#VALUE!"}},{"$f":"IF(ROUND(O723,2)>P723,\"Reduzir Valor \",ROUND(O723,2))","v":{"$error":"#VALUE!"}},{"$f":"IF(J723=\"Reduzir Valor \",\"Reduzir Valor \",ROUND(F723*J723,2))","v":{"$error":"#VALUE!"}},"+",null,{"$f":"$N$3","v":"BDI não preenchido"},{"$f":"ROUND(M723*(1+N723),2)","v":{"$error":"#VALUE!"}},354.74,354.74,{"$f":"IF(P723=\"\",\"\",O723/P723)","v":{"$error":"#VALUE!"}}]
[null,"9.5.2","Válvula gaveta com cunha metálica, DN100 - Ferro Fundido","***","pç",1,{"$f":"ROUND(M724,2)","v":0},{"$f":"ROUND(F724*G724,2)","v":0},{"$f":"ROUND(N724,4)","v":{"$error":"#VALUE!"}},{"$f":"IF(ROUND(O724,2)>P724,\"Reduzir Valor \",ROUND(O724,2))","v":{"$error":"#VALUE!"}},{"$f":"IF(J724=\"Reduzir Valor \",\"Reduzir Valor \",ROUND(F724*J724,2))","v":{"$error":"#VALUE!"}},"+",null,{"$f":"$N$3","v":"BDI não preenchido"},{"$f":"ROUND(M724*(1+N724),2)","v":{"$error":"#VALUE!"}},611.63,611.63,{"$f":"IF(P724=\"\",\"\",O724/P724)","v":{"$error":"#VALUE!"}}]
[null,"9.5.3","Ventosa simples para esgoto, DN50 - Ferro Fundido","***","pç",1,{"$f":"ROUND(M725,2)","v":0},{"$f":"ROUND(F725*G725,2)","v":0},{"$f":"ROUND(N725,4)","v":{"$error":"#VALUE!"}},{"$f":"IF(ROUND(O725,2)>P725,\"Reduzir Valor \",ROUND(O725,2))","v":{"$error":"#VALUE!"}},{"$f":"IF(J725=\"Reduzir Valor \",\"Reduzir Valor \",ROUND(F725*J725,2))","v":{"$error":"#VALUE!"}},"+",null,{"$f":"$N$3","v":"BDI não preenchido"},{"$f":"ROUND(M725*(1+N725),2)","v":{"$error":"#VALUE!"}},1773.71,1773.71,{"$f":"IF(P725=\"\",\"\",O725/P725)","v":{"$error":"#VALUE!"}}]
[]
[]
[]
[]
[]
[]
[]
[]
[]
[]
[]
[]
[]
[]
[]
[]
[null,"VI - LINHA DE RECALQUE EEB SANTO ANTÔNIO",null,null,null,"TOTAL SEM B.D.I. ",null,{"$f":"SUM(H601:H630,H638:H667,H675:H705,H713:H740)","v":0},"TOTAL COM B.D.I. ",null,{"$f":"SUM(K601:K630,K638:K667,K675:K705,K713:K740)","v":{"$error":"#VALUE!"}}]
[null,"RAZÃO SOCIAL DO PROPONENTE:",null,null,null,"RESPONSÁVEL PROPONENTE:",null,null,null,"DATA"]

{"sheet":"3 - CONFERÊNCIA","index":3,"n_rows":12,"n_cols":13,"rows_kept":12,"cut":false,"hidden":false,"merged":[[7,1,7,12],[11,1,11,12],[2,8,4,8],[2,9,2,10],[2,11,4,11],[2,12,4,12],[3,6,3,7],[3,9,3,10],[0,1,0,7],[1,1,1,7],[2,1,4,1],[2,2,4,2],[2,3,4,3],[2,4,4,4],[2,5,4,5],[2,6,2,7]]}
[null,"COMPANHIA RIOGRANDENSE DE SANEAMENTO"]
[null,"VERIFICAÇÃO DE PREÇOS"]
[null,"ITEM","DISCRIMINAÇÃO","CÓDIGO","UN","QTDE","CUSTO",null,"B.D.I. APLICADO","PREÇO MÁXIMO ADMISSÍVEL",null,null,"LINHA ONDE O ITEM SE ENCONTRA"]
[null,null,null,null,null,"QUANT","(SEM B.D.I.)",null,null,"(COM B.D.I.)"]
[null,null,null,null,null,null,"UNITÁRIO","TOTAL",null,"UNITÁRIO","TOTAL"]
[]
[]
[null,"Não há nenhum Item que apresente preço unitário igual a 'zero'."]
[]
[]
[]
[null,"Não há nenhum Item idêntido que apresente preço unitário diferente entre si."]

{"sheet":"4 - POB Resumo","index":4,"n_rows":53,"n_cols":6,"rows_kept":53,"cut":false,"hidden":false,"merged":[[4,5,6,5],[49,0,49,1],[0,0,0,3],[1,0,1,3],[2,0,2,3],[3,0,3,3],[4,0,6,0],[4,1,6,1],[4,2,6,2],[4,3,6,3]]}
["NOME DA EMPRESA PARTICIPANTE DO CERTAME"]
["PLANILHA DE ORÇAMENTO BÁSICO"]
["MUNICÍPIO: SANTO ANTÔNIO DA PATRULHA"]
["OBRA: EEB DO RESIDENCIAL SANTO ANTÔNIO"]
["CAPÍTULO","DISCRIMINAÇÃO","TOTAL            SEM B.D.I.","TOTAL            COM B.D.I.",null,"PREÇO MÁXIMO ADMISSÍVEL PARA ESTA LICITAÇÃO"]
[]
[]
[]
["I"," SERVIÇOS PRELIMINARES",{"$f":"'2 - POB'!H76","v":0},{"$f":"'2 - POB'!K76","v":{"$error":"#VALUE!"}},null,85802.12]
[]
["II"," ADMINISTRAÇÃO LOCAL E GERENCIAMENTO AMBIENTAL",{"$f":"'2 - POB'!H113","v":0},{"$f":"'2 - POB'!K113","v":{"$error":"#VALUE!"}},null,82553.94]
[]
["III"," REDE COLETORA",{"$f":"'2 - POB'!H224","v":0},{"$f":"'2 - POB'!K224","v":{"$error":"#VALUE!"}},null,45594.43]
[]
["IV"," EEB SANTO ANTÔNIO",{"$f":"'2 - POB'!H483","v":0},{"$f":"'2 - POB'!K483","v":{"$error":"#VALUE!"}},null,424190.51]
[]
["V"," EXTRAVASOR EEB SANTO ANTÔNIO",{"$f":"'2 - POB'!H594","v":0},{"$f":"'2 - POB'!K594","v":{"$error":"#VALUE!"}},null,41602.9]
[]
["VI"," LINHA DE RECALQUE EEB SANTO ANTÔNIO",{"$f":"'2 - POB'!H742","v":0},{"$f":"'2 - POB'!K742","v":{"$error":"#VALUE!"}},null,493932.52]
[]
[]
[]
[]
[]
[]
[]
[]
[]
[]
[]
[]
[]
[]
[]
[]
[]
[]
[]
[]
[]
[]
[]
[]
[]
[]
[]
[]
[]
[]
["TOTAL ( R$ )",null,{"$f":"SUM(C8:C49)","v":0},{"$f":"SUM(D8:D49)","v":{"$error":"#VALUE!"}},null,{"$f":"SUM(F8:F49)","v":1173676.42}]
["RAZÃO SOCIAL DO PROPONENTE:",null,"RESPONSÁVEL PROPONENTE:"]
[]
["DATA:"]

{"sheet":"5 - ES","index":5,"n_rows":51,"n_cols":4,"rows_kept":51,"cut":false,"hidden":false,"merged":[[50,1,50,2],[1,1,1,3],[2,1,2,3],[3,1,3,3],[4,1,4,3],[44,1,45,1],[44,3,45,3]]}
[]
[null,"NOME DA EMPRESA PARTICIPANTE DO CERTAME"]
[null,"DEMONSTRATIVO DA COMPOSIÇÃO DOS ENCARGOS SOCIAIS SOBRE MÃO DE OBRA"]
[null,"MUNICÍPIO: SANTO ANTÔNIO DA PATRULHA"]
[null,"OBRA: EEB DO RESIDENCIAL SANTO ANTÔNIO"]
[]
[null,"ITEM","DISCRIMINAÇÃO","TOTAL "]
[]
[]
[null,1,"GRUPO A"]
[null,"A1","INSS"]
[null,"A2","SESI"]
[null,"A3","SENAI"]
[null,"A4","INCRA"]
[null,"A5","SEBRAE"]
[null,"A6","Salário Educação"]
[null,"A7","Seguro Contra Acidentes de Trabalho"]
[null,"A8","FGTS"]
[null,"A9","SECONCI"]
[null,null,"TOTAL",{"$f":"SUM(D11:D19)","v":0}]
[]
[null,null,"GRUPO B"]
[null,"B1","Repouso Semanal Remunerado"]
[null,"B2","Feriados"]
[null,"B3","Auxílio - enfermidade"]
[null,"B4","13º Salário"]
[null,"B5","Licença Paternidade"]
[null,"B6","Faltas Justificadas"]
[null,"B7","Dias de Chuvas"]
[null,"B8","Auxílio Acidente de Trabalho"]
[null,"B9","Férias Gozadas"]
[null,"B10","Salário Maternidade"]
[null,null,"TOTAL",{"$f":"SUM(D23:D32)","v":0}]
[]
[null,null,"GRUPO C"]
[null,"C1","Aviso Prévio Indenizado"]
[null,"C2","Aviso Prévio Trabalhado"]
[null,"C3","Férias Indenizadas"]
[null,"C4","Depósito Rescisão sem Justa Causa"]
[null,"C5","Indenização Adicional"]
[null,null,"TOTAL",{"$f":"SUM(D36:D40)","v":0}]
[]
[null,null,"GRUPO D"]
[null,"D1","Reincidência do Grupo A sobre o Grupo B"]
[null,"D2","Reincidência do Grupo A sobre Aviso Prévio Trabalhado e Reincidência do FGTS"]
[null,null,"sobre Aviso Prévio Indenizado"]
[null,null,"TOTAL",{"$f":"SUM(D42:D46)","v":0}]
[]
[]
[]
[null,"Total ( % )",null,{"$f":"SUM(D47,D41,D33,D20)","v":0}]